Workbook

Sheet Katalogartikel
B1: Preisliste 2026 Gültig bis 31.12.2026 Diese Preisliste ist nicht rechtsverbindlich und hat daher einen informativen Charakter. Es gelten ausschließlich unsere Angebote und Auftragsbestätigungen. Fehler und Irrtümer vorbehalten. | D1: FALSE | H1: Rahmentyp für Optionspreise wählen alle Preise CHF | I1: 1 | K1: 46094 | M1: alle Preise CHF | O1: gültig bis 31.12.2026
A2: PD_CODE | B2: Bezeichnung1 | C2: Bezeichnung2 | D2: Produktfamilie | E2: Kategorie | F2: Unter-Kategorie | G2: Produktnummer | H2: Preisliste 2026 gültig ab 01.04.2026 | I2: + Options- preis | J2: auf Lager | K2: Produktgruppe | L2: Rabatt (gem. Einstellung) | M2: Nettopreis eingestellter Rabatt | N2: Katalog (online) ab Seite | O2: DIRECT-Link | P2: angepasst | Q2: Weblink | S2: Check | T2: Zolltarifnummer | U2: Langtext
A3: 9031 | B3: thanos EVO weiss Temp RS485 BACnet (MS/TP) | C3: Raumbediengerät Temperatur | D3: thanos EVO | E3: Raumanwendung | F3: Raumbediengeräte | G3: 766630 | H3: 684.3 | I3: =IF(R3="UP",VLOOKUP($I$1,Änderungen!$F$1:$G$4,2,FALSE),IF(OR(ISERROR(FIND("NOVOS",B3)),ISERROR(FIND("Design ",B3))),IF(OR(ISERROR(FIND("thanos EVO",B3)),ISERROR(FIND("Design ",B3))),0,96.55),19.35)) -> 0 | K3: R1 | L3: =IF(K3<>"",IFERROR(VLOOKUP(K3,Rabattwerte_eintragen!$A$3:$C$24,3,FALSE),0),0) -> 0 | M3: =IF(H3<>"",H3*(1-L3)+I3*(1-VLOOKUP("A1",Rabattwerte_eintragen!$A$3:$C$26,3,FALSE)),"") -> 684.3 | O3: =IF(Q3<>"",HYPERLINK(Q3, "Artikel online anzeigen"),"") -> Artikel online anzeigen | Q3: https://www.thermokon.de/direct/de-ch/products/thanos-evo-weiss-temp-rs485-bacnet-ms-tp | T3: 85365019 | U3: Einsatzzweck: Raumklimasteuerung, Beleuchtungssteuerung, Szenensteuerung, Beschattungssteuerung, Messwerterfassung Bedienfunktionen: Sollwertverstellung Temperatur, Lüfterstufenverstellung, Präsenzmeldung, Licht ein/aus/dimmen, Jalousie auf/ab/verstellen, Szenen aufrufen, ECO-Funktion, Messwertanzeige und -historie Bedienelemente: kapazitiver Touchscreen Netzwerktechnologie: RS485 BACnet (MS/TP) Temperatureinsatzbereich: 0..+50 °C, Genauigkeit Temperatur: ±0,5 K (typ. bei 21 °C) im Standardmessbereich Eingang: 1x Eingang für potentialfreien Kontakt Spannungsversorgung: 24 V = (±10%) SELV, 24 V ~ (±10%) SELV Anzeige: TFT 4,8", 1120x480 px, kapazitive Touch-Technologie Gehäuse: mit thermischer Entkopplung und Sensorkanal, PC V0, Farbe: reinweiss, Schutzart: IP30 Montage: Aufputz auf Standard UP-Dose (Ø=60 mm), flach auf Untergrund, kleben oder schrauben, Gehäuseunterteil kann separat vom Gehäuseoberteil vormontiert und verdrahtet werden
A4: 9032 | B4: thanos EVO weiss Temp_rH RS485 BACnet (MS/TP) | C4: Raumbediengerät Temperatur, relative Feuchte, absolute Feuchte, Enthalpie, Taupunkt | D4: thanos EVO | E4: Raumanwendung | F4: Raumbediengeräte | G4: 780339 | H4: 748.15 | I4: =IF(R4="UP",VLOOKUP($I$1,Änderungen!$F$1:$G$4,2,FALSE),IF(OR(ISERROR(FIND("NOVOS",B4)),ISERROR(FIND("Design ",B4))),IF(OR(ISERROR(FIND("thanos EVO",B4)),ISERROR(FIND("Design ",B4))),0,96.55),19.35)) -> 0 | K4: R1 | L4: =IF(K4<>"",IFERROR(VLOOKUP(K4,Rabattwerte_eintragen!$A$3:$C$24,3,FALSE),0),0) -> 0 | M4: =IF(H4<>"",H4*(1-L4)+I4*(1-VLOOKUP("A1",Rabattwerte_eintragen!$A$3:$C$26,3,FALSE)),"") -> 748.15 | O4: =IF(Q4<>"",HYPERLINK(Q4, "Artikel online anzeigen"),"") -> Artikel online anzeigen | Q4: https://www.thermokon.de/direct/de-ch/products/thanos-evo-weiss-temp-rh-rs485-bacnet-ms-tp | T4: 85365019 | U4: Einsatzzweck: Raumklimasteuerung, Beleuchtungssteuerung, Szenensteuerung, Beschattungssteuerung, Messwerterfassung Bedienfunktionen: Sollwertverstellung Temperatur, Lüfterstufenverstellung, Präsenzmeldung, Licht ein/aus/dimmen, Jalousie auf/ab/verstellen, Szenen aufrufen, ECO-Funktion, Messwertanzeige und -historie Bedienelemente: kapazitiver Touchscreen Netzwerktechnologie: RS485 BACnet (MS/TP) Temperatureinsatzbereich: 0..+50 °C, Genauigkeit Temperatur: ±0,5 K (typ. bei 21 °C) im Standardmessbereich Messbereich Feuchte: 0..100% rH ohne Betauung, 0..85 KJ/kg Enthalpie, 0..50 | 0..80 g/m³ absolute Feuchte, 0..+50 | -20..+80 °C Taupunkt, optional konfigurierbar, Genauigkeit Feuchte: ±2% zwischen 10..90% rH (typ. bei 21 °C) Eingang: 1x Eingang für potentialfreien Kontakt Spannungsversorgung: 24 V = (±10%) SELV, 24 V ~ (±10%) SELV Anzeige: TFT 4,8", 1120x480 px, kapazitive Touch-Technologie Gehäuse: mit thermischer Entkopplung und Sensorkanal, PC V0, Farbe: reinweiss, Schutzart: IP30 Montage: Aufputz auf Standard UP-Dose (Ø=60 mm), flach auf Untergrund, kleben oder schrauben, Gehäuseunterteil kann separat vom Gehäuseoberteil vormontiert und verdrahtet werden
A5: 9033 | B5: thanos EVO weiss CO2 Temp_rH RS485 BACnet (MS/TP) | C5: Raumbediengerät Temperatur, relative Feuchte, absolute Feuchte, Enthalpie, Taupunkt, CO2 | D5: thanos EVO | E5: Raumanwendung | F5: Raumbediengeräte | G5: 775434 | H5: 843.95 | I5: =IF(R5="UP",VLOOKUP($I$1,Änderungen!$F$1:$G$4,2,FALSE),IF(OR(ISERROR(FIND("NOVOS",B5)),ISERROR(FIND("Design ",B5))),IF(OR(ISERROR(FIND("thanos EVO",B5)),ISERROR(FIND("Design ",B5))),0,96.55),19.35)) -> 0 | K5: R1 | L5: =IF(K5<>"",IFERROR(VLOOKUP(K5,Rabattwerte_eintragen!$A$3:$C$24,3,FALSE),0),0) -> 0 | M5: =IF(H5<>"",H5*(1-L5)+I5*(1-VLOOKUP("A1",Rabattwerte_eintragen!$A$3:$C$26,3,FALSE)),"") -> 843.95 | O5: =IF(Q5<>"",HYPERLINK(Q5, "Artikel online anzeigen"),"") -> Artikel online anzeigen | Q5: https://www.thermokon.de/direct/de-ch/products/thanos-evo-weiss-co2-temp-rh-rs485-bacnet-ms-tp | T5: 85365019 | U5: Einsatzzweck: Raumklimasteuerung, Beleuchtungssteuerung, Szenensteuerung, Beschattungssteuerung, Messwerterfassung Bedienfunktionen: Sollwertverstellung Temperatur, Lüfterstufenverstellung, Präsenzmeldung, Licht ein/aus/dimmen, Jalousie auf/ab/verstellen, Szenen aufrufen, ECO-Funktion, Messwertanzeige und -historie Bedienelemente: kapazitiver Touchscreen Netzwerktechnologie: RS485 BACnet (MS/TP) Temperatureinsatzbereich: 0..+50 °C, Genauigkeit Temperatur: ±0,5 K (typ. bei 21 °C) im Standardmessbereich Messbereich Feuchte: 0..100% rH ohne Betauung, 0..85 KJ/kg Enthalpie, 0..50 | 0..80 g/m³ absolute Feuchte, 0..+50 | -20..+80 °C Taupunkt, optional konfigurierbar, Genauigkeit Feuchte: ±2% zwischen 10..90% rH (typ. bei 21 °C) Messbereich CO2: 0..2000 ppm, 0..5000 ppm, optional konfigurierbar, Genauigkeit CO2: ±50 ppm +3% des Messwerts (typ. bei 21 °C, 50% rH, 1015 hPa), Selbstkalibrierung Dual Channel Eingang: 1x Eingang für potentialfreien Kontakt Spannungsversorgung: 24 V = (±10%) SELV, 24 V ~ (±10%) SELV Anzeige: TFT 4,8", 1120x480 px, kapazitive Touch-Technologie Gehäuse: mit thermischer Entkopplung und Sensorkanal, PC V0, Farbe: reinweiss, Schutzart: IP30 Montage: Aufputz auf Standard UP-Dose (Ø=60 mm), flach auf Untergrund, kleben oder schrauben, Gehäuseunterteil kann separat vom Gehäuseoberteil vormontiert und verdrahtet werden
A6: 9035 | B6: thanos EVO weiss CO2+VOC Temp_rH RS485 BACnet (MS/TP) | C6: Raumbediengerät Temperatur, relative Feuchte, absolute Feuchte, Enthalpie, Taupunkt, CO2, VOC, CO2/VOC-Mix | D6: thanos EVO | E6: Raumanwendung | F6: Raumbediengeräte | G6: 771368 | H6: 923.65 | I6: =IF(R6="UP",VLOOKUP($I$1,Änderungen!$F$1:$G$4,2,FALSE),IF(OR(ISERROR(FIND("NOVOS",B6)),ISERROR(FIND("Design ",B6))),IF(OR(ISERROR(FIND("thanos EVO",B6)),ISERROR(FIND("Design ",B6))),0,96.55),19.35)) -> 0 | K6: R1 | L6: =IF(K6<>"",IFERROR(VLOOKUP(K6,Rabattwerte_eintragen!$A$3:$C$24,3,FALSE),0),0) -> 0 | M6: =IF(H6<>"",H6*(1-L6)+I6*(1-VLOOKUP("A1",Rabattwerte_eintragen!$A$3:$C$26,3,FALSE)),"") -> 923.65 | O6: =IF(Q6<>"",HYPERLINK(Q6, "Artikel online anzeigen"),"") -> Artikel online anzeigen | Q6: https://www.thermokon.de/direct/de-ch/products/thanos-evo-weiss-co2plusvoc-temp-rh-rs485-bacnet-ms-tp | T6: 85365019 | U6: Einsatzzweck: Raumklimasteuerung, Beleuchtungssteuerung, Szenensteuerung, Beschattungssteuerung, Messwerterfassung Bedienfunktionen: Sollwertverstellung Temperatur, Lüfterstufenverstellung, Präsenzmeldung, Licht ein/aus/dimmen, Jalousie auf/ab/verstellen, Szenen aufrufen, ECO-Funktion, Messwertanzeige und -historie Bedienelemente: kapazitiver Touchscreen Netzwerktechnologie: RS485 BACnet (MS/TP) Temperatureinsatzbereich: 0..+50 °C, Genauigkeit Temperatur: ±0,5 K (typ. bei 21 °C) im Standardmessbereich Messbereich Feuchte: 0..100% rH ohne Betauung, 0..85 KJ/kg Enthalpie, 0..50 | 0..80 g/m³ absolute Feuchte, 0..+50 | -20..+80 °C Taupunkt, optional konfigurierbar, Genauigkeit Feuchte: ±2% zwischen 10..90% rH (typ. bei 21 °C) Messbereich CO2: 0..2000 ppm, 0..5000 ppm, optional konfigurierbar, Genauigkeit CO2: ±50 ppm +3% des Messwerts (typ. bei 21 °C, 50% rH, 1015 hPa), Selbstkalibrierung Dual Channel Messung VOC (Mischgas): beheizter Metalloxid-Halbleiter Eingang: 1x Eingang für potentialfreien Kontakt Spannungsversorgung: 24 V = (±10%) SELV, 24 V ~ (±10%) SELV Anzeige: TFT 4,8", 1120x480 px, kapazitive Touch-Technologie Gehäuse: mit thermischer Entkopplung und Sensorkanal, PC V0, Farbe: reinweiss, Schutzart: IP30 Montage: Aufputz auf Standard UP-Dose (Ø=60 mm), flach auf Untergrund, kleben oder schrauben, Gehäuseunterteil kann separat vom Gehäuseoberteil vormontiert und verdrahtet werden
A7: 9036 | B7: thanos EVO schwarz Temp RS485 BACnet (MS/TP) | C7: Raumbediengerät Temperatur | D7: thanos EVO | E7: Raumanwendung | F7: Raumbediengeräte | G7: 774352 | H7: 703.6 | I7: =IF(R7="UP",VLOOKUP($I$1,Änderungen!$F$1:$G$4,2,FALSE),IF(OR(ISERROR(FIND("NOVOS",B7)),ISERROR(FIND("Design ",B7))),IF(OR(ISERROR(FIND("thanos EVO",B7)),ISERROR(FIND("Design ",B7))),0,96.55),19.35)) -> 0 | K7: R1 | L7: =IF(K7<>"",IFERROR(VLOOKUP(K7,Rabattwerte_eintragen!$A$3:$C$24,3,FALSE),0),0) -> 0 | M7: =IF(H7<>"",H7*(1-L7)+I7*(1-VLOOKUP("A1",Rabattwerte_eintragen!$A$3:$C$26,3,FALSE)),"") -> 703.6 | O7: =IF(Q7<>"",HYPERLINK(Q7, "Artikel online anzeigen"),"") -> Artikel online anzeigen | Q7: https://www.thermokon.de/direct/de-ch/products/thanos-evo-schwarz-temp-rs485-bacnet-ms-tp | T7: 85365019 | U7: Einsatzzweck: Raumklimasteuerung, Beleuchtungssteuerung, Szenensteuerung, Beschattungssteuerung, Messwerterfassung Bedienfunktionen: Sollwertverstellung Temperatur, Lüfterstufenverstellung, Präsenzmeldung, Licht ein/aus/dimmen, Jalousie auf/ab/verstellen, Szenen aufrufen, ECO-Funktion, Messwertanzeige und -historie Bedienelemente: kapazitiver Touchscreen Netzwerktechnologie: RS485 BACnet (MS/TP) Temperatureinsatzbereich: 0..+50 °C, Genauigkeit Temperatur: ±0,5 K (typ. bei 21 °C) im Standardmessbereich Eingang: 1x Eingang für potentialfreien Kontakt Spannungsversorgung: 24 V = (±10%) SELV, 24 V ~ (±10%) SELV Anzeige: TFT 4,8", 1120x480 px, kapazitive Touch-Technologie Gehäuse: mit thermischer Entkopplung und Sensorkanal, PC V0, Farbe: schwarz, Schutzart: IP30 Montage: Aufputz auf Standard UP-Dose (Ø=60 mm), flach auf Untergrund, kleben oder schrauben, Gehäuseunterteil kann separat vom Gehäuseoberteil vormontiert und verdrahtet werden
A8: 9037 | B8: thanos EVO schwarz Temp_rH RS485 BACnet (MS/TP) | C8: Raumbediengerät Temperatur, relative Feuchte, absolute Feuchte, Enthalpie, Taupunkt | D8: thanos EVO | E8: Raumanwendung | F8: Raumbediengeräte | G8: 780360 | H8: 767.45 | I8: =IF(R8="UP",VLOOKUP($I$1,Änderungen!$F$1:$G$4,2,FALSE),IF(OR(ISERROR(FIND("NOVOS",B8)),ISERROR(FIND("Design ",B8))),IF(OR(ISERROR(FIND("thanos EVO",B8)),ISERROR(FIND("Design ",B8))),0,96.55),19.35)) -> 0 | K8: R1 | L8: =IF(K8<>"",IFERROR(VLOOKUP(K8,Rabattwerte_eintragen!$A$3:$C$24,3,FALSE),0),0) -> 0 | M8: =IF(H8<>"",H8*(1-L8)+I8*(1-VLOOKUP("A1",Rabattwerte_eintragen!$A$3:$C$26,3,FALSE)),"") -> 767.45 | O8: =IF(Q8<>"",HYPERLINK(Q8, "Artikel online anzeigen"),"") -> Artikel online anzeigen | Q8: https://www.thermokon.de/direct/de-ch/products/thanos-evo-schwarz-temp-rh-rs485-bacnet-ms-tp | T8: 85365019 | U8: Einsatzzweck: Raumklimasteuerung, Beleuchtungssteuerung, Szenensteuerung, Beschattungssteuerung, Messwerterfassung Bedienfunktionen: Sollwertverstellung Temperatur, Lüfterstufenverstellung, Präsenzmeldung, Licht ein/aus/dimmen, Jalousie auf/ab/verstellen, Szenen aufrufen, ECO-Funktion, Messwertanzeige und -historie Bedienelemente: kapazitiver Touchscreen Netzwerktechnologie: RS485 BACnet (MS/TP) Temperatureinsatzbereich: 0..+50 °C, Genauigkeit Temperatur: ±0,5 K (typ. bei 21 °C) im Standardmessbereich Messbereich Feuchte: 0..100% rH ohne Betauung, 0..85 KJ/kg Enthalpie, 0..50 | 0..80 g/m³ absolute Feuchte, 0..+50 | -20..+80 °C Taupunkt, optional konfigurierbar, Genauigkeit Feuchte: ±2% zwischen 10..90% rH (typ. bei 21 °C) Eingang: 1x Eingang für potentialfreien Kontakt Spannungsversorgung: 24 V = (±10%) SELV, 24 V ~ (±10%) SELV Anzeige: TFT 4,8", 1120x480 px, kapazitive Touch-Technologie Gehäuse: mit thermischer Entkopplung und Sensorkanal, PC V0, Farbe: schwarz, Schutzart: IP30 Montage: Aufputz auf Standard UP-Dose (Ø=60 mm), flach auf Untergrund, kleben oder schrauben, Gehäuseunterteil kann separat vom Gehäuseoberteil vormontiert und verdrahtet werden
A9: 9038 | B9: thanos EVO schwarz CO2 Temp_rH RS485 BACnet (MS/TP) | C9: Raumbediengerät Temperatur, relative Feuchte, absolute Feuchte, Enthalpie, Taupunkt, CO2 | D9: thanos EVO | E9: Raumanwendung | F9: Raumbediengeräte | G9: 780377 | H9: 863.25 | I9: =IF(R9="UP",VLOOKUP($I$1,Änderungen!$F$1:$G$4,2,FALSE),IF(OR(ISERROR(FIND("NOVOS",B9)),ISERROR(FIND("Design ",B9))),IF(OR(ISERROR(FIND("thanos EVO",B9)),ISERROR(FIND("Design ",B9))),0,96.55),19.35)) -> 0 | K9: R1 | L9: =IF(K9<>"",IFERROR(VLOOKUP(K9,Rabattwerte_eintragen!$A$3:$C$24,3,FALSE),0),0) -> 0 | M9: =IF(H9<>"",H9*(1-L9)+I9*(1-VLOOKUP("A1",Rabattwerte_eintragen!$A$3:$C$26,3,FALSE)),"") -> 863.25 | O9: =IF(Q9<>"",HYPERLINK(Q9, "Artikel online anzeigen"),"") -> Artikel online anzeigen | Q9: https://www.thermokon.de/direct/de-ch/products/thanos-evo-schwarz-co2-temp-rh-rs485-bacnet-ms-tp | T9: 85365019 | U9: Einsatzzweck: Raumklimasteuerung, Beleuchtungssteuerung, Szenensteuerung, Beschattungssteuerung, Messwerterfassung Bedienfunktionen: Sollwertverstellung Temperatur, Lüfterstufenverstellung, Präsenzmeldung, Licht ein/aus/dimmen, Jalousie auf/ab/verstellen, Szenen aufrufen, ECO-Funktion, Messwertanzeige und -historie Bedienelemente: kapazitiver Touchscreen Netzwerktechnologie: RS485 BACnet (MS/TP) Temperatureinsatzbereich: 0..+50 °C, Genauigkeit Temperatur: ±0,5 K (typ. bei 21 °C) im Standardmessbereich Messbereich Feuchte: 0..100% rH ohne Betauung, 0..85 KJ/kg Enthalpie, 0..50 | 0..80 g/m³ absolute Feuchte, 0..+50 | -20..+80 °C Taupunkt, optional konfigurierbar, Genauigkeit Feuchte: ±2% zwischen 10..90% rH (typ. bei 21 °C) Messbereich CO2: 0..2000 ppm, 0..5000 ppm, optional konfigurierbar, Genauigkeit CO2: ±50 ppm +3% des Messwerts (typ. bei 21 °C, 50% rH, 1015 hPa), Selbstkalibrierung Dual Channel Eingang: 1x Eingang für potentialfreien Kontakt Spannungsversorgung: 24 V = (±10%) SELV, 24 V ~ (±10%) SELV Anzeige: TFT 4,8", 1120x480 px, kapazitive Touch-Technologie Gehäuse: mit thermischer Entkopplung und Sensorkanal, PC V0, Farbe: schwarz, Schutzart: IP30 Montage: Aufputz auf Standard UP-Dose (Ø=60 mm), flach auf Untergrund, kleben oder schrauben, Gehäuseunterteil kann separat vom Gehäuseoberteil vormontiert und verdrahtet werden
A10: 9040 | B10: thanos EVO schwarz CO2+VOC Temp_rH RS485 BACnet (MS/TP) | C10: Raumbediengerät Temperatur, relative Feuchte, absolute Feuchte, Enthalpie, Taupunkt, CO2, VOC, CO2/VOC-Mix | D10: thanos EVO | E10: Raumanwendung | F10: Raumbediengeräte | G10: 771351 | H10: 943 | I10: =IF(R10="UP",VLOOKUP($I$1,Änderungen!$F$1:$G$4,2,FALSE),IF(OR(ISERROR(FIND("NOVOS",B10)),ISERROR(FIND("Design ",B10))),IF(OR(ISERROR(FIND("thanos EVO",B10)),ISERROR(FIND("Design ",B10))),0,96.55),19.35)) -> 0 | K10: R1 | L10: =IF(K10<>"",IFERROR(VLOOKUP(K10,Rabattwerte_eintragen!$A$3:$C$24,3,FALSE),0),0) -> 0 | M10: =IF(H10<>"",H10*(1-L10)+I10*(1-VLOOKUP("A1",Rabattwerte_eintragen!$A$3:$C$26,3,FALSE)),"") -> 943 | O10: =IF(Q10<>"",HYPERLINK(Q10, "Artikel online anzeigen"),"") -> Artikel online anzeigen | Q10: https://www.thermokon.de/direct/de-ch/products/thanos-evo-schwarz-co2plusvoc-temp-rh-rs485-bacnet-ms-tp | T10: 85365019 | U10: Einsatzzweck: Raumklimasteuerung, Beleuchtungssteuerung, Szenensteuerung, Beschattungssteuerung, Messwerterfassung Bedienfunktionen: Sollwertverstellung Temperatur, Lüfterstufenverstellung, Präsenzmeldung, Licht ein/aus/dimmen, Jalousie auf/ab/verstellen, Szenen aufrufen, ECO-Funktion, Messwertanzeige und -historie Bedienelemente: kapazitiver Touchscreen Netzwerktechnologie: RS485 BACnet (MS/TP) Temperatureinsatzbereich: 0..+50 °C, Genauigkeit Temperatur: ±0,5 K (typ. bei 21 °C) im Standardmessbereich Messbereich Feuchte: 0..100% rH ohne Betauung, 0..85 KJ/kg Enthalpie, 0..50 | 0..80 g/m³ absolute Feuchte, 0..+50 | -20..+80 °C Taupunkt, optional konfigurierbar, Genauigkeit Feuchte: ±2% zwischen 10..90% rH (typ. bei 21 °C) Messbereich CO2: 0..2000 ppm, 0..5000 ppm, optional konfigurierbar, Genauigkeit CO2: ±50 ppm +3% des Messwerts (typ. bei 21 °C, 50% rH, 1015 hPa), Selbstkalibrierung Dual Channel Messung VOC (Mischgas): beheizter Metalloxid-Halbleiter Eingang: 1x Eingang für potentialfreien Kontakt Spannungsversorgung: 24 V = (±10%) SELV, 24 V ~ (±10%) SELV Anzeige: TFT 4,8", 1120x480 px, kapazitive Touch-Technologie Gehäuse: mit thermischer Entkopplung und Sensorkanal, PC V0, Farbe: schwarz, Schutzart: IP30 Montage: Aufputz auf Standard UP-Dose (Ø=60 mm), flach auf Untergrund, kleben oder schrauben, Gehäuseunterteil kann separat vom Gehäuseoberteil vormontiert und verdrahtet werden
A11: 11380 | B11: thanos EVO Design schwarz Temp RS485 BACnet (MS/TP) | C11: Raumbediengerät Temperatur | D11: thanos EVO | E11: Raumanwendung | F11: Raumbediengeräte | G11: 807418 | H11: 703.6 | I11: =IF(R11="UP",VLOOKUP($I$1,Änderungen!$F$1:$G$4,2,FALSE),IF(OR(ISERROR(FIND("NOVOS",B11)),ISERROR(FIND("Design ",B11))),IF(OR(ISERROR(FIND("thanos EVO",B11)),ISERROR(FIND("Design ",B11))),0,96.55),19.35)) -> 96.55 | K11: R1 | L11: =IF(K11<>"",IFERROR(VLOOKUP(K11,Rabattwerte_eintragen!$A$3:$C$24,3,FALSE),0),0) -> 0 | M11: =IF(H11<>"",H11*(1-L11)+I11*(1-VLOOKUP("A1",Rabattwerte_eintragen!$A$3:$C$26,3,FALSE)),"") -> 800.15 | O11: =IF(Q11<>"",HYPERLINK(Q11, "Artikel online anzeigen"),"") -> Artikel online anzeigen | Q11: https://www.thermokon.de/direct/de-ch/products/thanos-evo-design-schwarz-temp-rs485-bacnet-ms-tp | T11: 85365019 | U11: Einsatzzweck: Raumklimasteuerung, Beleuchtungssteuerung, Szenensteuerung, Beschattungssteuerung, Messwerterfassung Bedienfunktionen: Sollwertverstellung Temperatur, Lüfterstufenverstellung, Präsenzmeldung, Licht ein/aus/dimmen, Jalousie auf/ab/verstellen, Szenen aufrufen, ECO-Funktion, Messwertanzeige und -historie Bedienelemente: kapazitiver Touchscreen Netzwerktechnologie: RS485 BACnet (MS/TP) Temperatureinsatzbereich: 0..+50 °C, Genauigkeit Temperatur: ±0,5 K (typ. bei 21 °C) im Standardmessbereich Eingang: 1x Eingang für potentialfreien Kontakt Spannungsversorgung: 24 V = (±10%) SELV, 24 V ~ (±10%) SELV Anzeige: TFT 4,8", 1120x480 px, kapazitive Touch-Technologie Gehäuse: mit thermischer Entkopplung und Sensorkanal, PC V0, Farbe: schwarz, mit Designrahmen Aluminium eloxiert (zugehöriger Rahmen siehe nächste Position), Schutzart: IP30 Montage: Aufputz auf Standard UP-Dose (Ø=60 mm), flach auf Untergrund, kleben oder schrauben, Gehäuseunterteil kann separat vom Gehäuseoberteil vormontiert und verdrahtet werden Hinweise: + Aufpreis Designrahmen (Pflicht), Farbe bitte wählen
A12: 11381 | B12: thanos EVO Design schwarz Temp_rH RS485 BACnet (MS/TP) | C12: Raumbediengerät Temperatur, relative Feuchte, absolute Feuchte, Enthalpie, Taupunkt | D12: thanos EVO | E12: Raumanwendung | F12: Raumbediengeräte | G12: 807401 | H12: 767.45 | I12: =IF(R12="UP",VLOOKUP($I$1,Änderungen!$F$1:$G$4,2,FALSE),IF(OR(ISERROR(FIND("NOVOS",B12)),ISERROR(FIND("Design ",B12))),IF(OR(ISERROR(FIND("thanos EVO",B12)),ISERROR(FIND("Design ",B12))),0,96.55),19.35)) -> 96.55 | K12: R1 | L12: =IF(K12<>"",IFERROR(VLOOKUP(K12,Rabattwerte_eintragen!$A$3:$C$24,3,FALSE),0),0) -> 0 | M12: =IF(H12<>"",H12*(1-L12)+I12*(1-VLOOKUP("A1",Rabattwerte_eintragen!$A$3:$C$26,3,FALSE)),"") -> 864 | O12: =IF(Q12<>"",HYPERLINK(Q12, "Artikel online anzeigen"),"") -> Artikel online anzeigen | Q12: https://www.thermokon.de/direct/de-ch/products/thanos-evo-design-schwarz-temp-rh-rs485-bacnet-ms-tp | T12: 85365019 | U12: Einsatzzweck: Raumklimasteuerung, Beleuchtungssteuerung, Szenensteuerung, Beschattungssteuerung, Messwerterfassung Bedienfunktionen: Sollwertverstellung Temperatur, Lüfterstufenverstellung, Präsenzmeldung, Licht ein/aus/dimmen, Jalousie auf/ab/verstellen, Szenen aufrufen, ECO-Funktion, Messwertanzeige und -historie Bedienelemente: kapazitiver Touchscreen Netzwerktechnologie: RS485 BACnet (MS/TP) Temperatureinsatzbereich: 0..+50 °C, Genauigkeit Temperatur: ±0,5 K (typ. bei 21 °C) im Standardmessbereich Eingang: 1x Eingang für potentialfreien Kontakt Spannungsversorgung: 24 V = (±10%) SELV, 24 V ~ (±10%) SELV Anzeige: TFT 4,8", 1120x480 px, kapazitive Touch-Technologie Gehäuse: mit thermischer Entkopplung und Sensorkanal, PC V0, Farbe: schwarz, mit Designrahmen Aluminium eloxiert (zugehöriger Rahmen siehe nächste Position), Schutzart: IP30 Montage: Aufputz auf Standard UP-Dose (Ø=60 mm), flach auf Untergrund, kleben oder schrauben, Gehäuseunterteil kann separat vom Gehäuseoberteil vormontiert und verdrahtet werden Hinweise: + Aufpreis Designrahmen (Pflicht), Farbe bitte wählen
A13: 11382 | B13: thanos EVO Design schwarz CO2 Temp_rH RS485 BACnet (MS/TP) | C13: Raumbediengerät Temperatur, relative Feuchte, absolute Feuchte, Enthalpie, Taupunkt, CO2 | D13: thanos EVO | E13: Raumanwendung | F13: Raumbediengeräte | G13: 807395 | H13: 863.25 | I13: =IF(R13="UP",VLOOKUP($I$1,Änderungen!$F$1:$G$4,2,FALSE),IF(OR(ISERROR(FIND("NOVOS",B13)),ISERROR(FIND("Design ",B13))),IF(OR(ISERROR(FIND("thanos EVO",B13)),ISERROR(FIND("Design ",B13))),0,96.55),19.35)) -> 96.55 | K13: R1 | L13: =IF(K13<>"",IFERROR(VLOOKUP(K13,Rabattwerte_eintragen!$A$3:$C$24,3,FALSE),0),0) -> 0 | M13: =IF(H13<>"",H13*(1-L13)+I13*(1-VLOOKUP("A1",Rabattwerte_eintragen!$A$3:$C$26,3,FALSE)),"") -> 959.8 | O13: =IF(Q13<>"",HYPERLINK(Q13, "Artikel online anzeigen"),"") -> Artikel online anzeigen | Q13: https://www.thermokon.de/direct/de-ch/products/thanos-evo-design-schwarz-co2-temp-rh-rs485-bacnet-ms-tp | T13: 85365019 | U13: Einsatzzweck: Raumklimasteuerung, Beleuchtungssteuerung, Szenensteuerung, Beschattungssteuerung, Messwerterfassung Bedienfunktionen: Sollwertverstellung Temperatur, Lüfterstufenverstellung, Präsenzmeldung, Licht ein/aus/dimmen, Jalousie auf/ab/verstellen, Szenen aufrufen, ECO-Funktion, Messwertanzeige und -historie Bedienelemente: kapazitiver Touchscreen Netzwerktechnologie: RS485 BACnet (MS/TP) Temperatureinsatzbereich: 0..+50 °C, Genauigkeit Temperatur: ±0,5 K (typ. bei 21 °C) im Standardmessbereich Messbereich Feuchte: 0..100% rH ohne Betauung, 0..85 KJ/kg Enthalpie, 0..50 | 0..80 g/m³ absolute Feuchte, 0..+50 | -20..+80 °C Taupunkt, optional konfigurierbar, Genauigkeit Feuchte: ±2% zwischen 10..90% rH (typ. bei 21 °C) Messbereich CO2: 0..2000 ppm, 0..5000 ppm, optional konfigurierbar, Genauigkeit CO2: ±50 ppm +3% des Messwerts (typ. bei 21 °C, 50% rH, 1015 hPa), Selbstkalibrierung Dual Channel Eingang: 1x Eingang für potentialfreien Kontakt Spannungsversorgung: 24 V = (±10%) SELV, 24 V ~ (±10%) SELV Anzeige: TFT 4,8", 1120x480 px, kapazitive Touch-Technologie Gehäuse: mit thermischer Entkopplung und Sensorkanal, PC V0, Farbe: schwarz (zugehöriger Rahmen siehe nächste Position), Schutzart: IP30 Montage: Aufputz auf Standard UP-Dose (Ø=60 mm), flach auf Untergrund, kleben oder schrauben, Gehäuseunterteil kann separat vom Gehäuseoberteil vormontiert und verdrahtet werden Hinweise: + Aufpreis Designrahmen (Pflicht), Farbe bitte wählen
A14: 11384 | B14: thanos EVO Design schwarz CO2+VOC Temp_rH RS485 BACnet (MS/TP) | C14: Raumbediengerät Temperatur, relative Feuchte, absolute Feuchte, Enthalpie, Taupunkt, CO2, VOC, CO2/VOC-Mix | D14: thanos EVO | E14: Raumanwendung | F14: Raumbediengeräte | G14: 807371 | H14: 943 | I14: =IF(R14="UP",VLOOKUP($I$1,Änderungen!$F$1:$G$4,2,FALSE),IF(OR(ISERROR(FIND("NOVOS",B14)),ISERROR(FIND("Design ",B14))),IF(OR(ISERROR(FIND("thanos EVO",B14)),ISERROR(FIND("Design ",B14))),0,96.55),19.35)) -> 96.55 | K14: R1 | L14: =IF(K14<>"",IFERROR(VLOOKUP(K14,Rabattwerte_eintragen!$A$3:$C$24,3,FALSE),0),0) -> 0 | M14: =IF(H14<>"",H14*(1-L14)+I14*(1-VLOOKUP("A1",Rabattwerte_eintragen!$A$3:$C$26,3,FALSE)),"") -> 1039.55 | O14: =IF(Q14<>"",HYPERLINK(Q14, "Artikel online anzeigen"),"") -> Artikel online anzeigen | Q14: https://www.thermokon.de/direct/de-ch/products/thanos-evo-design-schwarz-co2plusvoc-temp-rh-rs485-bacnet-ms-tp | T14: 85365019 | U14: Einsatzzweck: Raumklimasteuerung, Beleuchtungssteuerung, Szenensteuerung, Beschattungssteuerung, Messwerterfassung Bedienfunktionen: Sollwertverstellung Temperatur, Lüfterstufenverstellung, Präsenzmeldung, Licht ein/aus/dimmen, Jalousie auf/ab/verstellen, Szenen aufrufen, ECO-Funktion, Messwertanzeige und -historie Bedienelemente: kapazitiver Touchscreen Netzwerktechnologie: RS485 BACnet (MS/TP) Temperatureinsatzbereich: 0..+50 °C, Genauigkeit Temperatur: ±0,5 K (typ. bei 21 °C) im Standardmessbereich Messbereich Feuchte: 0..100% rH ohne Betauung, 0..85 KJ/kg Enthalpie, 0..50 | 0..80 g/m³ absolute Feuchte, 0..+50 | -20..+80 °C Taupunkt, optional konfigurierbar, Genauigkeit Feuchte: ±2% zwischen 10..90% rH (typ. bei 21 °C) Messbereich CO2: 0..2000 ppm, 0..5000 ppm, optional konfigurierbar, Genauigkeit CO2: ±50 ppm +3% des Messwerts (typ. bei 21 °C, 50% rH, 1015 hPa), Selbstkalibrierung Dual Channel Messung VOC (Mischgas): beheizter Metalloxid-Halbleiter Eingang: 1x Eingang für potentialfreien Kontakt Spannungsversorgung: 24 V = (±10%) SELV, 24 V ~ (±10%) SELV Anzeige: TFT 4,8", 1120x480 px, kapazitive Touch-Technologie Gehäuse: mit thermischer Entkopplung und Sensorkanal, PC V0, Farbe: schwarz, mit Designrahmen Aluminium eloxiert (zugehöriger Rahmen siehe nächste Position), Schutzart: IP30 Montage: Aufputz auf Standard UP-Dose (Ø=60 mm), flach auf Untergrund, kleben oder schrauben, Gehäuseunterteil kann separat vom Gehäuseoberteil vormontiert und verdrahtet werden Hinweise: + Aufpreis Designrahmen (Pflicht), Farbe bitte wählen
... A96: 1311 | B96: NOVOS 3 PTD weiss Temp Pt100, 10 kOhm | C96: Raumbediengerät Temperatur | D96: NOVOS 3 x | E96: Raumanwendung | F96: Raumbediengeräte | G96: 729673 | H96: 88.15 | I96: =IF(R96="UP",VLOOKUP($I$1,Änderungen!$F$1:$G$4,2,FALSE),IF(OR(ISERROR(FIND("NOVOS",B96)),ISERROR(FIND("Design ",B96))),IF(OR(ISERROR(FIND("thanos EVO",B96)),ISERROR(FIND("Design ",B96))),0,96.55),19.35)) -> 0 | K96: R3 | L96: =IF(K96<>"",IFERROR(VLOOKUP(K96,Rabattwerte_eintragen!$A$3:$C$24,3,FALSE),0),0) -> 0 | M96: =IF(H96<>"",H96*(1-L96)+I96*(1-VLOOKUP("A1",Rabattwerte_eintragen!$A$3:$C$26,3,FALSE)),"") -> 88.15 | O96: =IF(Q96<>"",HYPERLINK(Q96, "Artikel online anzeigen"),"") -> Artikel online anzeigen | Q96: https://www.thermokon.de/direct/de-ch/products/novos-3-ptd-weiss-temp-pt100-10-kohm | T96: 85365019 | U96: Einsatzzweck: Raumklimasteuerung, Messwerterfassung Bedienfunktionen: Sollwertverstellung Temperatur, Präsenzmeldung Bedienelemente: Potentiometer (P), 10 kOhm, Beschriftung {- [Skala] +}, Taster (T), mit LED 24 V =, Farbe konfigurierbar über Jumper (7 Farben) Sensor: Pt100 DIN Kl. B Temperatureinsatzbereich: -35..+70 °C, Genauigkeit Temperatur: ±0,3 K (typ. bei 0 °C) Spannungsversorgung: 15..35 V = SELV, 19..29 V ~ SELV Anzeige: RGB-LED Gehäuse: PC V0, Farbe: reinweiss, Schutzart: IP20 Montage: Aufputz auf Standard UP-Dose (Ø=60 mm), flach auf Untergrund, kleben oder schrauben, Gehäuseunterteil kann separat vom Gehäuseoberteil vormontiert und verdrahtet werden
A97: 1247 | B97: NOVOS 3 P weiss Temp Pt1000, 10 kOhm | C97: Raumbediengerät Temperatur | D97: NOVOS 3 x | E97: Raumanwendung | F97: Raumbediengeräte | G97: 729727 | H97: 64.25 | I97: =IF(R97="UP",VLOOKUP($I$1,Änderungen!$F$1:$G$4,2,FALSE),IF(OR(ISERROR(FIND("NOVOS",B97)),ISERROR(FIND("Design ",B97))),IF(OR(ISERROR(FIND("thanos EVO",B97)),ISERROR(FIND("Design ",B97))),0,96.55),19.35)) -> 0 | J97: ja | K97: R3 | L97: =IF(K97<>"",IFERROR(VLOOKUP(K97,Rabattwerte_eintragen!$A$3:$C$24,3,FALSE),0),0) -> 0 | M97: =IF(H97<>"",H97*(1-L97)+I97*(1-VLOOKUP("A1",Rabattwerte_eintragen!$A$3:$C$26,3,FALSE)),"") -> 64.25 | O97: =IF(Q97<>"",HYPERLINK(Q97, "Artikel online anzeigen"),"") -> Artikel online anzeigen | Q97: https://www.thermokon.de/direct/de-ch/products/novos-3-p-weiss-temp-pt1000-10-kohm | T97: 85365019 | U97: Einsatzzweck: Raumklimasteuerung, Messwerterfassung Bedienfunktionen: Sollwertverstellung Temperatur Bedienelemente: Potentiometer (P), 10 kOhm, Beschriftung {- [Skala] +} Sensor: Pt1000 DIN Kl. B Temperatureinsatzbereich: -35..+70 °C, Genauigkeit Temperatur: ±0,3 K (typ. bei 0 °C) Gehäuse: NOVOS 3, PC V0, Farbe: reinweiss, Schutzart: IP20 Montage: Aufputz auf Standard UP-Dose (Ø=60 mm), flach auf Untergrund, kleben oder schrauben, Gehäuseunterteil kann separat vom Gehäuseoberteil vormontiert und verdrahtet werden
A98: 1285 | B98: NOVOS 3 TD weiss Temp Pt1000 | C98: Raumbediengerät Temperatur | D98: NOVOS 3 x | E98: Raumanwendung | F98: Raumbediengeräte | G98: 729734 | H98: 71.5 | I98: =IF(R98="UP",VLOOKUP($I$1,Änderungen!$F$1:$G$4,2,FALSE),IF(OR(ISERROR(FIND("NOVOS",B98)),ISERROR(FIND("Design ",B98))),IF(OR(ISERROR(FIND("thanos EVO",B98)),ISERROR(FIND("Design ",B98))),0,96.55),19.35)) -> 0 | K98: R3 | L98: =IF(K98<>"",IFERROR(VLOOKUP(K98,Rabattwerte_eintragen!$A$3:$C$24,3,FALSE),0),0) -> 0 | M98: =IF(H98<>"",H98*(1-L98)+I98*(1-VLOOKUP("A1",Rabattwerte_eintragen!$A$3:$C$26,3,FALSE)),"") -> 71.5 | O98: =IF(Q98<>"",HYPERLINK(Q98, "Artikel online anzeigen"),"") -> Artikel online anzeigen | Q98: https://www.thermokon.de/direct/de-ch/products/novos-3-td-weiss-temp-pt1000 | T98: 85365019 | U98: Einsatzzweck: Raumklimasteuerung, Messwerterfassung Bedienfunktionen: Präsenzmeldung Bedienelemente: Taster (T), mit LED 24 V =, Farbe konfigurierbar über Jumper (7 Farben) Sensor: Pt1000 DIN Kl. B Temperatureinsatzbereich: -35..+70 °C, Genauigkeit Temperatur: ±0,3 K (typ. bei 0 °C) Spannungsversorgung: 15..35 V = SELV, 19..29 V ~ SELV Anzeige: RGB-LED Gehäuse: PC V0, Farbe: reinweiss, Schutzart: IP20 Montage: Aufputz auf Standard UP-Dose (Ø=60 mm), flach auf Untergrund, kleben oder schrauben, Gehäuseunterteil kann separat vom Gehäuseoberteil vormontiert und verdrahtet werden
A99: 1313 | B99: NOVOS 3 PTD weiss Temp Pt1000, 10 kOhm | C99: Raumbediengerät Temperatur | D99: NOVOS 3 x | E99: Raumanwendung | F99: Raumbediengeräte | G99: 729741 | H99: 91.25 | I99: =IF(R99="UP",VLOOKUP($I$1,Änderungen!$F$1:$G$4,2,FALSE),IF(OR(ISERROR(FIND("NOVOS",B99)),ISERROR(FIND("Design ",B99))),IF(OR(ISERROR(FIND("thanos EVO",B99)),ISERROR(FIND("Design ",B99))),0,96.55),19.35)) -> 0 | K99: R3 | L99: =IF(K99<>"",IFERROR(VLOOKUP(K99,Rabattwerte_eintragen!$A$3:$C$24,3,FALSE),0),0) -> 0 | M99: =IF(H99<>"",H99*(1-L99)+I99*(1-VLOOKUP("A1",Rabattwerte_eintragen!$A$3:$C$26,3,FALSE)),"") -> 91.25 | O99: =IF(Q99<>"",HYPERLINK(Q99, "Artikel online anzeigen"),"") -> Artikel online anzeigen | Q99: https://www.thermokon.de/direct/de-ch/products/novos-3-ptd-weiss-temp-pt1000-10-kohm | T99: 85365019 | U99: Einsatzzweck: Raumklimasteuerung, Messwerterfassung Bedienfunktionen: Sollwertverstellung Temperatur, Präsenzmeldung Bedienelemente: Potentiometer (P), 10 kOhm, Beschriftung {- [Skala] +}, Taster (T), mit LED 24 V =, Farbe konfigurierbar über Jumper (7 Farben) Sensor: Pt1000 DIN Kl. B Temperatureinsatzbereich: -35..+70 °C, Genauigkeit Temperatur: ±0,3 K (typ. bei 0 °C) Spannungsversorgung: 15..35 V = SELV, 19..29 V ~ SELV Anzeige: RGB-LED Gehäuse: PC V0, Farbe: reinweiss, Schutzart: IP20 Montage: Aufputz auf Standard UP-Dose (Ø=60 mm), flach auf Untergrund, kleben oder schrauben, Gehäuseunterteil kann separat vom Gehäuseoberteil vormontiert und verdrahtet werden
A100: 1251 | B100: NOVOS 3 P weiss Temp Pt1000 1/3 DIN, 10 kOhm | C100: Raumbediengerät Temperatur | D100: NOVOS 3 x | E100: Raumanwendung | F100: Raumbediengeräte | G100: 729789 | H100: 69.25 | I100: =IF(R100="UP",VLOOKUP($I$1,Änderungen!$F$1:$G$4,2,FALSE),IF(OR(ISERROR(FIND("NOVOS",B100)),ISERROR(FIND("Design ",B100))),IF(OR(ISERROR(FIND("thanos EVO",B100)),ISERROR(FIND("Design ",B100))),0,96.55),19.35)) -> 0 | K100: R3 | L100: =IF(K100<>"",IFERROR(VLOOKUP(K100,Rabattwerte_eintragen!$A$3:$C$24,3,FALSE),0),0) -> 0 | M100: =IF(H100<>"",H100*(1-L100)+I100*(1-VLOOKUP("A1",Rabattwerte_eintragen!$A$3:$C$26,3,FALSE)),"") -> 69.25 | O100: =IF(Q100<>"",HYPERLINK(Q100, "Artikel online anzeigen"),"") -> Artikel online anzeigen | Q100: https://www.thermokon.de/direct/de-ch/products/novos-3-p-weiss-temp-pt1000-1-3-din-10-kohm | T100: 85365019 | U100: Einsatzzweck: Raumklimasteuerung, Messwerterfassung Bedienfunktionen: Sollwertverstellung Temperatur Bedienelemente: Potentiometer (P), 10 kOhm, Beschriftung {- [Skala] +} Sensor: Pt1000 1/3 DIN Temperatureinsatzbereich: -35..+70 °C Gehäuse: NOVOS 3, PC V0, Farbe: reinweiss, Schutzart: IP20 Montage: Aufputz auf Standard UP-Dose (Ø=60 mm), flach auf Untergrund, kleben oder schrauben, Gehäuseunterteil kann separat vom Gehäuseoberteil vormontiert und verdrahtet werden
A101: 1286 | B101: NOVOS 3 TD weiss Temp Pt1000 1/3 DIN | C101: Raumbediengerät Temperatur | D101: NOVOS 3 x | E101: Raumanwendung | F101: Raumbediengeräte | G101: 729796 | H101: 76.5 | I101: =IF(R101="UP",VLOOKUP($I$1,Änderungen!$F$1:$G$4,2,FALSE),IF(OR(ISERROR(FIND("NOVOS",B101)),ISERROR(FIND("Design ",B101))),IF(OR(ISERROR(FIND("thanos EVO",B101)),ISERROR(FIND("Design ",B101))),0,96.55),19.35)) -> 0 | K101: R3 | L101: =IF(K101<>"",IFERROR(VLOOKUP(K101,Rabattwerte_eintragen!$A$3:$C$24,3,FALSE),0),0) -> 0 | M101: =IF(H101<>"",H101*(1-L101)+I101*(1-VLOOKUP("A1",Rabattwerte_eintragen!$A$3:$C$26,3,FALSE)),"") -> 76.5 | O101: =IF(Q101<>"",HYPERLINK(Q101, "Artikel online anzeigen"),"") -> Artikel online anzeigen | Q101: https://www.thermokon.de/direct/de-ch/products/novos-3-td-weiss-temp-pt1000-1-3-din | T101: 85365019 | U101: Einsatzzweck: Raumklimasteuerung, Messwerterfassung Bedienfunktionen: Präsenzmeldung Bedienelemente: Taster (T), mit LED 24 V =, Farbe konfigurierbar über Jumper (7 Farben) Sensor: Pt1000 1/3 DIN Temperatureinsatzbereich: -35..+70 °C Spannungsversorgung: 15..35 V = SELV, 19..29 V ~ SELV Anzeige: RGB-LED Gehäuse: PC V0, Farbe: reinweiss, Schutzart: IP20 Montage: Aufputz auf Standard UP-Dose (Ø=60 mm), flach auf Untergrund, kleben oder schrauben, Gehäuseunterteil kann separat vom Gehäuseoberteil vormontiert und verdrahtet werden
A102: 1312 | B102: NOVOS 3 PTD weiss Temp Pt1000 1/3 DIN, 10 kOhm | C102: Raumbediengerät Temperatur | D102: NOVOS 3 x | E102: Raumanwendung | F102: Raumbediengeräte | G102: 729802 | H102: 96.25 | I102: =IF(R102="UP",VLOOKUP($I$1,Änderungen!$F$1:$G$4,2,FALSE),IF(OR(ISERROR(FIND("NOVOS",B102)),ISERROR(FIND("Design ",B102))),IF(OR(ISERROR(FIND("thanos EVO",B102)),ISERROR(FIND("Design ",B102))),0,96.55),19.35)) -> 0 | K102: R3 | L102: =IF(K102<>"",IFERROR(VLOOKUP(K102,Rabattwerte_eintragen!$A$3:$C$24,3,FALSE),0),0) -> 0 | M102: =IF(H102<>"",H102*(1-L102)+I102*(1-VLOOKUP("A1",Rabattwerte_eintragen!$A$3:$C$26,3,FALSE)),"") -> 96.25 | O102: =IF(Q102<>"",HYPERLINK(Q102, "Artikel online anzeigen"),"") -> Artikel online anzeigen | Q102: https://www.thermokon.de/direct/de-ch/products/novos-3-ptd-weiss-temp-pt1000-1-3-din-10-kohm | T102: 85365019 | U102: Einsatzzweck: Raumklimasteuerung, Messwerterfassung Bedienfunktionen: Sollwertverstellung Temperatur, Präsenzmeldung Bedienelemente: Potentiometer (P), 10 kOhm, Beschriftung {- [Skala] +}, Taster (T), mit LED 24 V =, Farbe konfigurierbar über Jumper (7 Farben) Sensor: Pt1000 1/3 DIN Temperatureinsatzbereich: -35..+70 °C Spannungsversorgung: 15..35 V = SELV, 19..29 V ~ SELV Anzeige: RGB-LED Gehäuse: PC V0, Farbe: reinweiss, Schutzart: IP20 Montage: Aufputz auf Standard UP-Dose (Ø=60 mm), flach auf Untergrund, kleben oder schrauben, Gehäuseunterteil kann separat vom Gehäuseoberteil vormontiert und verdrahtet werden
A103: 1252 | B103: NOVOS 3 P weiss Temp Ni1000, 10 kOhm | C103: Raumbediengerät Temperatur | D103: NOVOS 3 x | E103: Raumanwendung | F103: Raumbediengeräte | G103: 729864 | H103: 63.9 | I103: =IF(R103="UP",VLOOKUP($I$1,Änderungen!$F$1:$G$4,2,FALSE),IF(OR(ISERROR(FIND("NOVOS",B103)),ISERROR(FIND("Design ",B103))),IF(OR(ISERROR(FIND("thanos EVO",B103)),ISERROR(FIND("Design ",B103))),0,96.55),19.35)) -> 0 | K103: R3 | L103: =IF(K103<>"",IFERROR(VLOOKUP(K103,Rabattwerte_eintragen!$A$3:$C$24,3,FALSE),0),0) -> 0 | M103: =IF(H103<>"",H103*(1-L103)+I103*(1-VLOOKUP("A1",Rabattwerte_eintragen!$A$3:$C$26,3,FALSE)),"") -> 63.9 | O103: =IF(Q103<>"",HYPERLINK(Q103, "Artikel online anzeigen"),"") -> Artikel online anzeigen | Q103: https://www.thermokon.de/direct/de-ch/products/novos-3-p-weiss-temp-ni1000-10-kohm | T103: 85365019 | U103: Einsatzzweck: Raumklimasteuerung, Messwerterfassung Bedienfunktionen: Sollwertverstellung Temperatur Bedienelemente: Potentiometer (P), 10 kOhm, Beschriftung {- [Skala] +} Sensor: Ni1000 DIN Kl. B Temperatureinsatzbereich: -35..+70 °C, Genauigkeit Temperatur: ±0,4 K (typ. bei 0 °C) Gehäuse: NOVOS 3, PC V0, Farbe: reinweiss, Schutzart: IP20 Montage: Aufputz auf Standard UP-Dose (Ø=60 mm), flach auf Untergrund, kleben oder schrauben, Gehäuseunterteil kann separat vom Gehäuseoberteil vormontiert und verdrahtet werden
A104: 1287 | B104: NOVOS 3 TD weiss Temp Ni1000 | C104: Raumbediengerät Temperatur | D104: NOVOS 3 x | E104: Raumanwendung | F104: Raumbediengeräte | G104: 729871 | H104: 71.15 | I104: =IF(R104="UP",VLOOKUP($I$1,Änderungen!$F$1:$G$4,2,FALSE),IF(OR(ISERROR(FIND("NOVOS",B104)),ISERROR(FIND("Design ",B104))),IF(OR(ISERROR(FIND("thanos EVO",B104)),ISERROR(FIND("Design ",B104))),0,96.55),19.35)) -> 0 | K104: R3 | L104: =IF(K104<>"",IFERROR(VLOOKUP(K104,Rabattwerte_eintragen!$A$3:$C$24,3,FALSE),0),0) -> 0 | M104: =IF(H104<>"",H104*(1-L104)+I104*(1-VLOOKUP("A1",Rabattwerte_eintragen!$A$3:$C$26,3,FALSE)),"") -> 71.15 | O104: =IF(Q104<>"",HYPERLINK(Q104, "Artikel online anzeigen"),"") -> Artikel online anzeigen | Q104: https://www.thermokon.de/direct/de-ch/products/novos-3-td-weiss-temp-ni1000 | T104: 85365019 | U104: Einsatzzweck: Raumklimasteuerung, Messwerterfassung Bedienfunktionen: Präsenzmeldung Bedienelemente: Taster (T), mit LED 24 V =, Farbe konfigurierbar über Jumper (7 Farben) Sensor: Ni1000 DIN Kl. B Temperatureinsatzbereich: -35..+70 °C, Genauigkeit Temperatur: ±0,4 K (typ. bei 0 °C) Spannungsversorgung: 15..35 V = SELV, 19..29 V ~ SELV Anzeige: RGB-LED Gehäuse: PC V0, Farbe: reinweiss, Schutzart: IP20 Montage: Aufputz auf Standard UP-Dose (Ø=60 mm), flach auf Untergrund, kleben oder schrauben, Gehäuseunterteil kann separat vom Gehäuseoberteil vormontiert und verdrahtet werden
A105: 1315 | B105: NOVOS 3 PTD weiss Temp Ni1000, 10 kOhm | C105: Raumbediengerät Temperatur | D105: NOVOS 3 x | E105: Raumanwendung | F105: Raumbediengeräte | G105: 729895 | H105: 90.9 | I105: =IF(R105="UP",VLOOKUP($I$1,Änderungen!$F$1:$G$4,2,FALSE),IF(OR(ISERROR(FIND("NOVOS",B105)),ISERROR(FIND("Design ",B105))),IF(OR(ISERROR(FIND("thanos EVO",B105)),ISERROR(FIND("Design ",B105))),0,96.55),19.35)) -> 0 | K105: R3 | L105: =IF(K105<>"",IFERROR(VLOOKUP(K105,Rabattwerte_eintragen!$A$3:$C$24,3,FALSE),0),0) -> 0 | M105: =IF(H105<>"",H105*(1-L105)+I105*(1-VLOOKUP("A1",Rabattwerte_eintragen!$A$3:$C$26,3,FALSE)),"") -> 90.9 | O105: =IF(Q105<>"",HYPERLINK(Q105, "Artikel online anzeigen"),"") -> Artikel online anzeigen | Q105: https://www.thermokon.de/direct/de-ch/products/novos-3-ptd-weiss-temp-ni1000-10-kohm | T105: 85365019 | U105: Einsatzzweck: Raumklimasteuerung, Messwerterfassung Bedienfunktionen: Sollwertverstellung Temperatur, Präsenzmeldung Bedienelemente: Potentiometer (P), 10 kOhm, Beschriftung {- [Skala] +}, Taster (T), mit LED 24 V =, Farbe konfigurierbar über Jumper (7 Farben) Sensor: Ni1000 DIN Kl. B Temperatureinsatzbereich: -35..+70 °C, Genauigkeit Temperatur: ±0,4 K (typ. bei 0 °C) Spannungsversorgung: 15..35 V = SELV, 19..29 V ~ SELV Anzeige: RGB-LED Gehäuse: PC V0, Farbe: reinweiss, Schutzart: IP20 Montage: Aufputz auf Standard UP-Dose (Ø=60 mm), flach auf Untergrund, kleben oder schrauben, Gehäuseunterteil kann separat vom Gehäuseoberteil vormontiert und verdrahtet werden
A106: 1253 | B106: NOVOS 3 P weiss Temp Ni1000TK5000, 10 kOhm | C106: Raumbediengerät Temperatur | D106: NOVOS 3 x | E106: Raumanwendung | F106: Raumbediengeräte | G106: 729932 | H106: 69.25 | I106: =IF(R106="UP",VLOOKUP($I$1,Änderungen!$F$1:$G$4,2,FALSE),IF(OR(ISERROR(FIND("NOVOS",B106)),ISERROR(FIND("Design ",B106))),IF(OR(ISERROR(FIND("thanos EVO",B106)),ISERROR(FIND("Design ",B106))),0,96.55),19.35)) -> 0 | K106: R3 | L106: =IF(K106<>"",IFERROR(VLOOKUP(K106,Rabattwerte_eintragen!$A$3:$C$24,3,FALSE),0),0) -> 0 | M106: =IF(H106<>"",H106*(1-L106)+I106*(1-VLOOKUP("A1",Rabattwerte_eintragen!$A$3:$C$26,3,FALSE)),"") -> 69.25 | O106: =IF(Q106<>"",HYPERLINK(Q106, "Artikel online anzeigen"),"") -> Artikel online anzeigen | Q106: https://www.thermokon.de/direct/de-ch/products/novos-3-p-weiss-temp-ni1000tk5000-10-kohm | T106: 85365019 | U106: Einsatzzweck: Raumklimasteuerung, Messwerterfassung Bedienfunktionen: Sollwertverstellung Temperatur Bedienelemente: Potentiometer (P), 10 kOhm, Beschriftung {- [Skala] +} Sensor: Ni1000TK5000 Temperatureinsatzbereich: -35..+70 °C, Genauigkeit Temperatur: ±0,4 K (typ. bei 21 °C) Gehäuse: NOVOS 3, PC V0, Farbe: reinweiss, Schutzart: IP20 Montage: Aufputz auf Standard UP-Dose (Ø=60 mm), flach auf Untergrund, kleben oder schrauben, Gehäuseunterteil kann separat vom Gehäuseoberteil vormontiert und verdrahtet werden
A107: 1288 | B107: NOVOS 3 TD weiss Temp Ni1000TK5000 | C107: Raumbediengerät Temperatur | D107: NOVOS 3 x | E107: Raumanwendung | F107: Raumbediengeräte | G107: 729949 | H107: 76.5 | I107: =IF(R107="UP",VLOOKUP($I$1,Änderungen!$F$1:$G$4,2,FALSE),IF(OR(ISERROR(FIND("NOVOS",B107)),ISERROR(FIND("Design ",B107))),IF(OR(ISERROR(FIND("thanos EVO",B107)),ISERROR(FIND("Design ",B107))),0,96.55),19.35)) -> 0 | K107: R3 | L107: =IF(K107<>"",IFERROR(VLOOKUP(K107,Rabattwerte_eintragen!$A$3:$C$24,3,FALSE),0),0) -> 0 | M107: =IF(H107<>"",H107*(1-L107)+I107*(1-VLOOKUP("A1",Rabattwerte_eintragen!$A$3:$C$26,3,FALSE)),"") -> 76.5 | O107: =IF(Q107<>"",HYPERLINK(Q107, "Artikel online anzeigen"),"") -> Artikel online anzeigen | Q107: https://www.thermokon.de/direct/de-ch/products/novos-3-td-weiss-temp-ni1000tk5000 | T107: 85365019 | U107: Einsatzzweck: Raumklimasteuerung, Messwerterfassung Bedienfunktionen: Präsenzmeldung Bedienelemente: Taster (T), mit LED 24 V =, Farbe konfigurierbar über Jumper (7 Farben) Sensor: Ni1000TK5000 Temperatureinsatzbereich: -35..+70 °C, Genauigkeit Temperatur: ±0,4 K (typ. bei 0 °C) Spannungsversorgung: 15..35 V = SELV, 19..29 V ~ SELV Anzeige: RGB-LED Gehäuse: PC V0, Farbe: reinweiss, Schutzart: IP20 Montage: Aufputz auf Standard UP-Dose (Ø=60 mm), flach auf Untergrund, kleben oder schrauben, Gehäuseunterteil kann separat vom Gehäuseoberteil vormontiert und verdrahtet werden
A108: 1316 | B108: NOVOS 3 PTD weiss Temp Ni1000TK5000, 10 kOhm | C108: Raumbediengerät Temperatur | D108: NOVOS 3 x | E108: Raumanwendung | F108: Raumbediengeräte | G108: 729956 | H108: 96.25 | I108: =IF(R108="UP",VLOOKUP($I$1,Änderungen!$F$1:$G$4,2,FALSE),IF(OR(ISERROR(FIND("NOVOS",B108)),ISERROR(FIND("Design ",B108))),IF(OR(ISERROR(FIND("thanos EVO",B108)),ISERROR(FIND("Design ",B108))),0,96.55),19.35)) -> 0 | K108: R3 | L108: =IF(K108<>"",IFERROR(VLOOKUP(K108,Rabattwerte_eintragen!$A$3:$C$24,3,FALSE),0),0) -> 0 | M108: =IF(H108<>"",H108*(1-L108)+I108*(1-VLOOKUP("A1",Rabattwerte_eintragen!$A$3:$C$26,3,FALSE)),"") -> 96.25 | O108: =IF(Q108<>"",HYPERLINK(Q108, "Artikel online anzeigen"),"") -> Artikel online anzeigen | Q108: https://www.thermokon.de/direct/de-ch/products/novos-3-ptd-weiss-temp-ni1000tk5000-10-kohm | T108: 85365019 | U108: Einsatzzweck: Raumklimasteuerung, Messwerterfassung Bedienfunktionen: Sollwertverstellung Temperatur, Präsenzmeldung Bedienelemente: Potentiometer (P), 10 kOhm, Beschriftung {- [Skala] +}, Taster (T), mit LED 24 V =, Farbe konfigurierbar über Jumper (7 Farben) Sensor: Ni1000TK5000 Temperatureinsatzbereich: -35..+70 °C, Genauigkeit Temperatur: ±0,4 K (typ. bei 0 °C) Spannungsversorgung: 15..35 V = SELV, 19..29 V ~ SELV Anzeige: RGB-LED Gehäuse: PC V0, Farbe: reinweiss, Schutzart: IP20 Montage: Aufputz auf Standard UP-Dose (Ø=60 mm), flach auf Untergrund, kleben oder schrauben, Gehäuseunterteil kann separat vom Gehäuseoberteil vormontiert und verdrahtet werden
A109: 1254 | B109: NOVOS 3 P weiss Temp NTC10k, 10 kOhm | C109: Raumbediengerät Temperatur | D109: NOVOS 3 x | E109: Raumanwendung | F109: Raumbediengeräte | G109: 729994 | H109: 59.15 | I109: =IF(R109="UP",VLOOKUP($I$1,Änderungen!$F$1:$G$4,2,FALSE),IF(OR(ISERROR(FIND("NOVOS",B109)),ISERROR(FIND("Design ",B109))),IF(OR(ISERROR(FIND("thanos EVO",B109)),ISERROR(FIND("Design ",B109))),0,96.55),19.35)) -> 0 | K109: R3 | L109: =IF(K109<>"",IFERROR(VLOOKUP(K109,Rabattwerte_eintragen!$A$3:$C$24,3,FALSE),0),0) -> 0 | M109: =IF(H109<>"",H109*(1-L109)+I109*(1-VLOOKUP("A1",Rabattwerte_eintragen!$A$3:$C$26,3,FALSE)),"") -> 59.15 | O109: =IF(Q109<>"",HYPERLINK(Q109, "Artikel online anzeigen"),"") -> Artikel online anzeigen | Q109: https://www.thermokon.de/direct/de-ch/products/novos-3-p-weiss-temp-ntc10k-10-kohm | T109: 85365019 | U109: Einsatzzweck: Raumklimasteuerung, Messwerterfassung Bedienfunktionen: Sollwertverstellung Temperatur Bedienelemente: Potentiometer (P), 10 kOhm, Beschriftung {- [Skala] +} Sensor: NTC10k Temperatureinsatzbereich: -35..+70 °C, Genauigkeit Temperatur: ±0,2 K (typ. bei 25 °C, temperaturabhängig) Gehäuse: NOVOS 3, PC V0, Farbe: reinweiss, Schutzart: IP20 Montage: Aufputz auf Standard UP-Dose (Ø=60 mm), flach auf Untergrund, kleben oder schrauben, Gehäuseunterteil kann separat vom Gehäuseoberteil vormontiert und verdrahtet werden
... A111: 1317 | B111: NOVOS 3 PTD weiss Temp NTC10k, 10 kOhm | C111: Raumbediengerät Temperatur | D111: NOVOS 3 x | E111: Raumanwendung | F111: Raumbediengeräte | G111: 730020 | H111: 86.15 | I111: =IF(R111="UP",VLOOKUP($I$1,Änderungen!$F$1:$G$4,2,FALSE),IF(OR(ISERROR(FIND("NOVOS",B111)),ISERROR(FIND("Design ",B111))),IF(OR(ISERROR(FIND("thanos EVO",B111)),ISERROR(FIND("Design ",B111))),0,96.55),19.35)) -> 0 | K111: R3 | L111: =IF(K111<>"",IFERROR(VLOOKUP(K111,Rabattwerte_eintragen!$A$3:$C$24,3,FALSE),0),0) -> 0 | M111: =IF(H111<>"",H111*(1-L111)+I111*(1-VLOOKUP("A1",Rabattwerte_eintragen!$A$3:$C$26,3,FALSE)),"") -> 86.15 | O111: =IF(Q111<>"",HYPERLINK(Q111, "Artikel online anzeigen"),"") -> Artikel online anzeigen | Q111: https://www.thermokon.de/direct/de-ch/products/novos-3-ptd-weiss-temp-ntc10k-10-kohm | T111: 85365019 | U111: Einsatzzweck: Raumklimasteuerung, Messwerterfassung Bedienfunktionen: Sollwertverstellung Temperatur, Präsenzmeldung Bedienelemente: Potentiometer (P), 10 kOhm, Beschriftung {- [Skala] +}, Taster (T), mit LED 24 V =, Farbe konfigurierbar über Jumper (7 Farben) Sensor: NTC10k Temperatureinsatzbereich: -35..+70 °C, Genauigkeit Temperatur: ±0,2 K (typ. bei 25 °C, temperaturabhängig) Spannungsversorgung: 15..35 V = SELV, 19..29 V ~ SELV Anzeige: RGB-LED Gehäuse: PC V0, Farbe: reinweiss, Schutzart: IP20 Montage: Aufputz auf Standard UP-Dose (Ø=60 mm), flach auf Untergrund, kleben oder schrauben, Gehäuseunterteil kann separat vom Gehäuseoberteil vormontiert und verdrahtet werden
A112: 1326 | B112: NOVOS 3 P weiss Temp TRV, Poti_aktiv | C112: Raumbediengerät Temperatur | D112: NOVOS 3 x | E112: Raumanwendung | F112: Raumbediengeräte | G112: 734691 | H112: 144.75 | I112: =IF(R112="UP",VLOOKUP($I$1,Änderungen!$F$1:$G$4,2,FALSE),IF(OR(ISERROR(FIND("NOVOS",B112)),ISERROR(FIND("Design ",B112))),IF(OR(ISERROR(FIND("thanos EVO",B112)),ISERROR(FIND("Design ",B112))),0,96.55),19.35)) -> 0 | J112: ja | K112: R3 | L112: =IF(K112<>"",IFERROR(VLOOKUP(K112,Rabattwerte_eintragen!$A$3:$C$24,3,FALSE),0),0) -> 0 | M112: =IF(H112<>"",H112*(1-L112)+I112*(1-VLOOKUP("A1",Rabattwerte_eintragen!$A$3:$C$26,3,FALSE)),"") -> 144.75 | O112: =IF(Q112<>"",HYPERLINK(Q112, "Artikel online anzeigen"),"") -> Artikel online anzeigen | Q112: https://www.thermokon.de/direct/de-ch/products/novos-3-p-weiss-temp-trv-poti-aktiv | T112: 85365019 | U112: Einsatzzweck: Raumklimasteuerung, Messwerterfassung Bedienfunktionen: Sollwertverstellung Temperatur Bedienelemente: Potentiometer (P), aktiv 0..10 V, Beschriftung {- [Skala] +} Ausgang Spannung: 0..10 V oder 0..5 V, einstellbar über Jumper, live-zero-Konfiguration über App oder uConfig, min. Last 10 kΩ Temperatureinsatzbereich: -35..+70 °C, Genauigkeit Temperatur: ±0,5 K (typ. bei 21 °C) im Standardmessbereich Spannungsversorgung: 15..35 V = SELV, 19..29 V ~ SELV Gehäuse: PC V0, Farbe: reinweiss, Schutzart: IP20 Montage: Aufputz auf Standard UP-Dose (Ø=60 mm), flach auf Untergrund, kleben oder schrauben, Gehäuseunterteil kann separat vom Gehäuseoberteil vormontiert und verdrahtet werden
A113: 1329 | B113: NOVOS 3 TD weiss Temp TRV | C113: Raumbediengerät Temperatur | D113: NOVOS 3 x | E113: Raumanwendung | F113: Raumbediengeräte | G113: 734714 | H113: 152 | I113: =IF(R113="UP",VLOOKUP($I$1,Änderungen!$F$1:$G$4,2,FALSE),IF(OR(ISERROR(FIND("NOVOS",B113)),ISERROR(FIND("Design ",B113))),IF(OR(ISERROR(FIND("thanos EVO",B113)),ISERROR(FIND("Design ",B113))),0,96.55),19.35)) -> 0 | K113: R3 | L113: =IF(K113<>"",IFERROR(VLOOKUP(K113,Rabattwerte_eintragen!$A$3:$C$24,3,FALSE),0),0) -> 0 | M113: =IF(H113<>"",H113*(1-L113)+I113*(1-VLOOKUP("A1",Rabattwerte_eintragen!$A$3:$C$26,3,FALSE)),"") -> 152 | O113: =IF(Q113<>"",HYPERLINK(Q113, "Artikel online anzeigen"),"") -> Artikel online anzeigen | Q113: https://www.thermokon.de/direct/de-ch/products/novos-3-td-weiss-temp-trv | T113: 85365019 | U113: Einsatzzweck: Raumklimasteuerung, Messwerterfassung Bedienfunktionen: Präsenzmeldung Bedienelemente: Taster (T), mit LED 24 V =, Farbe konfigurierbar über Jumper (7 Farben) Ausgang Spannung: 0..10 V oder 0..5 V, einstellbar über Jumper, live-zero-Konfiguration über App oder uConfig, min. Last 10 kΩ Temperatureinsatzbereich: -35..+70 °C, Genauigkeit Temperatur: ±0,5 K (typ. bei 21 °C) im Standardmessbereich Spannungsversorgung: 15..35 V = SELV, 19..29 V ~ SELV Anzeige: RGB-LED Gehäuse: PC V0, Farbe: reinweiss, Schutzart: IP20 Montage: Aufputz auf Standard UP-Dose (Ø=60 mm), flach auf Untergrund, kleben oder schrauben, Gehäuseunterteil kann separat vom Gehäuseoberteil vormontiert und verdrahtet werden
A114: 1330 | B114: NOVOS 3 PTD weiss Temp TRV, Poti_aktiv | C114: Raumbediengerät Temperatur | D114: NOVOS 3 x | E114: Raumanwendung | F114: Raumbediengeräte | G114: 734776 | H114: 171.75 | I114: =IF(R114="UP",VLOOKUP($I$1,Änderungen!$F$1:$G$4,2,FALSE),IF(OR(ISERROR(FIND("NOVOS",B114)),ISERROR(FIND("Design ",B114))),IF(OR(ISERROR(FIND("thanos EVO",B114)),ISERROR(FIND("Design ",B114))),0,96.55),19.35)) -> 0 | K114: R3 | L114: =IF(K114<>"",IFERROR(VLOOKUP(K114,Rabattwerte_eintragen!$A$3:$C$24,3,FALSE),0),0) -> 0 | M114: =IF(H114<>"",H114*(1-L114)+I114*(1-VLOOKUP("A1",Rabattwerte_eintragen!$A$3:$C$26,3,FALSE)),"") -> 171.75 | O114: =IF(Q114<>"",HYPERLINK(Q114, "Artikel online anzeigen"),"") -> Artikel online anzeigen | Q114: https://www.thermokon.de/direct/de-ch/products/novos-3-ptd-weiss-temp-trv-poti-aktiv | T114: 85365019 | U114: Einsatzzweck: Raumklimasteuerung, Messwerterfassung Bedienfunktionen: Sollwertverstellung Temperatur Bedienelemente: Potentiometer (P), aktiv 0..10 V, Beschriftung {- [Skala] +}, Taster (T), mit LED 24 V =, Farbe konfigurierbar über Jumper (7 Farben) Ausgang Spannung: 0..10 V oder 0..5 V, einstellbar über Jumper, live-zero-Konfiguration über App oder uConfig, min. Last 10 kΩ Temperatureinsatzbereich: -35..+70 °C, Genauigkeit Temperatur: ±0,5 K (typ. bei 21 °C) im Standardmessbereich Spannungsversorgung: 15..35 V = SELV, 19..29 V ~ SELV Anzeige: RGB-LED Gehäuse: PC V0, Farbe: reinweiss, Schutzart: IP20 Montage: Aufputz auf Standard UP-Dose (Ø=60 mm), flach auf Untergrund, kleben oder schrauben, Gehäuseunterteil kann separat vom Gehäuseoberteil vormontiert und verdrahtet werden
A115: 1332 | B115: NOVOS 3 P weiss Temp RS485 BACnet (MS/TP) | C115: Raumbediengerät Temperatur | D115: NOVOS 3 x | E115: Raumanwendung | F115: Raumbediengeräte | G115: 754453 | H115: 197.5 | I115: =IF(R115="UP",VLOOKUP($I$1,Änderungen!$F$1:$G$4,2,FALSE),IF(OR(ISERROR(FIND("NOVOS",B115)),ISERROR(FIND("Design ",B115))),IF(OR(ISERROR(FIND("thanos EVO",B115)),ISERROR(FIND("Design ",B115))),0,96.55),19.35)) -> 0 | K115: R2 | L115: =IF(K115<>"",IFERROR(VLOOKUP(K115,Rabattwerte_eintragen!$A$3:$C$24,3,FALSE),0),0) -> 0 | M115: =IF(H115<>"",H115*(1-L115)+I115*(1-VLOOKUP("A1",Rabattwerte_eintragen!$A$3:$C$26,3,FALSE)),"") -> 197.5 | O115: =IF(Q115<>"",HYPERLINK(Q115, "Artikel online anzeigen"),"") -> Artikel online anzeigen | Q115: https://www.thermokon.de/direct/de-ch/products/novos-3-p-weiss-temp-rs485-bacnet-ms-tp | T115: 85365019 | U115: Einsatzzweck: Raumklimasteuerung, Messwerterfassung Bedienfunktionen: Sollwertverstellung Temperatur Bedienelemente: Potentiometer (P), Beschriftung {- [Skala] +} Netzwerktechnologie: RS485 BACnet (MS/TP) Temperatureinsatzbereich: -35..+70 °C, Genauigkeit Temperatur: ±0,5 K (typ. bei 21 °C) im Standardmessbereich Eingang: 1x Eingang für potentialfreien Kontakt Spannungsversorgung: 15..35 V = SELV, 19..29 V ~ SELV Gehäuse: PC V0, Farbe: reinweiss, Schutzart: IP20 Montage: Aufputz auf Standard UP-Dose (Ø=60 mm), flach auf Untergrund, kleben oder schrauben, Gehäuseunterteil kann separat vom Gehäuseoberteil vormontiert und verdrahtet werden
A116: 1335 | B116: NOVOS 3 TD weiss Temp RS485 BACnet (MS/TP) | C116: Raumbediengerät Temperatur | D116: NOVOS 3 x | E116: Raumanwendung | F116: Raumbediengeräte | G116: 754460 | H116: 206.1 | I116: =IF(R116="UP",VLOOKUP($I$1,Änderungen!$F$1:$G$4,2,FALSE),IF(OR(ISERROR(FIND("NOVOS",B116)),ISERROR(FIND("Design ",B116))),IF(OR(ISERROR(FIND("thanos EVO",B116)),ISERROR(FIND("Design ",B116))),0,96.55),19.35)) -> 0 | K116: R2 | L116: =IF(K116<>"",IFERROR(VLOOKUP(K116,Rabattwerte_eintragen!$A$3:$C$24,3,FALSE),0),0) -> 0 | M116: =IF(H116<>"",H116*(1-L116)+I116*(1-VLOOKUP("A1",Rabattwerte_eintragen!$A$3:$C$26,3,FALSE)),"") -> 206.1 | O116: =IF(Q116<>"",HYPERLINK(Q116, "Artikel online anzeigen"),"") -> Artikel online anzeigen | Q116: https://www.thermokon.de/direct/de-ch/products/novos-3-td-weiss-temp-rs485-bacnet-ms-tp | T116: 85365019 | U116: Einsatzzweck: Raumklimasteuerung, Messwerterfassung Bedienfunktionen: Präsenzmeldung Bedienelemente: Taster (T), mit LED 24 V =, Farbe konfigurierbar über Jumper (7 Farben) Netzwerktechnologie: RS485 BACnet (MS/TP) Temperatureinsatzbereich: -35..+70 °C, Genauigkeit Temperatur: ±0,5 K (typ. bei 21 °C) im Standardmessbereich Eingang: 1x Eingang für potentialfreien Kontakt Spannungsversorgung: 15..35 V = SELV, 19..29 V ~ SELV Anzeige: RGB-LED Gehäuse: PC V0, Farbe: reinweiss, Schutzart: IP20 Montage: Aufputz auf Standard UP-Dose (Ø=60 mm), flach auf Untergrund, kleben oder schrauben, Gehäuseunterteil kann separat vom Gehäuseoberteil vormontiert und verdrahtet werden
A117: 1339 | B117: NOVOS 3 PTD weiss Temp RS485 BACnet (MS/TP) | C117: Raumbediengerät Temperatur | D117: NOVOS 3 x | E117: Raumanwendung | F117: Raumbediengeräte | G117: 754477 | H117: 229.6 | I117: =IF(R117="UP",VLOOKUP($I$1,Änderungen!$F$1:$G$4,2,FALSE),IF(OR(ISERROR(FIND("NOVOS",B117)),ISERROR(FIND("Design ",B117))),IF(OR(ISERROR(FIND("thanos EVO",B117)),ISERROR(FIND("Design ",B117))),0,96.55),19.35)) -> 0 | K117: R2 | L117: =IF(K117<>"",IFERROR(VLOOKUP(K117,Rabattwerte_eintragen!$A$3:$C$24,3,FALSE),0),0) -> 0 | M117: =IF(H117<>"",H117*(1-L117)+I117*(1-VLOOKUP("A1",Rabattwerte_eintragen!$A$3:$C$26,3,FALSE)),"") -> 229.6 | O117: =IF(Q117<>"",HYPERLINK(Q117, "Artikel online anzeigen"),"") -> Artikel online anzeigen | Q117: https://www.thermokon.de/direct/de-ch/products/novos-3-ptd-weiss-temp-rs485-bacnet-ms-tp | T117: 85365019 | U117: Einsatzzweck: Raumklimasteuerung, Messwerterfassung Bedienfunktionen: Sollwertverstellung Temperatur, Präsenzmeldung Bedienelemente: Potentiometer (P), Beschriftung {- [Skala] +}, Taster (T), mit LED 24 V =, Farbe konfigurierbar über Jumper (7 Farben) Netzwerktechnologie: RS485 BACnet (MS/TP) Temperatureinsatzbereich: -35..+70 °C, Genauigkeit Temperatur: ±0,5 K (typ. bei 21 °C) im Standardmessbereich Eingang: 1x Eingang für potentialfreien Kontakt Spannungsversorgung: 15..35 V = SELV, 19..29 V ~ SELV Anzeige: RGB-LED Gehäuse: PC V0, Farbe: reinweiss, Schutzart: IP20 Montage: Aufputz auf Standard UP-Dose (Ø=60 mm), flach auf Untergrund, kleben oder schrauben, Gehäuseunterteil kann separat vom Gehäuseoberteil vormontiert und verdrahtet werden
A118: 1333 | B118: NOVOS 3 P weiss Temp RS485 Modbus | C118: Raumbediengerät Temperatur | D118: NOVOS 3 x | E118: Raumanwendung | F118: Raumbediengeräte | G118: 734851 | H118: 197.5 | I118: =IF(R118="UP",VLOOKUP($I$1,Änderungen!$F$1:$G$4,2,FALSE),IF(OR(ISERROR(FIND("NOVOS",B118)),ISERROR(FIND("Design ",B118))),IF(OR(ISERROR(FIND("thanos EVO",B118)),ISERROR(FIND("Design ",B118))),0,96.55),19.35)) -> 0 | K118: R2 | L118: =IF(K118<>"",IFERROR(VLOOKUP(K118,Rabattwerte_eintragen!$A$3:$C$24,3,FALSE),0),0) -> 0 | M118: =IF(H118<>"",H118*(1-L118)+I118*(1-VLOOKUP("A1",Rabattwerte_eintragen!$A$3:$C$26,3,FALSE)),"") -> 197.5 | O118: =IF(Q118<>"",HYPERLINK(Q118, "Artikel online anzeigen"),"") -> Artikel online anzeigen | Q118: https://www.thermokon.de/direct/de-ch/products/novos-3-p-weiss-temp-rs485-modbus | T118: 85365019 | U118: Einsatzzweck: Raumklimasteuerung, Messwerterfassung Bedienfunktionen: Sollwertverstellung Temperatur Bedienelemente: Potentiometer (P), Beschriftung {- [Skala] +} Netzwerktechnologie: RS485 Modbus Temperatureinsatzbereich: -35..+70 °C, Genauigkeit Temperatur: ±0,5 K (typ. bei 21 °C) im Standardmessbereich Eingang: 1x Eingang für potentialfreien Kontakt Spannungsversorgung: 15..35 V = SELV, 19..29 V ~ SELV Gehäuse: PC V0, Farbe: reinweiss, Schutzart: IP20 Montage: Aufputz auf Standard UP-Dose (Ø=60 mm), flach auf Untergrund, kleben oder schrauben, Gehäuseunterteil kann separat vom Gehäuseoberteil vormontiert und verdrahtet werden Lieferumfang: inkl. Klebefolie zur Befestigung
A119: 1336 | B119: NOVOS 3 TD weiss Temp RS485 Modbus | C119: Raumbediengerät Temperatur | D119: NOVOS 3 x | E119: Raumanwendung | F119: Raumbediengeräte | G119: 734882 | H119: 206.1 | I119: =IF(R119="UP",VLOOKUP($I$1,Änderungen!$F$1:$G$4,2,FALSE),IF(OR(ISERROR(FIND("NOVOS",B119)),ISERROR(FIND("Design ",B119))),IF(OR(ISERROR(FIND("thanos EVO",B119)),ISERROR(FIND("Design ",B119))),0,96.55),19.35)) -> 0 | K119: R2 | L119: =IF(K119<>"",IFERROR(VLOOKUP(K119,Rabattwerte_eintragen!$A$3:$C$24,3,FALSE),0),0) -> 0 | M119: =IF(H119<>"",H119*(1-L119)+I119*(1-VLOOKUP("A1",Rabattwerte_eintragen!$A$3:$C$26,3,FALSE)),"") -> 206.1 | O119: =IF(Q119<>"",HYPERLINK(Q119, "Artikel online anzeigen"),"") -> Artikel online anzeigen | Q119: https://www.thermokon.de/direct/de-ch/products/novos-3-td-weiss-temp-rs485-modbus | T119: 85365019 | U119: Einsatzzweck: Raumklimasteuerung, Messwerterfassung Bedienfunktionen: Präsenzmeldung Bedienelemente: Taster (T), mit LED 24 V =, Farbe konfigurierbar über Jumper (7 Farben) Netzwerktechnologie: RS485 Modbus Temperatureinsatzbereich: -35..+70 °C, Genauigkeit Temperatur: ±0,5 K (typ. bei 21 °C) im Standardmessbereich Eingang: 1x Eingang für potentialfreien Kontakt Spannungsversorgung: 15..35 V = SELV, 19..29 V ~ SELV Anzeige: RGB-LED Gehäuse: PC V0, Farbe: reinweiss, Schutzart: IP20 Montage: Aufputz auf Standard UP-Dose (Ø=60 mm), flach auf Untergrund, kleben oder schrauben, Gehäuseunterteil kann separat vom Gehäuseoberteil vormontiert und verdrahtet werden Lieferumfang: inkl. Klebefolie zur Befestigung
