Workbook

Sheet Katalogartikel
B1: Preisliste 2026 Gültig bis 31.12.2026 Diese Preisliste ist nicht rechtsverbindlich und hat daher einen informativen Charakter. Es gelten ausschließlich unsere Angebote und Auftragsbestätigungen. Fehler und Irrtümer vorbehalten. | D1: FALSE | H1: Rahmentyp für Optionspreise wählen alle Preise CHF | I1: 1 | K1: 46094 | M1: alle Preise CHF | O1: gültig bis 31.12.2026
A2: PD_CODE | B2: Bezeichnung1 | C2: Bezeichnung2 | D2: Produktfamilie | E2: Kategorie | F2: Unter-Kategorie | G2: Produktnummer | H2: Preisliste 2026 gültig ab 01.04.2026 | I2: + Options- preis | J2: auf Lager | K2: Produktgruppe | L2: Rabatt (gem. Einstellung) | M2: Nettopreis eingestellter Rabatt | N2: Katalog (online) ab Seite | O2: DIRECT-Link | P2: angepasst | Q2: Weblink | S2: Check | T2: Zolltarifnummer | U2: Langtext
A3: 9031 | B3: thanos EVO weiss Temp RS485 BACnet (MS/TP) | C3: Raumbediengerät Temperatur | D3: thanos EVO | E3: Raumanwendung | F3: Raumbediengeräte | G3: 766630 | H3: 684.3 | I3: =IF(R3="UP",VLOOKUP($I$1,Änderungen!$F$1:$G$4,2,FALSE),IF(OR(ISERROR(FIND("NOVOS",B3)),ISERROR(FIND("Design ",B3))),IF(OR(ISERROR(FIND("thanos EVO",B3)),ISERROR(FIND("Design ",B3))),0,96.55),19.35)) -> 0 | K3: R1 | L3: =IF(K3<>"",IFERROR(VLOOKUP(K3,Rabattwerte_eintragen!$A$3:$C$24,3,FALSE),0),0) -> 0 | M3: =IF(H3<>"",H3*(1-L3)+I3*(1-VLOOKUP("A1",Rabattwerte_eintragen!$A$3:$C$26,3,FALSE)),"") -> 684.3 | O3: =IF(Q3<>"",HYPERLINK(Q3, "Artikel online anzeigen"),"") -> Artikel online anzeigen | Q3: https://www.thermokon.de/direct/de-ch/products/thanos-evo-weiss-temp-rs485-bacnet-ms-tp | T3: 85365019 | U3: Einsatzzweck: Raumklimasteuerung, Beleuchtungssteuerung, Szenensteuerung, Beschattungssteuerung, Messwerterfassung Bedienfunktionen: Sollwertverstellung Temperatur, Lüfterstufenverstellung, Präsenzmeldung, Licht ein/aus/dimmen, Jalousie auf/ab/verstellen, Szenen aufrufen, ECO-Funktion, Messwertanzeige und -historie Bedienelemente: kapazitiver Touchscreen Netzwerktechnologie: RS485 BACnet (MS/TP) Temperatureinsatzbereich: 0..+50 °C, Genauigkeit Temperatur: ±0,5 K (typ. bei 21 °C) im Standardmessbereich Eingang: 1x Eingang für potentialfreien Kontakt Spannungsversorgung: 24 V = (±10%) SELV, 24 V ~ (±10%) SELV Anzeige: TFT 4,8", 1120x480 px, kapazitive Touch-Technologie Gehäuse: mit thermischer Entkopplung und Sensorkanal, PC V0, Farbe: reinweiss, Schutzart: IP30 Montage: Aufputz auf Standard UP-Dose (Ø=60 mm), flach auf Untergrund, kleben oder schrauben, Gehäuseunterteil kann separat vom Gehäuseoberteil vormontiert und verdrahtet werden
A4: 9032 | B4: thanos EVO weiss Temp_rH RS485 BACnet (MS/TP) | C4: Raumbediengerät Temperatur, relative Feuchte, absolute Feuchte, Enthalpie, Taupunkt | D4: thanos EVO | E4: Raumanwendung | F4: Raumbediengeräte | G4: 780339 | H4: 748.15 | I4: =IF(R4="UP",VLOOKUP($I$1,Änderungen!$F$1:$G$4,2,FALSE),IF(OR(ISERROR(FIND("NOVOS",B4)),ISERROR(FIND("Design ",B4))),IF(OR(ISERROR(FIND("thanos EVO",B4)),ISERROR(FIND("Design ",B4))),0,96.55),19.35)) -> 0 | K4: R1 | L4: =IF(K4<>"",IFERROR(VLOOKUP(K4,Rabattwerte_eintragen!$A$3:$C$24,3,FALSE),0),0) -> 0 | M4: =IF(H4<>"",H4*(1-L4)+I4*(1-VLOOKUP("A1",Rabattwerte_eintragen!$A$3:$C$26,3,FALSE)),"") -> 748.15 | O4: =IF(Q4<>"",HYPERLINK(Q4, "Artikel online anzeigen"),"") -> Artikel online anzeigen | Q4: https://www.thermokon.de/direct/de-ch/products/thanos-evo-weiss-temp-rh-rs485-bacnet-ms-tp | T4: 85365019 | U4: Einsatzzweck: Raumklimasteuerung, Beleuchtungssteuerung, Szenensteuerung, Beschattungssteuerung, Messwerterfassung Bedienfunktionen: Sollwertverstellung Temperatur, Lüfterstufenverstellung, Präsenzmeldung, Licht ein/aus/dimmen, Jalousie auf/ab/verstellen, Szenen aufrufen, ECO-Funktion, Messwertanzeige und -historie Bedienelemente: kapazitiver Touchscreen Netzwerktechnologie: RS485 BACnet (MS/TP) Temperatureinsatzbereich: 0..+50 °C, Genauigkeit Temperatur: ±0,5 K (typ. bei 21 °C) im Standardmessbereich Messbereich Feuchte: 0..100% rH ohne Betauung, 0..85 KJ/kg Enthalpie, 0..50 | 0..80 g/m³ absolute Feuchte, 0..+50 | -20..+80 °C Taupunkt, optional konfigurierbar, Genauigkeit Feuchte: ±2% zwischen 10..90% rH (typ. bei 21 °C) Eingang: 1x Eingang für potentialfreien Kontakt Spannungsversorgung: 24 V = (±10%) SELV, 24 V ~ (±10%) SELV Anzeige: TFT 4,8", 1120x480 px, kapazitive Touch-Technologie Gehäuse: mit thermischer Entkopplung und Sensorkanal, PC V0, Farbe: reinweiss, Schutzart: IP30 Montage: Aufputz auf Standard UP-Dose (Ø=60 mm), flach auf Untergrund, kleben oder schrauben, Gehäuseunterteil kann separat vom Gehäuseoberteil vormontiert und verdrahtet werden
A5: 9033 | B5: thanos EVO weiss CO2 Temp_rH RS485 BACnet (MS/TP) | C5: Raumbediengerät Temperatur, relative Feuchte, absolute Feuchte, Enthalpie, Taupunkt, CO2 | D5: thanos EVO | E5: Raumanwendung | F5: Raumbediengeräte | G5: 775434 | H5: 843.95 | I5: =IF(R5="UP",VLOOKUP($I$1,Änderungen!$F$1:$G$4,2,FALSE),IF(OR(ISERROR(FIND("NOVOS",B5)),ISERROR(FIND("Design ",B5))),IF(OR(ISERROR(FIND("thanos EVO",B5)),ISERROR(FIND("Design ",B5))),0,96.55),19.35)) -> 0 | K5: R1 | L5: =IF(K5<>"",IFERROR(VLOOKUP(K5,Rabattwerte_eintragen!$A$3:$C$24,3,FALSE),0),0) -> 0 | M5: =IF(H5<>"",H5*(1-L5)+I5*(1-VLOOKUP("A1",Rabattwerte_eintragen!$A$3:$C$26,3,FALSE)),"") -> 843.95 | O5: =IF(Q5<>"",HYPERLINK(Q5, "Artikel online anzeigen"),"") -> Artikel online anzeigen | Q5: https://www.thermokon.de/direct/de-ch/products/thanos-evo-weiss-co2-temp-rh-rs485-bacnet-ms-tp | T5: 85365019 | U5: Einsatzzweck: Raumklimasteuerung, Beleuchtungssteuerung, Szenensteuerung, Beschattungssteuerung, Messwerterfassung Bedienfunktionen: Sollwertverstellung Temperatur, Lüfterstufenverstellung, Präsenzmeldung, Licht ein/aus/dimmen, Jalousie auf/ab/verstellen, Szenen aufrufen, ECO-Funktion, Messwertanzeige und -historie Bedienelemente: kapazitiver Touchscreen Netzwerktechnologie: RS485 BACnet (MS/TP) Temperatureinsatzbereich: 0..+50 °C, Genauigkeit Temperatur: ±0,5 K (typ. bei 21 °C) im Standardmessbereich Messbereich Feuchte: 0..100% rH ohne Betauung, 0..85 KJ/kg Enthalpie, 0..50 | 0..80 g/m³ absolute Feuchte, 0..+50 | -20..+80 °C Taupunkt, optional konfigurierbar, Genauigkeit Feuchte: ±2% zwischen 10..90% rH (typ. bei 21 °C) Messbereich CO2: 0..2000 ppm, 0..5000 ppm, optional konfigurierbar, Genauigkeit CO2: ±50 ppm +3% des Messwerts (typ. bei 21 °C, 50% rH, 1015 hPa), Selbstkalibrierung Dual Channel Eingang: 1x Eingang für potentialfreien Kontakt Spannungsversorgung: 24 V = (±10%) SELV, 24 V ~ (±10%) SELV Anzeige: TFT 4,8", 1120x480 px, kapazitive Touch-Technologie Gehäuse: mit thermischer Entkopplung und Sensorkanal, PC V0, Farbe: reinweiss, Schutzart: IP30 Montage: Aufputz auf Standard UP-Dose (Ø=60 mm), flach auf Untergrund, kleben oder schrauben, Gehäuseunterteil kann separat vom Gehäuseoberteil vormontiert und verdrahtet werden
A6: 9035 | B6: thanos EVO weiss CO2+VOC Temp_rH RS485 BACnet (MS/TP) | C6: Raumbediengerät Temperatur, relative Feuchte, absolute Feuchte, Enthalpie, Taupunkt, CO2, VOC, CO2/VOC-Mix | D6: thanos EVO | E6: Raumanwendung | F6: Raumbediengeräte | G6: 771368 | H6: 923.65 | I6: =IF(R6="UP",VLOOKUP($I$1,Änderungen!$F$1:$G$4,2,FALSE),IF(OR(ISERROR(FIND("NOVOS",B6)),ISERROR(FIND("Design ",B6))),IF(OR(ISERROR(FIND("thanos EVO",B6)),ISERROR(FIND("Design ",B6))),0,96.55),19.35)) -> 0 | K6: R1 | L6: =IF(K6<>"",IFERROR(VLOOKUP(K6,Rabattwerte_eintragen!$A$3:$C$24,3,FALSE),0),0) -> 0 | M6: =IF(H6<>"",H6*(1-L6)+I6*(1-VLOOKUP("A1",Rabattwerte_eintragen!$A$3:$C$26,3,FALSE)),"") -> 923.65 | O6: =IF(Q6<>"",HYPERLINK(Q6, "Artikel online anzeigen"),"") -> Artikel online anzeigen | Q6: https://www.thermokon.de/direct/de-ch/products/thanos-evo-weiss-co2plusvoc-temp-rh-rs485-bacnet-ms-tp | T6: 85365019 | U6: Einsatzzweck: Raumklimasteuerung, Beleuchtungssteuerung, Szenensteuerung, Beschattungssteuerung, Messwerterfassung Bedienfunktionen: Sollwertverstellung Temperatur, Lüfterstufenverstellung, Präsenzmeldung, Licht ein/aus/dimmen, Jalousie auf/ab/verstellen, Szenen aufrufen, ECO-Funktion, Messwertanzeige und -historie Bedienelemente: kapazitiver Touchscreen Netzwerktechnologie: RS485 BACnet (MS/TP) Temperatureinsatzbereich: 0..+50 °C, Genauigkeit Temperatur: ±0,5 K (typ. bei 21 °C) im Standardmessbereich Messbereich Feuchte: 0..100% rH ohne Betauung, 0..85 KJ/kg Enthalpie, 0..50 | 0..80 g/m³ absolute Feuchte, 0..+50 | -20..+80 °C Taupunkt, optional konfigurierbar, Genauigkeit Feuchte: ±2% zwischen 10..90% rH (typ. bei 21 °C) Messbereich CO2: 0..2000 ppm, 0..5000 ppm, optional konfigurierbar, Genauigkeit CO2: ±50 ppm +3% des Messwerts (typ. bei 21 °C, 50% rH, 1015 hPa), Selbstkalibrierung Dual Channel Messung VOC (Mischgas): beheizter Metalloxid-Halbleiter Eingang: 1x Eingang für potentialfreien Kontakt Spannungsversorgung: 24 V = (±10%) SELV, 24 V ~ (±10%) SELV Anzeige: TFT 4,8", 1120x480 px, kapazitive Touch-Technologie Gehäuse: mit thermischer Entkopplung und Sensorkanal, PC V0, Farbe: reinweiss, Schutzart: IP30 Montage: Aufputz auf Standard UP-Dose (Ø=60 mm), flach auf Untergrund, kleben oder schrauben, Gehäuseunterteil kann separat vom Gehäuseoberteil vormontiert und verdrahtet werden
A7: 9036 | B7: thanos EVO schwarz Temp RS485 BACnet (MS/TP) | C7: Raumbediengerät Temperatur | D7: thanos EVO | E7: Raumanwendung | F7: Raumbediengeräte | G7: 774352 | H7: 703.6 | I7: =IF(R7="UP",VLOOKUP($I$1,Änderungen!$F$1:$G$4,2,FALSE),IF(OR(ISERROR(FIND("NOVOS",B7)),ISERROR(FIND("Design ",B7))),IF(OR(ISERROR(FIND("thanos EVO",B7)),ISERROR(FIND("Design ",B7))),0,96.55),19.35)) -> 0 | K7: R1 | L7: =IF(K7<>"",IFERROR(VLOOKUP(K7,Rabattwerte_eintragen!$A$3:$C$24,3,FALSE),0),0) -> 0 | M7: =IF(H7<>"",H7*(1-L7)+I7*(1-VLOOKUP("A1",Rabattwerte_eintragen!$A$3:$C$26,3,FALSE)),"") -> 703.6 | O7: =IF(Q7<>"",HYPERLINK(Q7, "Artikel online anzeigen"),"") -> Artikel online anzeigen | Q7: https://www.thermokon.de/direct/de-ch/products/thanos-evo-schwarz-temp-rs485-bacnet-ms-tp | T7: 85365019 | U7: Einsatzzweck: Raumklimasteuerung, Beleuchtungssteuerung, Szenensteuerung, Beschattungssteuerung, Messwerterfassung Bedienfunktionen: Sollwertverstellung Temperatur, Lüfterstufenverstellung, Präsenzmeldung, Licht ein/aus/dimmen, Jalousie auf/ab/verstellen, Szenen aufrufen, ECO-Funktion, Messwertanzeige und -historie Bedienelemente: kapazitiver Touchscreen Netzwerktechnologie: RS485 BACnet (MS/TP) Temperatureinsatzbereich: 0..+50 °C, Genauigkeit Temperatur: ±0,5 K (typ. bei 21 °C) im Standardmessbereich Eingang: 1x Eingang für potentialfreien Kontakt Spannungsversorgung: 24 V = (±10%) SELV, 24 V ~ (±10%) SELV Anzeige: TFT 4,8", 1120x480 px, kapazitive Touch-Technologie Gehäuse: mit thermischer Entkopplung und Sensorkanal, PC V0, Farbe: schwarz, Schutzart: IP30 Montage: Aufputz auf Standard UP-Dose (Ø=60 mm), flach auf Untergrund, kleben oder schrauben, Gehäuseunterteil kann separat vom Gehäuseoberteil vormontiert und verdrahtet werden
A8: 9037 | B8: thanos EVO schwarz Temp_rH RS485 BACnet (MS/TP) | C8: Raumbediengerät Temperatur, relative Feuchte, absolute Feuchte, Enthalpie, Taupunkt | D8: thanos EVO | E8: Raumanwendung | F8: Raumbediengeräte | G8: 780360 | H8: 767.45 | I8: =IF(R8="UP",VLOOKUP($I$1,Änderungen!$F$1:$G$4,2,FALSE),IF(OR(ISERROR(FIND("NOVOS",B8)),ISERROR(FIND("Design ",B8))),IF(OR(ISERROR(FIND("thanos EVO",B8)),ISERROR(FIND("Design ",B8))),0,96.55),19.35)) -> 0 | K8: R1 | L8: =IF(K8<>"",IFERROR(VLOOKUP(K8,Rabattwerte_eintragen!$A$3:$C$24,3,FALSE),0),0) -> 0 | M8: =IF(H8<>"",H8*(1-L8)+I8*(1-VLOOKUP("A1",Rabattwerte_eintragen!$A$3:$C$26,3,FALSE)),"") -> 767.45 | O8: =IF(Q8<>"",HYPERLINK(Q8, "Artikel online anzeigen"),"") -> Artikel online anzeigen | Q8: https://www.thermokon.de/direct/de-ch/products/thanos-evo-schwarz-temp-rh-rs485-bacnet-ms-tp | T8: 85365019 | U8: Einsatzzweck: Raumklimasteuerung, Beleuchtungssteuerung, Szenensteuerung, Beschattungssteuerung, Messwerterfassung Bedienfunktionen: Sollwertverstellung Temperatur, Lüfterstufenverstellung, Präsenzmeldung, Licht ein/aus/dimmen, Jalousie auf/ab/verstellen, Szenen aufrufen, ECO-Funktion, Messwertanzeige und -historie Bedienelemente: kapazitiver Touchscreen Netzwerktechnologie: RS485 BACnet (MS/TP) Temperatureinsatzbereich: 0..+50 °C, Genauigkeit Temperatur: ±0,5 K (typ. bei 21 °C) im Standardmessbereich Messbereich Feuchte: 0..100% rH ohne Betauung, 0..85 KJ/kg Enthalpie, 0..50 | 0..80 g/m³ absolute Feuchte, 0..+50 | -20..+80 °C Taupunkt, optional konfigurierbar, Genauigkeit Feuchte: ±2% zwischen 10..90% rH (typ. bei 21 °C) Eingang: 1x Eingang für potentialfreien Kontakt Spannungsversorgung: 24 V = (±10%) SELV, 24 V ~ (±10%) SELV Anzeige: TFT 4,8", 1120x480 px, kapazitive Touch-Technologie Gehäuse: mit thermischer Entkopplung und Sensorkanal, PC V0, Farbe: schwarz, Schutzart: IP30 Montage: Aufputz auf Standard UP-Dose (Ø=60 mm), flach auf Untergrund, kleben oder schrauben, Gehäuseunterteil kann separat vom Gehäuseoberteil vormontiert und verdrahtet werden
A9: 9038 | B9: thanos EVO schwarz CO2 Temp_rH RS485 BACnet (MS/TP) | C9: Raumbediengerät Temperatur, relative Feuchte, absolute Feuchte, Enthalpie, Taupunkt, CO2 | D9: thanos EVO | E9: Raumanwendung | F9: Raumbediengeräte | G9: 780377 | H9: 863.25 | I9: =IF(R9="UP",VLOOKUP($I$1,Änderungen!$F$1:$G$4,2,FALSE),IF(OR(ISERROR(FIND("NOVOS",B9)),ISERROR(FIND("Design ",B9))),IF(OR(ISERROR(FIND("thanos EVO",B9)),ISERROR(FIND("Design ",B9))),0,96.55),19.35)) -> 0 | K9: R1 | L9: =IF(K9<>"",IFERROR(VLOOKUP(K9,Rabattwerte_eintragen!$A$3:$C$24,3,FALSE),0),0) -> 0 | M9: =IF(H9<>"",H9*(1-L9)+I9*(1-VLOOKUP("A1",Rabattwerte_eintragen!$A$3:$C$26,3,FALSE)),"") -> 863.25 | O9: =IF(Q9<>"",HYPERLINK(Q9, "Artikel online anzeigen"),"") -> Artikel online anzeigen | Q9: https://www.thermokon.de/direct/de-ch/products/thanos-evo-schwarz-co2-temp-rh-rs485-bacnet-ms-tp | T9: 85365019 | U9: Einsatzzweck: Raumklimasteuerung, Beleuchtungssteuerung, Szenensteuerung, Beschattungssteuerung, Messwerterfassung Bedienfunktionen: Sollwertverstellung Temperatur, Lüfterstufenverstellung, Präsenzmeldung, Licht ein/aus/dimmen, Jalousie auf/ab/verstellen, Szenen aufrufen, ECO-Funktion, Messwertanzeige und -historie Bedienelemente: kapazitiver Touchscreen Netzwerktechnologie: RS485 BACnet (MS/TP) Temperatureinsatzbereich: 0..+50 °C, Genauigkeit Temperatur: ±0,5 K (typ. bei 21 °C) im Standardmessbereich Messbereich Feuchte: 0..100% rH ohne Betauung, 0..85 KJ/kg Enthalpie, 0..50 | 0..80 g/m³ absolute Feuchte, 0..+50 | -20..+80 °C Taupunkt, optional konfigurierbar, Genauigkeit Feuchte: ±2% zwischen 10..90% rH (typ. bei 21 °C) Messbereich CO2: 0..2000 ppm, 0..5000 ppm, optional konfigurierbar, Genauigkeit CO2: ±50 ppm +3% des Messwerts (typ. bei 21 °C, 50% rH, 1015 hPa), Selbstkalibrierung Dual Channel Eingang: 1x Eingang für potentialfreien Kontakt Spannungsversorgung: 24 V = (±10%) SELV, 24 V ~ (±10%) SELV Anzeige: TFT 4,8", 1120x480 px, kapazitive Touch-Technologie Gehäuse: mit thermischer Entkopplung und Sensorkanal, PC V0, Farbe: schwarz, Schutzart: IP30 Montage: Aufputz auf Standard UP-Dose (Ø=60 mm), flach auf Untergrund, kleben oder schrauben, Gehäuseunterteil kann separat vom Gehäuseoberteil vormontiert und verdrahtet werden
A10: 9040 | B10: thanos EVO schwarz CO2+VOC Temp_rH RS485 BACnet (MS/TP) | C10: Raumbediengerät Temperatur, relative Feuchte, absolute Feuchte, Enthalpie, Taupunkt, CO2, VOC, CO2/VOC-Mix | D10: thanos EVO | E10: Raumanwendung | F10: Raumbediengeräte | G10: 771351 | H10: 943 | I10: =IF(R10="UP",VLOOKUP($I$1,Änderungen!$F$1:$G$4,2,FALSE),IF(OR(ISERROR(FIND("NOVOS",B10)),ISERROR(FIND("Design ",B10))),IF(OR(ISERROR(FIND("thanos EVO",B10)),ISERROR(FIND("Design ",B10))),0,96.55),19.35)) -> 0 | K10: R1 | L10: =IF(K10<>"",IFERROR(VLOOKUP(K10,Rabattwerte_eintragen!$A$3:$C$24,3,FALSE),0),0) -> 0 | M10: =IF(H10<>"",H10*(1-L10)+I10*(1-VLOOKUP("A1",Rabattwerte_eintragen!$A$3:$C$26,3,FALSE)),"") -> 943 | O10: =IF(Q10<>"",HYPERLINK(Q10, "Artikel online anzeigen"),"") -> Artikel online anzeigen | Q10: https://www.thermokon.de/direct/de-ch/products/thanos-evo-schwarz-co2plusvoc-temp-rh-rs485-bacnet-ms-tp | T10: 85365019 | U10: Einsatzzweck: Raumklimasteuerung, Beleuchtungssteuerung, Szenensteuerung, Beschattungssteuerung, Messwerterfassung Bedienfunktionen: Sollwertverstellung Temperatur, Lüfterstufenverstellung, Präsenzmeldung, Licht ein/aus/dimmen, Jalousie auf/ab/verstellen, Szenen aufrufen, ECO-Funktion, Messwertanzeige und -historie Bedienelemente: kapazitiver Touchscreen Netzwerktechnologie: RS485 BACnet (MS/TP) Temperatureinsatzbereich: 0..+50 °C, Genauigkeit Temperatur: ±0,5 K (typ. bei 21 °C) im Standardmessbereich Messbereich Feuchte: 0..100% rH ohne Betauung, 0..85 KJ/kg Enthalpie, 0..50 | 0..80 g/m³ absolute Feuchte, 0..+50 | -20..+80 °C Taupunkt, optional konfigurierbar, Genauigkeit Feuchte: ±2% zwischen 10..90% rH (typ. bei 21 °C) Messbereich CO2: 0..2000 ppm, 0..5000 ppm, optional konfigurierbar, Genauigkeit CO2: ±50 ppm +3% des Messwerts (typ. bei 21 °C, 50% rH, 1015 hPa), Selbstkalibrierung Dual Channel Messung VOC (Mischgas): beheizter Metalloxid-Halbleiter Eingang: 1x Eingang für potentialfreien Kontakt Spannungsversorgung: 24 V = (±10%) SELV, 24 V ~ (±10%) SELV Anzeige: TFT 4,8", 1120x480 px, kapazitive Touch-Technologie Gehäuse: mit thermischer Entkopplung und Sensorkanal, PC V0, Farbe: schwarz, Schutzart: IP30 Montage: Aufputz auf Standard UP-Dose (Ø=60 mm), flach auf Untergrund, kleben oder schrauben, Gehäuseunterteil kann separat vom Gehäuseoberteil vormontiert und verdrahtet werden
A11: 11380 | B11: thanos EVO Design schwarz Temp RS485 BACnet (MS/TP) | C11: Raumbediengerät Temperatur | D11: thanos EVO | E11: Raumanwendung | F11: Raumbediengeräte | G11: 807418 | H11: 703.6 | I11: =IF(R11="UP",VLOOKUP($I$1,Änderungen!$F$1:$G$4,2,FALSE),IF(OR(ISERROR(FIND("NOVOS",B11)),ISERROR(FIND("Design ",B11))),IF(OR(ISERROR(FIND("thanos EVO",B11)),ISERROR(FIND("Design ",B11))),0,96.55),19.35)) -> 96.55 | K11: R1 | L11: =IF(K11<>"",IFERROR(VLOOKUP(K11,Rabattwerte_eintragen!$A$3:$C$24,3,FALSE),0),0) -> 0 | M11: =IF(H11<>"",H11*(1-L11)+I11*(1-VLOOKUP("A1",Rabattwerte_eintragen!$A$3:$C$26,3,FALSE)),"") -> 800.15 | O11: =IF(Q11<>"",HYPERLINK(Q11, "Artikel online anzeigen"),"") -> Artikel online anzeigen | Q11: https://www.thermokon.de/direct/de-ch/products/thanos-evo-design-schwarz-temp-rs485-bacnet-ms-tp | T11: 85365019 | U11: Einsatzzweck: Raumklimasteuerung, Beleuchtungssteuerung, Szenensteuerung, Beschattungssteuerung, Messwerterfassung Bedienfunktionen: Sollwertverstellung Temperatur, Lüfterstufenverstellung, Präsenzmeldung, Licht ein/aus/dimmen, Jalousie auf/ab/verstellen, Szenen aufrufen, ECO-Funktion, Messwertanzeige und -historie Bedienelemente: kapazitiver Touchscreen Netzwerktechnologie: RS485 BACnet (MS/TP) Temperatureinsatzbereich: 0..+50 °C, Genauigkeit Temperatur: ±0,5 K (typ. bei 21 °C) im Standardmessbereich Eingang: 1x Eingang für potentialfreien Kontakt Spannungsversorgung: 24 V = (±10%) SELV, 24 V ~ (±10%) SELV Anzeige: TFT 4,8", 1120x480 px, kapazitive Touch-Technologie Gehäuse: mit thermischer Entkopplung und Sensorkanal, PC V0, Farbe: schwarz, mit Designrahmen Aluminium eloxiert (zugehöriger Rahmen siehe nächste Position), Schutzart: IP30 Montage: Aufputz auf Standard UP-Dose (Ø=60 mm), flach auf Untergrund, kleben oder schrauben, Gehäuseunterteil kann separat vom Gehäuseoberteil vormontiert und verdrahtet werden Hinweise: + Aufpreis Designrahmen (Pflicht), Farbe bitte wählen
A12: 11381 | B12: thanos EVO Design schwarz Temp_rH RS485 BACnet (MS/TP) | C12: Raumbediengerät Temperatur, relative Feuchte, absolute Feuchte, Enthalpie, Taupunkt | D12: thanos EVO | E12: Raumanwendung | F12: Raumbediengeräte | G12: 807401 | H12: 767.45 | I12: =IF(R12="UP",VLOOKUP($I$1,Änderungen!$F$1:$G$4,2,FALSE),IF(OR(ISERROR(FIND("NOVOS",B12)),ISERROR(FIND("Design ",B12))),IF(OR(ISERROR(FIND("thanos EVO",B12)),ISERROR(FIND("Design ",B12))),0,96.55),19.35)) -> 96.55 | K12: R1 | L12: =IF(K12<>"",IFERROR(VLOOKUP(K12,Rabattwerte_eintragen!$A$3:$C$24,3,FALSE),0),0) -> 0 | M12: =IF(H12<>"",H12*(1-L12)+I12*(1-VLOOKUP("A1",Rabattwerte_eintragen!$A$3:$C$26,3,FALSE)),"") -> 864 | O12: =IF(Q12<>"",HYPERLINK(Q12, "Artikel online anzeigen"),"") -> Artikel online anzeigen | Q12: https://www.thermokon.de/direct/de-ch/products/thanos-evo-design-schwarz-temp-rh-rs485-bacnet-ms-tp | T12: 85365019 | U12: Einsatzzweck: Raumklimasteuerung, Beleuchtungssteuerung, Szenensteuerung, Beschattungssteuerung, Messwerterfassung Bedienfunktionen: Sollwertverstellung Temperatur, Lüfterstufenverstellung, Präsenzmeldung, Licht ein/aus/dimmen, Jalousie auf/ab/verstellen, Szenen aufrufen, ECO-Funktion, Messwertanzeige und -historie Bedienelemente: kapazitiver Touchscreen Netzwerktechnologie: RS485 BACnet (MS/TP) Temperatureinsatzbereich: 0..+50 °C, Genauigkeit Temperatur: ±0,5 K (typ. bei 21 °C) im Standardmessbereich Eingang: 1x Eingang für potentialfreien Kontakt Spannungsversorgung: 24 V = (±10%) SELV, 24 V ~ (±10%) SELV Anzeige: TFT 4,8", 1120x480 px, kapazitive Touch-Technologie Gehäuse: mit thermischer Entkopplung und Sensorkanal, PC V0, Farbe: schwarz, mit Designrahmen Aluminium eloxiert (zugehöriger Rahmen siehe nächste Position), Schutzart: IP30 Montage: Aufputz auf Standard UP-Dose (Ø=60 mm), flach auf Untergrund, kleben oder schrauben, Gehäuseunterteil kann separat vom Gehäuseoberteil vormontiert und verdrahtet werden Hinweise: + Aufpreis Designrahmen (Pflicht), Farbe bitte wählen
A13: 11382 | B13: thanos EVO Design schwarz CO2 Temp_rH RS485 BACnet (MS/TP) | C13: Raumbediengerät Temperatur, relative Feuchte, absolute Feuchte, Enthalpie, Taupunkt, CO2 | D13: thanos EVO | E13: Raumanwendung | F13: Raumbediengeräte | G13: 807395 | H13: 863.25 | I13: =IF(R13="UP",VLOOKUP($I$1,Änderungen!$F$1:$G$4,2,FALSE),IF(OR(ISERROR(FIND("NOVOS",B13)),ISERROR(FIND("Design ",B13))),IF(OR(ISERROR(FIND("thanos EVO",B13)),ISERROR(FIND("Design ",B13))),0,96.55),19.35)) -> 96.55 | K13: R1 | L13: =IF(K13<>"",IFERROR(VLOOKUP(K13,Rabattwerte_eintragen!$A$3:$C$24,3,FALSE),0),0) -> 0 | M13: =IF(H13<>"",H13*(1-L13)+I13*(1-VLOOKUP("A1",Rabattwerte_eintragen!$A$3:$C$26,3,FALSE)),"") -> 959.8 | O13: =IF(Q13<>"",HYPERLINK(Q13, "Artikel online anzeigen"),"") -> Artikel online anzeigen | Q13: https://www.thermokon.de/direct/de-ch/products/thanos-evo-design-schwarz-co2-temp-rh-rs485-bacnet-ms-tp | T13: 85365019 | U13: Einsatzzweck: Raumklimasteuerung, Beleuchtungssteuerung, Szenensteuerung, Beschattungssteuerung, Messwerterfassung Bedienfunktionen: Sollwertverstellung Temperatur, Lüfterstufenverstellung, Präsenzmeldung, Licht ein/aus/dimmen, Jalousie auf/ab/verstellen, Szenen aufrufen, ECO-Funktion, Messwertanzeige und -historie Bedienelemente: kapazitiver Touchscreen Netzwerktechnologie: RS485 BACnet (MS/TP) Temperatureinsatzbereich: 0..+50 °C, Genauigkeit Temperatur: ±0,5 K (typ. bei 21 °C) im Standardmessbereich Messbereich Feuchte: 0..100% rH ohne Betauung, 0..85 KJ/kg Enthalpie, 0..50 | 0..80 g/m³ absolute Feuchte, 0..+50 | -20..+80 °C Taupunkt, optional konfigurierbar, Genauigkeit Feuchte: ±2% zwischen 10..90% rH (typ. bei 21 °C) Messbereich CO2: 0..2000 ppm, 0..5000 ppm, optional konfigurierbar, Genauigkeit CO2: ±50 ppm +3% des Messwerts (typ. bei 21 °C, 50% rH, 1015 hPa), Selbstkalibrierung Dual Channel Eingang: 1x Eingang für potentialfreien Kontakt Spannungsversorgung: 24 V = (±10%) SELV, 24 V ~ (±10%) SELV Anzeige: TFT 4,8", 1120x480 px, kapazitive Touch-Technologie Gehäuse: mit thermischer Entkopplung und Sensorkanal, PC V0, Farbe: schwarz (zugehöriger Rahmen siehe nächste Position), Schutzart: IP30 Montage: Aufputz auf Standard UP-Dose (Ø=60 mm), flach auf Untergrund, kleben oder schrauben, Gehäuseunterteil kann separat vom Gehäuseoberteil vormontiert und verdrahtet werden Hinweise: + Aufpreis Designrahmen (Pflicht), Farbe bitte wählen
A14: 11384 | B14: thanos EVO Design schwarz CO2+VOC Temp_rH RS485 BACnet (MS/TP) | C14: Raumbediengerät Temperatur, relative Feuchte, absolute Feuchte, Enthalpie, Taupunkt, CO2, VOC, CO2/VOC-Mix | D14: thanos EVO | E14: Raumanwendung | F14: Raumbediengeräte | G14: 807371 | H14: 943 | I14: =IF(R14="UP",VLOOKUP($I$1,Änderungen!$F$1:$G$4,2,FALSE),IF(OR(ISERROR(FIND("NOVOS",B14)),ISERROR(FIND("Design ",B14))),IF(OR(ISERROR(FIND("thanos EVO",B14)),ISERROR(FIND("Design ",B14))),0,96.55),19.35)) -> 96.55 | K14: R1 | L14: =IF(K14<>"",IFERROR(VLOOKUP(K14,Rabattwerte_eintragen!$A$3:$C$24,3,FALSE),0),0) -> 0 | M14: =IF(H14<>"",H14*(1-L14)+I14*(1-VLOOKUP("A1",Rabattwerte_eintragen!$A$3:$C$26,3,FALSE)),"") -> 1039.55 | O14: =IF(Q14<>"",HYPERLINK(Q14, "Artikel online anzeigen"),"") -> Artikel online anzeigen | Q14: https://www.thermokon.de/direct/de-ch/products/thanos-evo-design-schwarz-co2plusvoc-temp-rh-rs485-bacnet-ms-tp | T14: 85365019 | U14: Einsatzzweck: Raumklimasteuerung, Beleuchtungssteuerung, Szenensteuerung, Beschattungssteuerung, Messwerterfassung Bedienfunktionen: Sollwertverstellung Temperatur, Lüfterstufenverstellung, Präsenzmeldung, Licht ein/aus/dimmen, Jalousie auf/ab/verstellen, Szenen aufrufen, ECO-Funktion, Messwertanzeige und -historie Bedienelemente: kapazitiver Touchscreen Netzwerktechnologie: RS485 BACnet (MS/TP) Temperatureinsatzbereich: 0..+50 °C, Genauigkeit Temperatur: ±0,5 K (typ. bei 21 °C) im Standardmessbereich Messbereich Feuchte: 0..100% rH ohne Betauung, 0..85 KJ/kg Enthalpie, 0..50 | 0..80 g/m³ absolute Feuchte, 0..+50 | -20..+80 °C Taupunkt, optional konfigurierbar, Genauigkeit Feuchte: ±2% zwischen 10..90% rH (typ. bei 21 °C) Messbereich CO2: 0..2000 ppm, 0..5000 ppm, optional konfigurierbar, Genauigkeit CO2: ±50 ppm +3% des Messwerts (typ. bei 21 °C, 50% rH, 1015 hPa), Selbstkalibrierung Dual Channel Messung VOC (Mischgas): beheizter Metalloxid-Halbleiter Eingang: 1x Eingang für potentialfreien Kontakt Spannungsversorgung: 24 V = (±10%) SELV, 24 V ~ (±10%) SELV Anzeige: TFT 4,8", 1120x480 px, kapazitive Touch-Technologie Gehäuse: mit thermischer Entkopplung und Sensorkanal, PC V0, Farbe: schwarz, mit Designrahmen Aluminium eloxiert (zugehöriger Rahmen siehe nächste Position), Schutzart: IP30 Montage: Aufputz auf Standard UP-Dose (Ø=60 mm), flach auf Untergrund, kleben oder schrauben, Gehäuseunterteil kann separat vom Gehäuseoberteil vormontiert und verdrahtet werden Hinweise: + Aufpreis Designrahmen (Pflicht), Farbe bitte wählen
... A96: 1311 | B96: NOVOS 3 PTD weiss Temp Pt100, 10 kOhm | C96: Raumbediengerät Temperatur | D96: NOVOS 3 x | E96: Raumanwendung | F96: Raumbediengeräte | G96: 729673 | H96: 88.15 | I96: =IF(R96="UP",VLOOKUP($I$1,Änderungen!$F$1:$G$4,2,FALSE),IF(OR(ISERROR(FIND("NOVOS",B96)),ISERROR(FIND("Design ",B96))),IF(OR(ISERROR(FIND("thanos EVO",B96)),ISERROR(FIND("Design ",B96))),0,96.55),19.35)) -> 0 | K96: R3 | L96: =IF(K96<>"",IFERROR(VLOOKUP(K96,Rabattwerte_eintragen!$A$3:$C$24,3,FALSE),0),0) -> 0 | M96: =IF(H96<>"",H96*(1-L96)+I96*(1-VLOOKUP("A1",Rabattwerte_eintragen!$A$3:$C$26,3,FALSE)),"") -> 88.15 | O96: =IF(Q96<>"",HYPERLINK(Q96, "Artikel online anzeigen"),"") -> Artikel online anzeigen | Q96: https://www.thermokon.de/direct/de-ch/products/novos-3-ptd-weiss-temp-pt100-10-kohm | T96: 85365019 | U96: Einsatzzweck: Raumklimasteuerung, Messwerterfassung Bedienfunktionen: Sollwertverstellung Temperatur, Präsenzmeldung Bedienelemente: Potentiometer (P), 10 kOhm, Beschriftung {- [Skala] +}, Taster (T), mit LED 24 V =, Farbe konfigurierbar über Jumper (7 Farben) Sensor: Pt100 DIN Kl. B Temperatureinsatzbereich: -35..+70 °C, Genauigkeit Temperatur: ±0,3 K (typ. bei 0 °C) Spannungsversorgung: 15..35 V = SELV, 19..29 V ~ SELV Anzeige: RGB-LED Gehäuse: PC V0, Farbe: reinweiss, Schutzart: IP20 Montage: Aufputz auf Standard UP-Dose (Ø=60 mm), flach auf Untergrund, kleben oder schrauben, Gehäuseunterteil kann separat vom Gehäuseoberteil vormontiert und verdrahtet werden
A97: 1247 | B97: NOVOS 3 P weiss Temp Pt1000, 10 kOhm | C97: Raumbediengerät Temperatur | D97: NOVOS 3 x | E97: Raumanwendung | F97: Raumbediengeräte | G97: 729727 | H97: 64.25 | I97: =IF(R97="UP",VLOOKUP($I$1,Änderungen!$F$1:$G$4,2,FALSE),IF(OR(ISERROR(FIND("NOVOS",B97)),ISERROR(FIND("Design ",B97))),IF(OR(ISERROR(FIND("thanos EVO",B97)),ISERROR(FIND("Design ",B97))),0,96.55),19.35)) -> 0 | J97: ja | K97: R3 | L97: =IF(K97<>"",IFERROR(VLOOKUP(K97,Rabattwerte_eintragen!$A$3:$C$24,3,FALSE),0),0) -> 0 | M97: =IF(H97<>"",H97*(1-L97)+I97*(1-VLOOKUP("A1",Rabattwerte_eintragen!$A$3:$C$26,3,FALSE)),"") -> 64.25 | O97: =IF(Q97<>"",HYPERLINK(Q97, "Artikel online anzeigen"),"") -> Artikel online anzeigen | Q97: https://www.thermokon.de/direct/de-ch/products/novos-3-p-weiss-temp-pt1000-10-kohm | T97: 85365019 | U97: Einsatzzweck: Raumklimasteuerung, Messwerterfassung Bedienfunktionen: Sollwertverstellung Temperatur Bedienelemente: Potentiometer (P), 10 kOhm, Beschriftung {- [Skala] +} Sensor: Pt1000 DIN Kl. B Temperatureinsatzbereich: -35..+70 °C, Genauigkeit Temperatur: ±0,3 K (typ. bei 0 °C) Gehäuse: NOVOS 3, PC V0, Farbe: reinweiss, Schutzart: IP20 Montage: Aufputz auf Standard UP-Dose (Ø=60 mm), flach auf Untergrund, kleben oder schrauben, Gehäuseunterteil kann separat vom Gehäuseoberteil vormontiert und verdrahtet werden
A98: 1285 | B98: NOVOS 3 TD weiss Temp Pt1000 | C98: Raumbediengerät Temperatur | D98: NOVOS 3 x | E98: Raumanwendung | F98: Raumbediengeräte | G98: 729734 | H98: 71.5 | I98: =IF(R98="UP",VLOOKUP($I$1,Änderungen!$F$1:$G$4,2,FALSE),IF(OR(ISERROR(FIND("NOVOS",B98)),ISERROR(FIND("Design ",B98))),IF(OR(ISERROR(FIND("thanos EVO",B98)),ISERROR(FIND("Design ",B98))),0,96.55),19.35)) -> 0 | K98: R3 | L98: =IF(K98<>"",IFERROR(VLOOKUP(K98,Rabattwerte_eintragen!$A$3:$C$24,3,FALSE),0),0) -> 0 | M98: =IF(H98<>"",H98*(1-L98)+I98*(1-VLOOKUP("A1",Rabattwerte_eintragen!$A$3:$C$26,3,FALSE)),"") -> 71.5 | O98: =IF(Q98<>"",HYPERLINK(Q98, "Artikel online anzeigen"),"") -> Artikel online anzeigen | Q98: https://www.thermokon.de/direct/de-ch/products/novos-3-td-weiss-temp-pt1000 | T98: 85365019 | U98: Einsatzzweck: Raumklimasteuerung, Messwerterfassung Bedienfunktionen: Präsenzmeldung Bedienelemente: Taster (T), mit LED 24 V =, Farbe konfigurierbar über Jumper (7 Farben) Sensor: Pt1000 DIN Kl. B Temperatureinsatzbereich: -35..+70 °C, Genauigkeit Temperatur: ±0,3 K (typ. bei 0 °C) Spannungsversorgung: 15..35 V = SELV, 19..29 V ~ SELV Anzeige: RGB-LED Gehäuse: PC V0, Farbe: reinweiss, Schutzart: IP20 Montage: Aufputz auf Standard UP-Dose (Ø=60 mm), flach auf Untergrund, kleben oder schrauben, Gehäuseunterteil kann separat vom Gehäuseoberteil vormontiert und verdrahtet werden
A99: 1313 | B99: NOVOS 3 PTD weiss Temp Pt1000, 10 kOhm | C99: Raumbediengerät Temperatur | D99: NOVOS 3 x | E99: Raumanwendung | F99: Raumbediengeräte | G99: 729741 | H99: 91.25 | I99: =IF(R99="UP",VLOOKUP($I$1,Änderungen!$F$1:$G$4,2,FALSE),IF(OR(ISERROR(FIND("NOVOS",B99)),ISERROR(FIND("Design ",B99))),IF(OR(ISERROR(FIND("thanos EVO",B99)),ISERROR(FIND("Design ",B99))),0,96.55),19.35)) -> 0 | K99: R3 | L99: =IF(K99<>"",IFERROR(VLOOKUP(K99,Rabattwerte_eintragen!$A$3:$C$24,3,FALSE),0),0) -> 0 | M99: =IF(H99<>"",H99*(1-L99)+I99*(1-VLOOKUP("A1",Rabattwerte_eintragen!$A$3:$C$26,3,FALSE)),"") -> 91.25 | O99: =IF(Q99<>"",HYPERLINK(Q99, "Artikel online anzeigen"),"") -> Artikel online anzeigen | Q99: https://www.thermokon.de/direct/de-ch/products/novos-3-ptd-weiss-temp-pt1000-10-kohm | T99: 85365019 | U99: Einsatzzweck: Raumklimasteuerung, Messwerterfassung Bedienfunktionen: Sollwertverstellung Temperatur, Präsenzmeldung Bedienelemente: Potentiometer (P), 10 kOhm, Beschriftung {- [Skala] +}, Taster (T), mit LED 24 V =, Farbe konfigurierbar über Jumper (7 Farben) Sensor: Pt1000 DIN Kl. B Temperatureinsatzbereich: -35..+70 °C, Genauigkeit Temperatur: ±0,3 K (typ. bei 0 °C) Spannungsversorgung: 15..35 V = SELV, 19..29 V ~ SELV Anzeige: RGB-LED Gehäuse: PC V0, Farbe: reinweiss, Schutzart: IP20 Montage: Aufputz auf Standard UP-Dose (Ø=60 mm), flach auf Untergrund, kleben oder schrauben, Gehäuseunterteil kann separat vom Gehäuseoberteil vormontiert und verdrahtet werden
A100: 1251 | B100: NOVOS 3 P weiss Temp Pt1000 1/3 DIN, 10 kOhm | C100: Raumbediengerät Temperatur | D100: NOVOS 3 x | E100: Raumanwendung | F100: Raumbediengeräte | G100: 729789 | H100: 69.25 | I100: =IF(R100="UP",VLOOKUP($I$1,Änderungen!$F$1:$G$4,2,FALSE),IF(OR(ISERROR(FIND("NOVOS",B100)),ISERROR(FIND("Design ",B100))),IF(OR(ISERROR(FIND("thanos EVO",B100)),ISERROR(FIND("Design ",B100))),0,96.55),19.35)) -> 0 | K100: R3 | L100: =IF(K100<>"",IFERROR(VLOOKUP(K100,Rabattwerte_eintragen!$A$3:$C$24,3,FALSE),0),0) -> 0 | M100: =IF(H100<>"",H100*(1-L100)+I100*(1-VLOOKUP("A1",Rabattwerte_eintragen!$A$3:$C$26,3,FALSE)),"") -> 69.25 | O100: =IF(Q100<>"",HYPERLINK(Q100, "Artikel online anzeigen"),"") -> Artikel online anzeigen | Q100: https://www.thermokon.de/direct/de-ch/products/novos-3-p-weiss-temp-pt1000-1-3-din-10-kohm | T100: 85365019 | U100: Einsatzzweck: Raumklimasteuerung, Messwerterfassung Bedienfunktionen: Sollwertverstellung Temperatur Bedienelemente: Potentiometer (P), 10 kOhm, Beschriftung {- [Skala] +} Sensor: Pt1000 1/3 DIN Temperatureinsatzbereich: -35..+70 °C Gehäuse: NOVOS 3, PC V0, Farbe: reinweiss, Schutzart: IP20 Montage: Aufputz auf Standard UP-Dose (Ø=60 mm), flach auf Untergrund, kleben oder schrauben, Gehäuseunterteil kann separat vom Gehäuseoberteil vormontiert und verdrahtet werden
A101: 1286 | B101: NOVOS 3 TD weiss Temp Pt1000 1/3 DIN | C101: Raumbediengerät Temperatur | D101: NOVOS 3 x | E101: Raumanwendung | F101: Raumbediengeräte | G101: 729796 | H101: 76.5 | I101: =IF(R101="UP",VLOOKUP($I$1,Änderungen!$F$1:$G$4,2,FALSE),IF(OR(ISERROR(FIND("NOVOS",B101)),ISERROR(FIND("Design ",B101))),IF(OR(ISERROR(FIND("thanos EVO",B101)),ISERROR(FIND("Design ",B101))),0,96.55),19.35)) -> 0 | K101: R3 | L101: =IF(K101<>"",IFERROR(VLOOKUP(K101,Rabattwerte_eintragen!$A$3:$C$24,3,FALSE),0),0) -> 0 | M101: =IF(H101<>"",H101*(1-L101)+I101*(1-VLOOKUP("A1",Rabattwerte_eintragen!$A$3:$C$26,3,FALSE)),"") -> 76.5 | O101: =IF(Q101<>"",HYPERLINK(Q101, "Artikel online anzeigen"),"") -> Artikel online anzeigen | Q101: https://www.thermokon.de/direct/de-ch/products/novos-3-td-weiss-temp-pt1000-1-3-din | T101: 85365019 | U101: Einsatzzweck: Raumklimasteuerung, Messwerterfassung Bedienfunktionen: Präsenzmeldung Bedienelemente: Taster (T), mit LED 24 V =, Farbe konfigurierbar über Jumper (7 Farben) Sensor: Pt1000 1/3 DIN Temperatureinsatzbereich: -35..+70 °C Spannungsversorgung: 15..35 V = SELV, 19..29 V ~ SELV Anzeige: RGB-LED Gehäuse: PC V0, Farbe: reinweiss, Schutzart: IP20 Montage: Aufputz auf Standard UP-Dose (Ø=60 mm), flach auf Untergrund, kleben oder schrauben, Gehäuseunterteil kann separat vom Gehäuseoberteil vormontiert und verdrahtet werden
A102: 1312 | B102: NOVOS 3 PTD weiss Temp Pt1000 1/3 DIN, 10 kOhm | C102: Raumbediengerät Temperatur | D102: NOVOS 3 x | E102: Raumanwendung | F102: Raumbediengeräte | G102: 729802 | H102: 96.25 | I102: =IF(R102="UP",VLOOKUP($I$1,Änderungen!$F$1:$G$4,2,FALSE),IF(OR(ISERROR(FIND("NOVOS",B102)),ISERROR(FIND("Design ",B102))),IF(OR(ISERROR(FIND("thanos EVO",B102)),ISERROR(FIND("Design ",B102))),0,96.55),19.35)) -> 0 | K102: R3 | L102: =IF(K102<>"",IFERROR(VLOOKUP(K102,Rabattwerte_eintragen!$A$3:$C$24,3,FALSE),0),0) -> 0 | M102: =IF(H102<>"",H102*(1-L102)+I102*(1-VLOOKUP("A1",Rabattwerte_eintragen!$A$3:$C$26,3,FALSE)),"") -> 96.25 | O102: =IF(Q102<>"",HYPERLINK(Q102, "Artikel online anzeigen"),"") -> Artikel online anzeigen | Q102: https://www.thermokon.de/direct/de-ch/products/novos-3-ptd-weiss-temp-pt1000-1-3-din-10-kohm | T102: 85365019 | U102: Einsatzzweck: Raumklimasteuerung, Messwerterfassung Bedienfunktionen: Sollwertverstellung Temperatur, Präsenzmeldung Bedienelemente: Potentiometer (P), 10 kOhm, Beschriftung {- [Skala] +}, Taster (T), mit LED 24 V =, Farbe konfigurierbar über Jumper (7 Farben) Sensor: Pt1000 1/3 DIN Temperatureinsatzbereich: -35..+70 °C Spannungsversorgung: 15..35 V = SELV, 19..29 V ~ SELV Anzeige: RGB-LED Gehäuse: PC V0, Farbe: reinweiss, Schutzart: IP20 Montage: Aufputz auf Standard UP-Dose (Ø=60 mm), flach auf Untergrund, kleben oder schrauben, Gehäuseunterteil kann separat vom Gehäuseoberteil vormontiert und verdrahtet werden
A103: 1252 | B103: NOVOS 3 P weiss Temp Ni1000, 10 kOhm | C103: Raumbediengerät Temperatur | D103: NOVOS 3 x | E103: Raumanwendung | F103: Raumbediengeräte | G103: 729864 | H103: 63.9 | I103: =IF(R103="UP",VLOOKUP($I$1,Änderungen!$F$1:$G$4,2,FALSE),IF(OR(ISERROR(FIND("NOVOS",B103)),ISERROR(FIND("Design ",B103))),IF(OR(ISERROR(FIND("thanos EVO",B103)),ISERROR(FIND("Design ",B103))),0,96.55),19.35)) -> 0 | K103: R3 | L103: =IF(K103<>"",IFERROR(VLOOKUP(K103,Rabattwerte_eintragen!$A$3:$C$24,3,FALSE),0),0) -> 0 | M103: =IF(H103<>"",H103*(1-L103)+I103*(1-VLOOKUP("A1",Rabattwerte_eintragen!$A$3:$C$26,3,FALSE)),"") -> 63.9 | O103: =IF(Q103<>"",HYPERLINK(Q103, "Artikel online anzeigen"),"") -> Artikel online anzeigen | Q103: https://www.thermokon.de/direct/de-ch/products/novos-3-p-weiss-temp-ni1000-10-kohm | T103: 85365019 | U103: Einsatzzweck: Raumklimasteuerung, Messwerterfassung Bedienfunktionen: Sollwertverstellung Temperatur Bedienelemente: Potentiometer (P), 10 kOhm, Beschriftung {- [Skala] +} Sensor: Ni1000 DIN Kl. B Temperatureinsatzbereich: -35..+70 °C, Genauigkeit Temperatur: ±0,4 K (typ. bei 0 °C) Gehäuse: NOVOS 3, PC V0, Farbe: reinweiss, Schutzart: IP20 Montage: Aufputz auf Standard UP-Dose (Ø=60 mm), flach auf Untergrund, kleben oder schrauben, Gehäuseunterteil kann separat vom Gehäuseoberteil vormontiert und verdrahtet werden
A104: 1287 | B104: NOVOS 3 TD weiss Temp Ni1000 | C104: Raumbediengerät Temperatur | D104: NOVOS 3 x | E104: Raumanwendung | F104: Raumbediengeräte | G104: 729871 | H104: 71.15 | I104: =IF(R104="UP",VLOOKUP($I$1,Änderungen!$F$1:$G$4,2,FALSE),IF(OR(ISERROR(FIND("NOVOS",B104)),ISERROR(FIND("Design ",B104))),IF(OR(ISERROR(FIND("thanos EVO",B104)),ISERROR(FIND("Design ",B104))),0,96.55),19.35)) -> 0 | K104: R3 | L104: =IF(K104<>"",IFERROR(VLOOKUP(K104,Rabattwerte_eintragen!$A$3:$C$24,3,FALSE),0),0) -> 0 | M104: =IF(H104<>"",H104*(1-L104)+I104*(1-VLOOKUP("A1",Rabattwerte_eintragen!$A$3:$C$26,3,FALSE)),"") -> 71.15 | O104: =IF(Q104<>"",HYPERLINK(Q104, "Artikel online anzeigen"),"") -> Artikel online anzeigen | Q104: https://www.thermokon.de/direct/de-ch/products/novos-3-td-weiss-temp-ni1000 | T104: 85365019 | U104: Einsatzzweck: Raumklimasteuerung, Messwerterfassung Bedienfunktionen: Präsenzmeldung Bedienelemente: Taster (T), mit LED 24 V =, Farbe konfigurierbar über Jumper (7 Farben) Sensor: Ni1000 DIN Kl. B Temperatureinsatzbereich: -35..+70 °C, Genauigkeit Temperatur: ±0,4 K (typ. bei 0 °C) Spannungsversorgung: 15..35 V = SELV, 19..29 V ~ SELV Anzeige: RGB-LED Gehäuse: PC V0, Farbe: reinweiss, Schutzart: IP20 Montage: Aufputz auf Standard UP-Dose (Ø=60 mm), flach auf Untergrund, kleben oder schrauben, Gehäuseunterteil kann separat vom Gehäuseoberteil vormontiert und verdrahtet werden
A105: 1315 | B105: NOVOS 3 PTD weiss Temp Ni1000, 10 kOhm | C105: Raumbediengerät Temperatur | D105: NOVOS 3 x | E105: Raumanwendung | F105: Raumbediengeräte | G105: 729895 | H105: 90.9 | I105: =IF(R105="UP",VLOOKUP($I$1,Änderungen!$F$1:$G$4,2,FALSE),IF(OR(ISERROR(FIND("NOVOS",B105)),ISERROR(FIND("Design ",B105))),IF(OR(ISERROR(FIND("thanos EVO",B105)),ISERROR(FIND("Design ",B105))),0,96.55),19.35)) -> 0 | K105: R3 | L105: =IF(K105<>"",IFERROR(VLOOKUP(K105,Rabattwerte_eintragen!$A$3:$C$24,3,FALSE),0),0) -> 0 | M105: =IF(H105<>"",H105*(1-L105)+I105*(1-VLOOKUP("A1",Rabattwerte_eintragen!$A$3:$C$26,3,FALSE)),"") -> 90.9 | O105: =IF(Q105<>"",HYPERLINK(Q105, "Artikel online anzeigen"),"") -> Artikel online anzeigen | Q105: https://www.thermokon.de/direct/de-ch/products/novos-3-ptd-weiss-temp-ni1000-10-kohm | T105: 85365019 | U105: Einsatzzweck: Raumklimasteuerung, Messwerterfassung Bedienfunktionen: Sollwertverstellung Temperatur, Präsenzmeldung Bedienelemente: Potentiometer (P), 10 kOhm, Beschriftung {- [Skala] +}, Taster (T), mit LED 24 V =, Farbe konfigurierbar über Jumper (7 Farben) Sensor: Ni1000 DIN Kl. B Temperatureinsatzbereich: -35..+70 °C, Genauigkeit Temperatur: ±0,4 K (typ. bei 0 °C) Spannungsversorgung: 15..35 V = SELV, 19..29 V ~ SELV Anzeige: RGB-LED Gehäuse: PC V0, Farbe: reinweiss, Schutzart: IP20 Montage: Aufputz auf Standard UP-Dose (Ø=60 mm), flach auf Untergrund, kleben oder schrauben, Gehäuseunterteil kann separat vom Gehäuseoberteil vormontiert und verdrahtet werden
A106: 1253 | B106: NOVOS 3 P weiss Temp Ni1000TK5000, 10 kOhm | C106: Raumbediengerät Temperatur | D106: NOVOS 3 x | E106: Raumanwendung | F106: Raumbediengeräte | G106: 729932 | H106: 69.25 | I106: =IF(R106="UP",VLOOKUP($I$1,Änderungen!$F$1:$G$4,2,FALSE),IF(OR(ISERROR(FIND("NOVOS",B106)),ISERROR(FIND("Design ",B106))),IF(OR(ISERROR(FIND("thanos EVO",B106)),ISERROR(FIND("Design ",B106))),0,96.55),19.35)) -> 0 | K106: R3 | L106: =IF(K106<>"",IFERROR(VLOOKUP(K106,Rabattwerte_eintragen!$A$3:$C$24,3,FALSE),0),0) -> 0 | M106: =IF(H106<>"",H106*(1-L106)+I106*(1-VLOOKUP("A1",Rabattwerte_eintragen!$A$3:$C$26,3,FALSE)),"") -> 69.25 | O106: =IF(Q106<>"",HYPERLINK(Q106, "Artikel online anzeigen"),"") -> Artikel online anzeigen | Q106: https://www.thermokon.de/direct/de-ch/products/novos-3-p-weiss-temp-ni1000tk5000-10-kohm | T106: 85365019 | U106: Einsatzzweck: Raumklimasteuerung, Messwerterfassung Bedienfunktionen: Sollwertverstellung Temperatur Bedienelemente: Potentiometer (P), 10 kOhm, Beschriftung {- [Skala] +} Sensor: Ni1000TK5000 Temperatureinsatzbereich: -35..+70 °C, Genauigkeit Temperatur: ±0,4 K (typ. bei 21 °C) Gehäuse: NOVOS 3, PC V0, Farbe: reinweiss, Schutzart: IP20 Montage: Aufputz auf Standard UP-Dose (Ø=60 mm), flach auf Untergrund, kleben oder schrauben, Gehäuseunterteil kann separat vom Gehäuseoberteil vormontiert und verdrahtet werden
A107: 1288 | B107: NOVOS 3 TD weiss Temp Ni1000TK5000 | C107: Raumbediengerät Temperatur | D107: NOVOS 3 x | E107: Raumanwendung | F107: Raumbediengeräte | G107: 729949 | H107: 76.5 | I107: =IF(R107="UP",VLOOKUP($I$1,Änderungen!$F$1:$G$4,2,FALSE),IF(OR(ISERROR(FIND("NOVOS",B107)),ISERROR(FIND("Design ",B107))),IF(OR(ISERROR(FIND("thanos EVO",B107)),ISERROR(FIND("Design ",B107))),0,96.55),19.35)) -> 0 | K107: R3 | L107: =IF(K107<>"",IFERROR(VLOOKUP(K107,Rabattwerte_eintragen!$A$3:$C$24,3,FALSE),0),0) -> 0 | M107: =IF(H107<>"",H107*(1-L107)+I107*(1-VLOOKUP("A1",Rabattwerte_eintragen!$A$3:$C$26,3,FALSE)),"") -> 76.5 | O107: =IF(Q107<>"",HYPERLINK(Q107, "Artikel online anzeigen"),"") -> Artikel online anzeigen | Q107: https://www.thermokon.de/direct/de-ch/products/novos-3-td-weiss-temp-ni1000tk5000 | T107: 85365019 | U107: Einsatzzweck: Raumklimasteuerung, Messwerterfassung Bedienfunktionen: Präsenzmeldung Bedienelemente: Taster (T), mit LED 24 V =, Farbe konfigurierbar über Jumper (7 Farben) Sensor: Ni1000TK5000 Temperatureinsatzbereich: -35..+70 °C, Genauigkeit Temperatur: ±0,4 K (typ. bei 0 °C) Spannungsversorgung: 15..35 V = SELV, 19..29 V ~ SELV Anzeige: RGB-LED Gehäuse: PC V0, Farbe: reinweiss, Schutzart: IP20 Montage: Aufputz auf Standard UP-Dose (Ø=60 mm), flach auf Untergrund, kleben oder schrauben, Gehäuseunterteil kann separat vom Gehäuseoberteil vormontiert und verdrahtet werden
A108: 1316 | B108: NOVOS 3 PTD weiss Temp Ni1000TK5000, 10 kOhm | C108: Raumbediengerät Temperatur | D108: NOVOS 3 x | E108: Raumanwendung | F108: Raumbediengeräte | G108: 729956 | H108: 96.25 | I108: =IF(R108="UP",VLOOKUP($I$1,Änderungen!$F$1:$G$4,2,FALSE),IF(OR(ISERROR(FIND("NOVOS",B108)),ISERROR(FIND("Design ",B108))),IF(OR(ISERROR(FIND("thanos EVO",B108)),ISERROR(FIND("Design ",B108))),0,96.55),19.35)) -> 0 | K108: R3 | L108: =IF(K108<>"",IFERROR(VLOOKUP(K108,Rabattwerte_eintragen!$A$3:$C$24,3,FALSE),0),0) -> 0 | M108: =IF(H108<>"",H108*(1-L108)+I108*(1-VLOOKUP("A1",Rabattwerte_eintragen!$A$3:$C$26,3,FALSE)),"") -> 96.25 | O108: =IF(Q108<>"",HYPERLINK(Q108, "Artikel online anzeigen"),"") -> Artikel online anzeigen | Q108: https://www.thermokon.de/direct/de-ch/products/novos-3-ptd-weiss-temp-ni1000tk5000-10-kohm | T108: 85365019 | U108: Einsatzzweck: Raumklimasteuerung, Messwerterfassung Bedienfunktionen: Sollwertverstellung Temperatur, Präsenzmeldung Bedienelemente: Potentiometer (P), 10 kOhm, Beschriftung {- [Skala] +}, Taster (T), mit LED 24 V =, Farbe konfigurierbar über Jumper (7 Farben) Sensor: Ni1000TK5000 Temperatureinsatzbereich: -35..+70 °C, Genauigkeit Temperatur: ±0,4 K (typ. bei 0 °C) Spannungsversorgung: 15..35 V = SELV, 19..29 V ~ SELV Anzeige: RGB-LED Gehäuse: PC V0, Farbe: reinweiss, Schutzart: IP20 Montage: Aufputz auf Standard UP-Dose (Ø=60 mm), flach auf Untergrund, kleben oder schrauben, Gehäuseunterteil kann separat vom Gehäuseoberteil vormontiert und verdrahtet werden
A109: 1254 | B109: NOVOS 3 P weiss Temp NTC10k, 10 kOhm | C109: Raumbediengerät Temperatur | D109: NOVOS 3 x | E109: Raumanwendung | F109: Raumbediengeräte | G109: 729994 | H109: 59.15 | I109: =IF(R109="UP",VLOOKUP($I$1,Änderungen!$F$1:$G$4,2,FALSE),IF(OR(ISERROR(FIND("NOVOS",B109)),ISERROR(FIND("Design ",B109))),IF(OR(ISERROR(FIND("thanos EVO",B109)),ISERROR(FIND("Design ",B109))),0,96.55),19.35)) -> 0 | K109: R3 | L109: =IF(K109<>"",IFERROR(VLOOKUP(K109,Rabattwerte_eintragen!$A$3:$C$24,3,FALSE),0),0) -> 0 | M109: =IF(H109<>"",H109*(1-L109)+I109*(1-VLOOKUP("A1",Rabattwerte_eintragen!$A$3:$C$26,3,FALSE)),"") -> 59.15 | O109: =IF(Q109<>"",HYPERLINK(Q109, "Artikel online anzeigen"),"") -> Artikel online anzeigen | Q109: https://www.thermokon.de/direct/de-ch/products/novos-3-p-weiss-temp-ntc10k-10-kohm | T109: 85365019 | U109: Einsatzzweck: Raumklimasteuerung, Messwerterfassung Bedienfunktionen: Sollwertverstellung Temperatur Bedienelemente: Potentiometer (P), 10 kOhm, Beschriftung {- [Skala] +} Sensor: NTC10k Temperatureinsatzbereich: -35..+70 °C, Genauigkeit Temperatur: ±0,2 K (typ. bei 25 °C, temperaturabhängig) Gehäuse: NOVOS 3, PC V0, Farbe: reinweiss, Schutzart: IP20 Montage: Aufputz auf Standard UP-Dose (Ø=60 mm), flach auf Untergrund, kleben oder schrauben, Gehäuseunterteil kann separat vom Gehäuseoberteil vormontiert und verdrahtet werden
... A111: 1317 | B111: NOVOS 3 PTD weiss Temp NTC10k, 10 kOhm | C111: Raumbediengerät Temperatur | D111: NOVOS 3 x | E111: Raumanwendung | F111: Raumbediengeräte | G111: 730020 | H111: 86.15 | I111: =IF(R111="UP",VLOOKUP($I$1,Änderungen!$F$1:$G$4,2,FALSE),IF(OR(ISERROR(FIND("NOVOS",B111)),ISERROR(FIND("Design ",B111))),IF(OR(ISERROR(FIND("thanos EVO",B111)),ISERROR(FIND("Design ",B111))),0,96.55),19.35)) -> 0 | K111: R3 | L111: =IF(K111<>"",IFERROR(VLOOKUP(K111,Rabattwerte_eintragen!$A$3:$C$24,3,FALSE),0),0) -> 0 | M111: =IF(H111<>"",H111*(1-L111)+I111*(1-VLOOKUP("A1",Rabattwerte_eintragen!$A$3:$C$26,3,FALSE)),"") -> 86.15 | O111: =IF(Q111<>"",HYPERLINK(Q111, "Artikel online anzeigen"),"") -> Artikel online anzeigen | Q111: https://www.thermokon.de/direct/de-ch/products/novos-3-ptd-weiss-temp-ntc10k-10-kohm | T111: 85365019 | U111: Einsatzzweck: Raumklimasteuerung, Messwerterfassung Bedienfunktionen: Sollwertverstellung Temperatur, Präsenzmeldung Bedienelemente: Potentiometer (P), 10 kOhm, Beschriftung {- [Skala] +}, Taster (T), mit LED 24 V =, Farbe konfigurierbar über Jumper (7 Farben) Sensor: NTC10k Temperatureinsatzbereich: -35..+70 °C, Genauigkeit Temperatur: ±0,2 K (typ. bei 25 °C, temperaturabhängig) Spannungsversorgung: 15..35 V = SELV, 19..29 V ~ SELV Anzeige: RGB-LED Gehäuse: PC V0, Farbe: reinweiss, Schutzart: IP20 Montage: Aufputz auf Standard UP-Dose (Ø=60 mm), flach auf Untergrund, kleben oder schrauben, Gehäuseunterteil kann separat vom Gehäuseoberteil vormontiert und verdrahtet werden
A112: 1326 | B112: NOVOS 3 P weiss Temp TRV, Poti_aktiv | C112: Raumbediengerät Temperatur | D112: NOVOS 3 x | E112: Raumanwendung | F112: Raumbediengeräte | G112: 734691 | H112: 144.75 | I112: =IF(R112="UP",VLOOKUP($I$1,Änderungen!$F$1:$G$4,2,FALSE),IF(OR(ISERROR(FIND("NOVOS",B112)),ISERROR(FIND("Design ",B112))),IF(OR(ISERROR(FIND("thanos EVO",B112)),ISERROR(FIND("Design ",B112))),0,96.55),19.35)) -> 0 | J112: ja | K112: R3 | L112: =IF(K112<>"",IFERROR(VLOOKUP(K112,Rabattwerte_eintragen!$A$3:$C$24,3,FALSE),0),0) -> 0 | M112: =IF(H112<>"",H112*(1-L112)+I112*(1-VLOOKUP("A1",Rabattwerte_eintragen!$A$3:$C$26,3,FALSE)),"") -> 144.75 | O112: =IF(Q112<>"",HYPERLINK(Q112, "Artikel online anzeigen"),"") -> Artikel online anzeigen | Q112: https://www.thermokon.de/direct/de-ch/products/novos-3-p-weiss-temp-trv-poti-aktiv | T112: 85365019 | U112: Einsatzzweck: Raumklimasteuerung, Messwerterfassung Bedienfunktionen: Sollwertverstellung Temperatur Bedienelemente: Potentiometer (P), aktiv 0..10 V, Beschriftung {- [Skala] +} Ausgang Spannung: 0..10 V oder 0..5 V, einstellbar über Jumper, live-zero-Konfiguration über App oder uConfig, min. Last 10 kΩ Temperatureinsatzbereich: -35..+70 °C, Genauigkeit Temperatur: ±0,5 K (typ. bei 21 °C) im Standardmessbereich Spannungsversorgung: 15..35 V = SELV, 19..29 V ~ SELV Gehäuse: PC V0, Farbe: reinweiss, Schutzart: IP20 Montage: Aufputz auf Standard UP-Dose (Ø=60 mm), flach auf Untergrund, kleben oder schrauben, Gehäuseunterteil kann separat vom Gehäuseoberteil vormontiert und verdrahtet werden
A113: 1329 | B113: NOVOS 3 TD weiss Temp TRV | C113: Raumbediengerät Temperatur | D113: NOVOS 3 x | E113: Raumanwendung | F113: Raumbediengeräte | G113: 734714 | H113: 152 | I113: =IF(R113="UP",VLOOKUP($I$1,Änderungen!$F$1:$G$4,2,FALSE),IF(OR(ISERROR(FIND("NOVOS",B113)),ISERROR(FIND("Design ",B113))),IF(OR(ISERROR(FIND("thanos EVO",B113)),ISERROR(FIND("Design ",B113))),0,96.55),19.35)) -> 0 | K113: R3 | L113: =IF(K113<>"",IFERROR(VLOOKUP(K113,Rabattwerte_eintragen!$A$3:$C$24,3,FALSE),0),0) -> 0 | M113: =IF(H113<>"",H113*(1-L113)+I113*(1-VLOOKUP("A1",Rabattwerte_eintragen!$A$3:$C$26,3,FALSE)),"") -> 152 | O113: =IF(Q113<>"",HYPERLINK(Q113, "Artikel online anzeigen"),"") -> Artikel online anzeigen | Q113: https://www.thermokon.de/direct/de-ch/products/novos-3-td-weiss-temp-trv | T113: 85365019 | U113: Einsatzzweck: Raumklimasteuerung, Messwerterfassung Bedienfunktionen: Präsenzmeldung Bedienelemente: Taster (T), mit LED 24 V =, Farbe konfigurierbar über Jumper (7 Farben) Ausgang Spannung: 0..10 V oder 0..5 V, einstellbar über Jumper, live-zero-Konfiguration über App oder uConfig, min. Last 10 kΩ Temperatureinsatzbereich: -35..+70 °C, Genauigkeit Temperatur: ±0,5 K (typ. bei 21 °C) im Standardmessbereich Spannungsversorgung: 15..35 V = SELV, 19..29 V ~ SELV Anzeige: RGB-LED Gehäuse: PC V0, Farbe: reinweiss, Schutzart: IP20 Montage: Aufputz auf Standard UP-Dose (Ø=60 mm), flach auf Untergrund, kleben oder schrauben, Gehäuseunterteil kann separat vom Gehäuseoberteil vormontiert und verdrahtet werden
A114: 1330 | B114: NOVOS 3 PTD weiss Temp TRV, Poti_aktiv | C114: Raumbediengerät Temperatur | D114: NOVOS 3 x | E114: Raumanwendung | F114: Raumbediengeräte | G114: 734776 | H114: 171.75 | I114: =IF(R114="UP",VLOOKUP($I$1,Änderungen!$F$1:$G$4,2,FALSE),IF(OR(ISERROR(FIND("NOVOS",B114)),ISERROR(FIND("Design ",B114))),IF(OR(ISERROR(FIND("thanos EVO",B114)),ISERROR(FIND("Design ",B114))),0,96.55),19.35)) -> 0 | K114: R3 | L114: =IF(K114<>"",IFERROR(VLOOKUP(K114,Rabattwerte_eintragen!$A$3:$C$24,3,FALSE),0),0) -> 0 | M114: =IF(H114<>"",H114*(1-L114)+I114*(1-VLOOKUP("A1",Rabattwerte_eintragen!$A$3:$C$26,3,FALSE)),"") -> 171.75 | O114: =IF(Q114<>"",HYPERLINK(Q114, "Artikel online anzeigen"),"") -> Artikel online anzeigen | Q114: https://www.thermokon.de/direct/de-ch/products/novos-3-ptd-weiss-temp-trv-poti-aktiv | T114: 85365019 | U114: Einsatzzweck: Raumklimasteuerung, Messwerterfassung Bedienfunktionen: Sollwertverstellung Temperatur Bedienelemente: Potentiometer (P), aktiv 0..10 V, Beschriftung {- [Skala] +}, Taster (T), mit LED 24 V =, Farbe konfigurierbar über Jumper (7 Farben) Ausgang Spannung: 0..10 V oder 0..5 V, einstellbar über Jumper, live-zero-Konfiguration über App oder uConfig, min. Last 10 kΩ Temperatureinsatzbereich: -35..+70 °C, Genauigkeit Temperatur: ±0,5 K (typ. bei 21 °C) im Standardmessbereich Spannungsversorgung: 15..35 V = SELV, 19..29 V ~ SELV Anzeige: RGB-LED Gehäuse: PC V0, Farbe: reinweiss, Schutzart: IP20 Montage: Aufputz auf Standard UP-Dose (Ø=60 mm), flach auf Untergrund, kleben oder schrauben, Gehäuseunterteil kann separat vom Gehäuseoberteil vormontiert und verdrahtet werden
A115: 1332 | B115: NOVOS 3 P weiss Temp RS485 BACnet (MS/TP) | C115: Raumbediengerät Temperatur | D115: NOVOS 3 x | E115: Raumanwendung | F115: Raumbediengeräte | G115: 754453 | H115: 197.5 | I115: =IF(R115="UP",VLOOKUP($I$1,Änderungen!$F$1:$G$4,2,FALSE),IF(OR(ISERROR(FIND("NOVOS",B115)),ISERROR(FIND("Design ",B115))),IF(OR(ISERROR(FIND("thanos EVO",B115)),ISERROR(FIND("Design ",B115))),0,96.55),19.35)) -> 0 | K115: R2 | L115: =IF(K115<>"",IFERROR(VLOOKUP(K115,Rabattwerte_eintragen!$A$3:$C$24,3,FALSE),0),0) -> 0 | M115: =IF(H115<>"",H115*(1-L115)+I115*(1-VLOOKUP("A1",Rabattwerte_eintragen!$A$3:$C$26,3,FALSE)),"") -> 197.5 | O115: =IF(Q115<>"",HYPERLINK(Q115, "Artikel online anzeigen"),"") -> Artikel online anzeigen | Q115: https://www.thermokon.de/direct/de-ch/products/novos-3-p-weiss-temp-rs485-bacnet-ms-tp | T115: 85365019 | U115: Einsatzzweck: Raumklimasteuerung, Messwerterfassung Bedienfunktionen: Sollwertverstellung Temperatur Bedienelemente: Potentiometer (P), Beschriftung {- [Skala] +} Netzwerktechnologie: RS485 BACnet (MS/TP) Temperatureinsatzbereich: -35..+70 °C, Genauigkeit Temperatur: ±0,5 K (typ. bei 21 °C) im Standardmessbereich Eingang: 1x Eingang für potentialfreien Kontakt Spannungsversorgung: 15..35 V = SELV, 19..29 V ~ SELV Gehäuse: PC V0, Farbe: reinweiss, Schutzart: IP20 Montage: Aufputz auf Standard UP-Dose (Ø=60 mm), flach auf Untergrund, kleben oder schrauben, Gehäuseunterteil kann separat vom Gehäuseoberteil vormontiert und verdrahtet werden
A116: 1335 | B116: NOVOS 3 TD weiss Temp RS485 BACnet (MS/TP) | C116: Raumbediengerät Temperatur | D116: NOVOS 3 x | E116: Raumanwendung | F116: Raumbediengeräte | G116: 754460 | H116: 206.1 | I116: =IF(R116="UP",VLOOKUP($I$1,Änderungen!$F$1:$G$4,2,FALSE),IF(OR(ISERROR(FIND("NOVOS",B116)),ISERROR(FIND("Design ",B116))),IF(OR(ISERROR(FIND("thanos EVO",B116)),ISERROR(FIND("Design ",B116))),0,96.55),19.35)) -> 0 | K116: R2 | L116: =IF(K116<>"",IFERROR(VLOOKUP(K116,Rabattwerte_eintragen!$A$3:$C$24,3,FALSE),0),0) -> 0 | M116: =IF(H116<>"",H116*(1-L116)+I116*(1-VLOOKUP("A1",Rabattwerte_eintragen!$A$3:$C$26,3,FALSE)),"") -> 206.1 | O116: =IF(Q116<>"",HYPERLINK(Q116, "Artikel online anzeigen"),"") -> Artikel online anzeigen | Q116: https://www.thermokon.de/direct/de-ch/products/novos-3-td-weiss-temp-rs485-bacnet-ms-tp | T116: 85365019 | U116: Einsatzzweck: Raumklimasteuerung, Messwerterfassung Bedienfunktionen: Präsenzmeldung Bedienelemente: Taster (T), mit LED 24 V =, Farbe konfigurierbar über Jumper (7 Farben) Netzwerktechnologie: RS485 BACnet (MS/TP) Temperatureinsatzbereich: -35..+70 °C, Genauigkeit Temperatur: ±0,5 K (typ. bei 21 °C) im Standardmessbereich Eingang: 1x Eingang für potentialfreien Kontakt Spannungsversorgung: 15..35 V = SELV, 19..29 V ~ SELV Anzeige: RGB-LED Gehäuse: PC V0, Farbe: reinweiss, Schutzart: IP20 Montage: Aufputz auf Standard UP-Dose (Ø=60 mm), flach auf Untergrund, kleben oder schrauben, Gehäuseunterteil kann separat vom Gehäuseoberteil vormontiert und verdrahtet werden
A117: 1339 | B117: NOVOS 3 PTD weiss Temp RS485 BACnet (MS/TP) | C117: Raumbediengerät Temperatur | D117: NOVOS 3 x | E117: Raumanwendung | F117: Raumbediengeräte | G117: 754477 | H117: 229.6 | I117: =IF(R117="UP",VLOOKUP($I$1,Änderungen!$F$1:$G$4,2,FALSE),IF(OR(ISERROR(FIND("NOVOS",B117)),ISERROR(FIND("Design ",B117))),IF(OR(ISERROR(FIND("thanos EVO",B117)),ISERROR(FIND("Design ",B117))),0,96.55),19.35)) -> 0 | K117: R2 | L117: =IF(K117<>"",IFERROR(VLOOKUP(K117,Rabattwerte_eintragen!$A$3:$C$24,3,FALSE),0),0) -> 0 | M117: =IF(H117<>"",H117*(1-L117)+I117*(1-VLOOKUP("A1",Rabattwerte_eintragen!$A$3:$C$26,3,FALSE)),"") -> 229.6 | O117: =IF(Q117<>"",HYPERLINK(Q117, "Artikel online anzeigen"),"") -> Artikel online anzeigen | Q117: https://www.thermokon.de/direct/de-ch/products/novos-3-ptd-weiss-temp-rs485-bacnet-ms-tp | T117: 85365019 | U117: Einsatzzweck: Raumklimasteuerung, Messwerterfassung Bedienfunktionen: Sollwertverstellung Temperatur, Präsenzmeldung Bedienelemente: Potentiometer (P), Beschriftung {- [Skala] +}, Taster (T), mit LED 24 V =, Farbe konfigurierbar über Jumper (7 Farben) Netzwerktechnologie: RS485 BACnet (MS/TP) Temperatureinsatzbereich: -35..+70 °C, Genauigkeit Temperatur: ±0,5 K (typ. bei 21 °C) im Standardmessbereich Eingang: 1x Eingang für potentialfreien Kontakt Spannungsversorgung: 15..35 V = SELV, 19..29 V ~ SELV Anzeige: RGB-LED Gehäuse: PC V0, Farbe: reinweiss, Schutzart: IP20 Montage: Aufputz auf Standard UP-Dose (Ø=60 mm), flach auf Untergrund, kleben oder schrauben, Gehäuseunterteil kann separat vom Gehäuseoberteil vormontiert und verdrahtet werden
A118: 1333 | B118: NOVOS 3 P weiss Temp RS485 Modbus | C118: Raumbediengerät Temperatur | D118: NOVOS 3 x | E118: Raumanwendung | F118: Raumbediengeräte | G118: 734851 | H118: 197.5 | I118: =IF(R118="UP",VLOOKUP($I$1,Änderungen!$F$1:$G$4,2,FALSE),IF(OR(ISERROR(FIND("NOVOS",B118)),ISERROR(FIND("Design ",B118))),IF(OR(ISERROR(FIND("thanos EVO",B118)),ISERROR(FIND("Design ",B118))),0,96.55),19.35)) -> 0 | K118: R2 | L118: =IF(K118<>"",IFERROR(VLOOKUP(K118,Rabattwerte_eintragen!$A$3:$C$24,3,FALSE),0),0) -> 0 | M118: =IF(H118<>"",H118*(1-L118)+I118*(1-VLOOKUP("A1",Rabattwerte_eintragen!$A$3:$C$26,3,FALSE)),"") -> 197.5 | O118: =IF(Q118<>"",HYPERLINK(Q118, "Artikel online anzeigen"),"") -> Artikel online anzeigen | Q118: https://www.thermokon.de/direct/de-ch/products/novos-3-p-weiss-temp-rs485-modbus | T118: 85365019 | U118: Einsatzzweck: Raumklimasteuerung, Messwerterfassung Bedienfunktionen: Sollwertverstellung Temperatur Bedienelemente: Potentiometer (P), Beschriftung {- [Skala] +} Netzwerktechnologie: RS485 Modbus Temperatureinsatzbereich: -35..+70 °C, Genauigkeit Temperatur: ±0,5 K (typ. bei 21 °C) im Standardmessbereich Eingang: 1x Eingang für potentialfreien Kontakt Spannungsversorgung: 15..35 V = SELV, 19..29 V ~ SELV Gehäuse: PC V0, Farbe: reinweiss, Schutzart: IP20 Montage: Aufputz auf Standard UP-Dose (Ø=60 mm), flach auf Untergrund, kleben oder schrauben, Gehäuseunterteil kann separat vom Gehäuseoberteil vormontiert und verdrahtet werden Lieferumfang: inkl. Klebefolie zur Befestigung
A119: 1336 | B119: NOVOS 3 TD weiss Temp RS485 Modbus | C119: Raumbediengerät Temperatur | D119: NOVOS 3 x | E119: Raumanwendung | F119: Raumbediengeräte | G119: 734882 | H119: 206.1 | I119: =IF(R119="UP",VLOOKUP($I$1,Änderungen!$F$1:$G$4,2,FALSE),IF(OR(ISERROR(FIND("NOVOS",B119)),ISERROR(FIND("Design ",B119))),IF(OR(ISERROR(FIND("thanos EVO",B119)),ISERROR(FIND("Design ",B119))),0,96.55),19.35)) -> 0 | K119: R2 | L119: =IF(K119<>"",IFERROR(VLOOKUP(K119,Rabattwerte_eintragen!$A$3:$C$24,3,FALSE),0),0) -> 0 | M119: =IF(H119<>"",H119*(1-L119)+I119*(1-VLOOKUP("A1",Rabattwerte_eintragen!$A$3:$C$26,3,FALSE)),"") -> 206.1 | O119: =IF(Q119<>"",HYPERLINK(Q119, "Artikel online anzeigen"),"") -> Artikel online anzeigen | Q119: https://www.thermokon.de/direct/de-ch/products/novos-3-td-weiss-temp-rs485-modbus | T119: 85365019 | U119: Einsatzzweck: Raumklimasteuerung, Messwerterfassung Bedienfunktionen: Präsenzmeldung Bedienelemente: Taster (T), mit LED 24 V =, Farbe konfigurierbar über Jumper (7 Farben) Netzwerktechnologie: RS485 Modbus Temperatureinsatzbereich: -35..+70 °C, Genauigkeit Temperatur: ±0,5 K (typ. bei 21 °C) im Standardmessbereich Eingang: 1x Eingang für potentialfreien Kontakt Spannungsversorgung: 15..35 V = SELV, 19..29 V ~ SELV Anzeige: RGB-LED Gehäuse: PC V0, Farbe: reinweiss, Schutzart: IP20 Montage: Aufputz auf Standard UP-Dose (Ø=60 mm), flach auf Untergrund, kleben oder schrauben, Gehäuseunterteil kann separat vom Gehäuseoberteil vormontiert und verdrahtet werden Lieferumfang: inkl. Klebefolie zur Befestigung
A120: 1338 | B120: NOVOS 3 PTD weiss Temp RS485 Modbus | C120: Raumbediengerät Temperatur | D120: NOVOS 3 x | E120: Raumanwendung | F120: Raumbediengeräte | G120: 734899 | H120: 229.6 | I120: =IF(R120="UP",VLOOKUP($I$1,Änderungen!$F$1:$G$4,2,FALSE),IF(OR(ISERROR(FIND("NOVOS",B120)),ISERROR(FIND("Design ",B120))),IF(OR(ISERROR(FIND("thanos EVO",B120)),ISERROR(FIND("Design ",B120))),0,96.55),19.35)) -> 0 | K120: R2 | L120: =IF(K120<>"",IFERROR(VLOOKUP(K120,Rabattwerte_eintragen!$A$3:$C$24,3,FALSE),0),0) -> 0 | M120: =IF(H120<>"",H120*(1-L120)+I120*(1-VLOOKUP("A1",Rabattwerte_eintragen!$A$3:$C$26,3,FALSE)),"") -> 229.6 | O120: =IF(Q120<>"",HYPERLINK(Q120, "Artikel online anzeigen"),"") -> Artikel online anzeigen | Q120: https://www.thermokon.de/direct/de-ch/products/novos-3-ptd-weiss-temp-rs485-modbus | T120: 85365019 | U120: Einsatzzweck: Raumklimasteuerung, Messwerterfassung Bedienfunktionen: Sollwertverstellung Temperatur, Präsenzmeldung Bedienelemente: Potentiometer (P), Beschriftung {- [Skala] +}, Taster (T), mit LED 24 V =, Farbe konfigurierbar über Jumper (7 Farben) Netzwerktechnologie: RS485 Modbus Temperatureinsatzbereich: -35..+70 °C, Genauigkeit Temperatur: ±0,5 K (typ. bei 21 °C) im Standardmessbereich Eingang: 1x Eingang für potentialfreien Kontakt Spannungsversorgung: 15..35 V = SELV, 19..29 V ~ SELV Anzeige: RGB-LED Gehäuse: PC V0, Farbe: reinweiss, Schutzart: IP20 Montage: Aufputz auf Standard UP-Dose (Ø=60 mm), flach auf Untergrund, kleben oder schrauben, Gehäuseunterteil kann separat vom Gehäuseoberteil vormontiert und verdrahtet werden Lieferumfang: inkl. Klebefolie zur Befestigung
A121: 8309 | B121: NOVOS 3 SR P weiss Temp | C121: Raumbediengerät Temperatur | D121: NOVOS 3 x | E121: Raumanwendung | F121: Raumbediengeräte | G121: 754064 | H121: 235.5 | I121: =IF(R121="UP",VLOOKUP($I$1,Änderungen!$F$1:$G$4,2,FALSE),IF(OR(ISERROR(FIND("NOVOS",B121)),ISERROR(FIND("Design ",B121))),IF(OR(ISERROR(FIND("thanos EVO",B121)),ISERROR(FIND("Design ",B121))),0,96.55),19.35)) -> 0 | J121: ja | K121: E2 | L121: =IF(K121<>"",IFERROR(VLOOKUP(K121,Rabattwerte_eintragen!$A$3:$C$24,3,FALSE),0),0) -> 0 | M121: =IF(H121<>"",H121*(1-L121)+I121*(1-VLOOKUP("A1",Rabattwerte_eintragen!$A$3:$C$26,3,FALSE)),"") -> 235.5 | O121: =IF(Q121<>"",HYPERLINK(Q121, "Artikel online anzeigen"),"") -> Artikel online anzeigen | Q121: https://www.thermokon.de/direct/de-ch/products/novos-3-sr-p-weiss-temp | T121: 85176200 | U121: Einsatzzweck: Raumklimasteuerung, Messwerterfassung Bedienfunktionen: Sollwertverstellung Temperatur Bedienelemente: Potentiometer (P), Beschriftung {- [Skala] +} Funktechnologie: EnOcean (IEC 14543-3-10) 868 MHz, Sendeleistung <10 mW, EEP A5-10-03 (4BS) Temperatureinsatzbereich: 0..+40 °C, Genauigkeit Temperatur: ±0,4 K (typ. bei 21 °C) Spannungsversorgung: Solarzelle, wartungsfreier interner Super Cap, Einsatz einer Stützbatterie für unzureichend beleuchtete Umgebungen möglich, Batterie LS14250 (3,6 V) Gehäuse: PC V0, Farbe: reinweiss, Schutzart: IP20 Montage: flach auf Untergrund, kleben oder schrauben Lieferumfang: inkl. Klebefolie zur Befestigung Hinweise: Bitte beachten Sie unser 'Informationsblatt EasySens® Funk'
A122: 8316 | B122: NOVOS 3 SR T weiss Temp | C122: Raumbediengerät Temperatur | D122: NOVOS 3 x | E122: Raumanwendung | F122: Raumbediengeräte | G122: 754071 | H122: 243.4 | I122: =IF(R122="UP",VLOOKUP($I$1,Änderungen!$F$1:$G$4,2,FALSE),IF(OR(ISERROR(FIND("NOVOS",B122)),ISERROR(FIND("Design ",B122))),IF(OR(ISERROR(FIND("thanos EVO",B122)),ISERROR(FIND("Design ",B122))),0,96.55),19.35)) -> 0 | K122: E2 | L122: =IF(K122<>"",IFERROR(VLOOKUP(K122,Rabattwerte_eintragen!$A$3:$C$24,3,FALSE),0),0) -> 0 | M122: =IF(H122<>"",H122*(1-L122)+I122*(1-VLOOKUP("A1",Rabattwerte_eintragen!$A$3:$C$26,3,FALSE)),"") -> 243.4 | O122: =IF(Q122<>"",HYPERLINK(Q122, "Artikel online anzeigen"),"") -> Artikel online anzeigen | Q122: https://www.thermokon.de/direct/de-ch/products/novos-3-sr-t-weiss-temp | T122: 85176200 | U122: Einsatzzweck: Raumklimasteuerung, Messwerterfassung Bedienfunktionen: Präsenzmeldung Bedienelemente: Taster (T) Funktechnologie: EnOcean (IEC 14543-3-10) 868 MHz, Sendeleistung <10 mW Temperatureinsatzbereich: 0..+40 °C, Genauigkeit Temperatur: ±0,4 K (typ. bei 21 °C) Spannungsversorgung: Solarzelle, wartungsfreier interner Super Cap, Einsatz einer Stützbatterie für unzureichend beleuchtete Umgebungen möglich, Batterie LS14250 (3,6 V) Gehäuse: PC V0, Farbe: reinweiss, Schutzart: IP20 Montage: flach auf Untergrund, kleben oder schrauben Lieferumfang: inkl. Klebefolie zur Befestigung Hinweise: Bitte beachten Sie unser 'Informationsblatt EasySens® Funk'
A123: 8317 | B123: NOVOS 3 SR PT weiss Temp | C123: Raumbediengerät Temperatur | D123: NOVOS 3 x | E123: Raumanwendung | F123: Raumbediengeräte | G123: 754095 | H123: 267.6 | I123: =IF(R123="UP",VLOOKUP($I$1,Änderungen!$F$1:$G$4,2,FALSE),IF(OR(ISERROR(FIND("NOVOS",B123)),ISERROR(FIND("Design ",B123))),IF(OR(ISERROR(FIND("thanos EVO",B123)),ISERROR(FIND("Design ",B123))),0,96.55),19.35)) -> 0 | K123: E2 | L123: =IF(K123<>"",IFERROR(VLOOKUP(K123,Rabattwerte_eintragen!$A$3:$C$24,3,FALSE),0),0) -> 0 | M123: =IF(H123<>"",H123*(1-L123)+I123*(1-VLOOKUP("A1",Rabattwerte_eintragen!$A$3:$C$26,3,FALSE)),"") -> 267.6 | O123: =IF(Q123<>"",HYPERLINK(Q123, "Artikel online anzeigen"),"") -> Artikel online anzeigen | Q123: https://www.thermokon.de/direct/de-ch/products/novos-3-sr-pt-weiss-temp | T123: 85176200 | U123: Einsatzzweck: Raumklimasteuerung, Messwerterfassung Bedienfunktionen: Sollwertverstellung Temperatur Bedienelemente: Potentiometer (P), Beschriftung {- [Skala] +} Funktechnologie: EnOcean (IEC 14543-3-10) 868 MHz, Sendeleistung <10 mW, EEP A5-10-05 (4BS) Temperatureinsatzbereich: 0..+40 °C, Genauigkeit Temperatur: ±0,4 K (typ. bei 21 °C) Spannungsversorgung: Solarzelle, wartungsfreier interner Super Cap, Einsatz einer Stützbatterie für unzureichend beleuchtete Umgebungen möglich, Batterie LS14250 (3,6 V) Gehäuse: PC V0, Farbe: reinweiss, Schutzart: IP20 Montage: flach auf Untergrund, kleben oder schrauben Lieferumfang: inkl. Klebefolie zur Befestigung Hinweise: Bitte beachten Sie unser 'Informationsblatt EasySens® Funk'
A124: 8318 | B124: NOVOS 3 SR P weiss Temp_rH | C124: Raumbediengerät Temperatur | D124: NOVOS 3 x | E124: Raumanwendung | F124: Raumbediengeräte | G124: 754101 | H124: 299.4 | I124: =IF(R124="UP",VLOOKUP($I$1,Änderungen!$F$1:$G$4,2,FALSE),IF(OR(ISERROR(FIND("NOVOS",B124)),ISERROR(FIND("Design ",B124))),IF(OR(ISERROR(FIND("thanos EVO",B124)),ISERROR(FIND("Design ",B124))),0,96.55),19.35)) -> 0 | K124: E2 | L124: =IF(K124<>"",IFERROR(VLOOKUP(K124,Rabattwerte_eintragen!$A$3:$C$24,3,FALSE),0),0) -> 0 | M124: =IF(H124<>"",H124*(1-L124)+I124*(1-VLOOKUP("A1",Rabattwerte_eintragen!$A$3:$C$26,3,FALSE)),"") -> 299.4 | O124: =IF(Q124<>"",HYPERLINK(Q124, "Artikel online anzeigen"),"") -> Artikel online anzeigen | Q124: https://www.thermokon.de/direct/de-ch/products/novos-3-sr-p-weiss-temp-rh | T124: 85176200 | U124: Einsatzzweck: Raumklimasteuerung, Messwerterfassung Bedienfunktionen: Sollwertverstellung Temperatur Bedienelemente: Potentiometer (P), Beschriftung {- [Skala] +} Funktechnologie: EnOcean (IEC 14543-3-10) 868 MHz, Sendeleistung <10 mW, EEP A5-10-12 (4BS) Temperatureinsatzbereich: 0..+40 °C, Genauigkeit Temperatur: ±0,4 K (typ. bei 21 °C) Spannungsversorgung: Solarzelle, wartungsfreier interner Super Cap, Einsatz einer Stützbatterie für unzureichend beleuchtete Umgebungen möglich, Batterie LS14250 (3,6 V) Gehäuse: PC V0, Farbe: reinweiss, Schutzart: IP20 Montage: flach auf Untergrund, kleben oder schrauben Lieferumfang: inkl. Klebefolie zur Befestigung Hinweise: Bitte beachten Sie unser 'Informationsblatt EasySens® Funk'
A125: 8319 | B125: NOVOS 3 SR T weiss Temp_rH | C125: Raumbediengerät Temperatur | D125: NOVOS 3 x | E125: Raumanwendung | F125: Raumbediengeräte | G125: 754118 | H125: 307.25 | I125: =IF(R125="UP",VLOOKUP($I$1,Änderungen!$F$1:$G$4,2,FALSE),IF(OR(ISERROR(FIND("NOVOS",B125)),ISERROR(FIND("Design ",B125))),IF(OR(ISERROR(FIND("thanos EVO",B125)),ISERROR(FIND("Design ",B125))),0,96.55),19.35)) -> 0 | K125: E2 | L125: =IF(K125<>"",IFERROR(VLOOKUP(K125,Rabattwerte_eintragen!$A$3:$C$24,3,FALSE),0),0) -> 0 | M125: =IF(H125<>"",H125*(1-L125)+I125*(1-VLOOKUP("A1",Rabattwerte_eintragen!$A$3:$C$26,3,FALSE)),"") -> 307.25 | O125: =IF(Q125<>"",HYPERLINK(Q125, "Artikel online anzeigen"),"") -> Artikel online anzeigen | Q125: https://www.thermokon.de/direct/de-ch/products/novos-3-sr-t-weiss-temp-rh | T125: 85176200 | U125: Einsatzzweck: Raumklimasteuerung, Messwerterfassung Bedienfunktionen: Präsenzmeldung Bedienelemente: Taster (T) Funktechnologie: EnOcean (IEC 14543-3-10) 868 MHz, Sendeleistung <10 mW Temperatureinsatzbereich: 0..+40 °C, Genauigkeit Temperatur: ±0,4 K (typ. bei 21 °C) Spannungsversorgung: Solarzelle, wartungsfreier interner Super Cap, Einsatz einer Stützbatterie für unzureichend beleuchtete Umgebungen möglich, Batterie LS14250 (3,6 V) Gehäuse: PC V0, Farbe: reinweiss, Schutzart: IP20 Montage: flach auf Untergrund, kleben oder schrauben Lieferumfang: inkl. Klebefolie zur Befestigung Hinweise: Bitte beachten Sie unser 'Informationsblatt EasySens® Funk'
A126: 8320 | B126: NOVOS 3 SR PT weiss Temp_rH | C126: Raumbediengerät Temperatur | D126: NOVOS 3 x | E126: Raumanwendung | F126: Raumbediengeräte | G126: 754125 | H126: 331.45 | I126: =IF(R126="UP",VLOOKUP($I$1,Änderungen!$F$1:$G$4,2,FALSE),IF(OR(ISERROR(FIND("NOVOS",B126)),ISERROR(FIND("Design ",B126))),IF(OR(ISERROR(FIND("thanos EVO",B126)),ISERROR(FIND("Design ",B126))),0,96.55),19.35)) -> 0 | K126: E2 | L126: =IF(K126<>"",IFERROR(VLOOKUP(K126,Rabattwerte_eintragen!$A$3:$C$24,3,FALSE),0),0) -> 0 | M126: =IF(H126<>"",H126*(1-L126)+I126*(1-VLOOKUP("A1",Rabattwerte_eintragen!$A$3:$C$26,3,FALSE)),"") -> 331.45 | O126: =IF(Q126<>"",HYPERLINK(Q126, "Artikel online anzeigen"),"") -> Artikel online anzeigen | Q126: https://www.thermokon.de/direct/de-ch/products/novos-3-sr-pt-weiss-temp-rh | T126: 85176200 | U126: Einsatzzweck: Raumklimasteuerung, Messwerterfassung Bedienfunktionen: Sollwertverstellung Temperatur, Präsenzmeldung Bedienelemente: Potentiometer (P), Beschriftung {- [Skala] +}, Taster (T) Funktechnologie: EnOcean (IEC 14543-3-10) 868 MHz, Sendeleistung <10 mW, EEP A5-10-05 (4BS) Temperatureinsatzbereich: 0..+40 °C, Genauigkeit Temperatur: ±0,4 K (typ. bei 21 °C) Spannungsversorgung: Solarzelle, wartungsfreier interner Super Cap, Einsatz einer Stützbatterie für unzureichend beleuchtete Umgebungen möglich, Batterie LS14250 (3,6 V) Gehäuse: PC V0, Farbe: reinweiss, Schutzart: IP20 Montage: flach auf Untergrund, kleben oder schrauben Lieferumfang: inkl. Klebefolie zur Befestigung Hinweise: Bitte beachten Sie unser 'Informationsblatt EasySens® Funk'
A127: 11571 | B127: NOVOS 3 P weiss Temp_rH LRW | C127: Raumbediengerät Temperatur, relative Feuchte | D127: NOVOS 3 x | E127: Raumanwendung | F127: Raumbediengeräte | G127: 811217 | H127: 109 | I127: =IF(R127="UP",VLOOKUP($I$1,Änderungen!$F$1:$G$4,2,FALSE),IF(OR(ISERROR(FIND("NOVOS",B127)),ISERROR(FIND("Design ",B127))),IF(OR(ISERROR(FIND("thanos EVO",B127)),ISERROR(FIND("Design ",B127))),0,96.55),19.35)) -> 0 | K127: W1 | L127: =IF(K127<>"",IFERROR(VLOOKUP(K127,Rabattwerte_eintragen!$A$3:$C$24,3,FALSE),0),0) -> 0 | M127: =IF(H127<>"",H127*(1-L127)+I127*(1-VLOOKUP("A1",Rabattwerte_eintragen!$A$3:$C$26,3,FALSE)),"") -> 109 | O127: =IF(Q127<>"",HYPERLINK(Q127, "Artikel online anzeigen"),"") -> Artikel online anzeigen | Q127: https://www.thermokon.de/direct/de-ch/products/novos-3-p-weiss-temp-rh-lrw | T127: 85176200 | U127: Einsatzzweck: Raumklimasteuerung, Messwerterfassung Bedienfunktionen: Sollwertverstellung Temperatur Bedienelemente: Potentiometer (P), Beschriftung {- [Skala] +} Funktechnologie: LoRaWAN® (868 MHz) Temperatureinsatzbereich: -20..+70 °C, Genauigkeit Temperatur: ±0,4 K (typ. bei 21 °C) Messbereich Feuchte: 0..100% rH ohne Betauung, Genauigkeit Feuchte: ±2% zwischen 10..90% rH (typ. bei 21 °C) Spannungsversorgung: Batterie Typ AA (1x) Gehäuse: PC V0, Farbe: reinweiss, Schutzart: IP20 Montage: Aufputz auf Standard UP-Dose (Ø=60 mm), flach auf Untergrund, kleben oder schrauben Lieferumfang: inkl. Klebefolie zur Befestigung Hinweise: Bitte beachten Sie unser 'Informationsblatt EasySens® Funk'
A128: 11573 | B128: NOVOS 3 T weiss CO2 Temp_rH LRW | C128: Raumbediengerät Temperatur, relative Feuchte, CO2, Bewegung | D128: NOVOS 3 x | E128: Raumanwendung | F128: Raumbediengeräte | G128: 824255 | H128: 233.2 | I128: =IF(R128="UP",VLOOKUP($I$1,Änderungen!$F$1:$G$4,2,FALSE),IF(OR(ISERROR(FIND("NOVOS",B128)),ISERROR(FIND("Design ",B128))),IF(OR(ISERROR(FIND("thanos EVO",B128)),ISERROR(FIND("Design ",B128))),0,96.55),19.35)) -> 0 | K128: W1 | L128: =IF(K128<>"",IFERROR(VLOOKUP(K128,Rabattwerte_eintragen!$A$3:$C$24,3,FALSE),0),0) -> 0 | M128: =IF(H128<>"",H128*(1-L128)+I128*(1-VLOOKUP("A1",Rabattwerte_eintragen!$A$3:$C$26,3,FALSE)),"") -> 233.2 | O128: =IF(Q128<>"",HYPERLINK(Q128, "Artikel online anzeigen"),"") -> Artikel online anzeigen | Q128: https://www.thermokon.de/direct/de-ch/products/novos-3-t-weiss-co2-temp-rh-lrw | T128: 85176200 | U128: Einsatzzweck: Raumklimasteuerung, Messwerterfassung Bedienfunktionen: Präsenzmeldung Bedienelemente: Taster (T) Funktechnologie: LoRaWAN® (868 MHz) Temperatureinsatzbereich: 0..+50 °C, Genauigkeit Temperatur: ±0,4 K (typ. bei 21 °C) Messbereich Feuchte: 0..100% rH ohne Betauung, Genauigkeit Feuchte: ±2% zwischen 10..90% rH (typ. bei 21 °C) Messbereich CO2: 0..5000 ppm, Genauigkeit CO2: ±50 ppm +3% des Messwerts (typ. bei 21 °C, 50% rH, 1015 hPa), Selbstkalibrierung Dual Channel Spannungsversorgung: Batterie Typ AA (1x) Gehäuse: PC V0, Farbe: reinweiss, Schutzart: IP20 Montage: Aufputz auf Standard UP-Dose (Ø=60 mm), flach auf Untergrund, kleben oder schrauben Lieferumfang: inkl. Klebefolie zur Befestigung Hinweise: Bitte beachten Sie unser 'Informationsblatt EasySens® Funk'
A129: 11572 | B129: NOVOS 3 PT weiss CO2 Temp_rH LRW | C129: Raumbediengerät Temperatur, relative Feuchte, CO2 | D129: NOVOS 3 x | E129: Raumanwendung | F129: Raumbediengeräte | G129: 824248 | H129: 241.5 | I129: =IF(R129="UP",VLOOKUP($I$1,Änderungen!$F$1:$G$4,2,FALSE),IF(OR(ISERROR(FIND("NOVOS",B129)),ISERROR(FIND("Design ",B129))),IF(OR(ISERROR(FIND("thanos EVO",B129)),ISERROR(FIND("Design ",B129))),0,96.55),19.35)) -> 0 | K129: W1 | L129: =IF(K129<>"",IFERROR(VLOOKUP(K129,Rabattwerte_eintragen!$A$3:$C$24,3,FALSE),0),0) -> 0 | M129: =IF(H129<>"",H129*(1-L129)+I129*(1-VLOOKUP("A1",Rabattwerte_eintragen!$A$3:$C$26,3,FALSE)),"") -> 241.5 | O129: =IF(Q129<>"",HYPERLINK(Q129, "Artikel online anzeigen"),"") -> Artikel online anzeigen | Q129: https://www.thermokon.de/direct/de-ch/products/novos-3-pt-weiss-co2-temp-rh-lrw | T129: 85176200 | U129: Einsatzzweck: Raumklimasteuerung, Messwerterfassung Bedienfunktionen: Sollwertverstellung Temperatur, Präsenzmeldung Bedienelemente: Potentiometer (P), Beschriftung {- [Skala] +}, Taster (T) Funktechnologie: LoRaWAN® (868 MHz) Temperatureinsatzbereich: -20..+50 °C, Genauigkeit Temperatur: ±0,4 K (typ. bei 21 °C) Messbereich Feuchte: 0..100% rH ohne Betauung, Genauigkeit Feuchte: ±2% zwischen 10..90% rH (typ. bei 21 °C) Messbereich CO2: 0..5000 ppm, Genauigkeit CO2: ±50 ppm +3% des Messwerts (typ. bei 21 °C, 50% rH, 1015 hPa), Selbstkalibrierung Dual Channel Spannungsversorgung: Batterie Typ AA (1x) Gehäuse: PC V0, Farbe: reinweiss, Schutzart: IP20 Montage: Aufputz auf Standard UP-Dose (Ø=60 mm), flach auf Untergrund, kleben oder schrauben Lieferumfang: inkl. Klebefolie zur Befestigung Hinweise: Bitte beachten Sie unser 'Informationsblatt EasySens® Funk'
A130: 13535 | B130: NOVOS 3 P weiss Occ Temp_rH LRW | C130: Raumbediengerät Temperatur, relative Feuchte, Bewegung | D130: NOVOS 3 x | E130: Raumanwendung | F130: Raumbediengeräte | G130: 850790 | H130: 216.65 | I130: =IF(R130="UP",VLOOKUP($I$1,Änderungen!$F$1:$G$4,2,FALSE),IF(OR(ISERROR(FIND("NOVOS",B130)),ISERROR(FIND("Design ",B130))),IF(OR(ISERROR(FIND("thanos EVO",B130)),ISERROR(FIND("Design ",B130))),0,96.55),19.35)) -> 0 | K130: W1 | L130: =IF(K130<>"",IFERROR(VLOOKUP(K130,Rabattwerte_eintragen!$A$3:$C$24,3,FALSE),0),0) -> 0 | M130: =IF(H130<>"",H130*(1-L130)+I130*(1-VLOOKUP("A1",Rabattwerte_eintragen!$A$3:$C$26,3,FALSE)),"") -> 216.65 | O130: =IF(Q130<>"",HYPERLINK(Q130, "Artikel online anzeigen"),"") -> Artikel online anzeigen | Q130: https://www.thermokon.de/direct/de-ch/products/novos-3-p-weiss-occ-temp-rh-lrw | T130: 85176200 | U130: Einsatzzweck: Raumklimasteuerung, Messwerterfassung Bedienfunktionen: Sollwertverstellung Temperatur Bedienelemente: Potentiometer (P), Beschriftung {- [Skala] +} Funktechnologie: LoRaWAN® (868 MHz) Temperatureinsatzbereich: -20..+70 °C, Genauigkeit Temperatur: ±0,4 K (typ. bei 21 °C) Messbereich Feuchte: 0..100% rH ohne Betauung, Genauigkeit Feuchte: ±2% zwischen 10..90% rH (typ. bei 21 °C) Spannungsversorgung: Batterie Typ AA (1x) Gehäuse: PC V0, Farbe: reinweiss, Schutzart: IP20 Montage: Aufputz auf Standard UP-Dose (Ø=60 mm), flach auf Untergrund, kleben oder schrauben Lieferumfang: inkl. Klebefolie zur Befestigung Hinweise: Bitte beachten Sie unser 'Informationsblatt EasySens® Funk'
A131: 12248 | B131: NOVOS 3 INC weiss Temp RS485 BACnet (MS/TP) | C131: Raumbediengerät Temperatur | D131: NOVOS 3 INC | E131: Raumanwendung | F131: Raumbediengeräte | G131: 840781 | H131: 227.8 | I131: =IF(R131="UP",VLOOKUP($I$1,Änderungen!$F$1:$G$4,2,FALSE),IF(OR(ISERROR(FIND("NOVOS",B131)),ISERROR(FIND("Design ",B131))),IF(OR(ISERROR(FIND("thanos EVO",B131)),ISERROR(FIND("Design ",B131))),0,96.55),19.35)) -> 0 | K131: R2 | L131: =IF(K131<>"",IFERROR(VLOOKUP(K131,Rabattwerte_eintragen!$A$3:$C$24,3,FALSE),0),0) -> 0 | M131: =IF(H131<>"",H131*(1-L131)+I131*(1-VLOOKUP("A1",Rabattwerte_eintragen!$A$3:$C$26,3,FALSE)),"") -> 227.8 | O131: =IF(Q131<>"",HYPERLINK(Q131, "Artikel online anzeigen"),"") -> Artikel online anzeigen | Q131: https://www.thermokon.de/direct/de-ch/products/novos-3-inc-weiss-temp-rs485-bacnet-ms-tp | T131: 85365019 | U131: Einsatzzweck: Raumklimasteuerung, Messwerterfassung Bedienfunktionen: Sollwertverstellung Temperatur, ECO-Funktion Bedienelemente: Drehgeber/Drücksteller für Sollwertverstellung/ECO-Funktion Netzwerktechnologie: RS485 BACnet (MS/TP) Temperatureinsatzbereich: -35..+70 °C, Genauigkeit Temperatur: ±0,5 K (typ. bei 21 °C) im Standardmessbereich Eingang: 1x Eingang für potentialfreien Kontakt Spannungsversorgung: 15..35 V = SELV, 19..29 V ~ SELV Anzeige: 7 LEDs zur Anzeige der Sollwertverstellung, Beschriftung {- +} Gehäuse: PC V0, Farbe: reinweiss, Schutzart: IP20 Montage: Aufputz auf Standard UP-Dose (Ø=60 mm), flach auf Untergrund, kleben oder schrauben, Gehäuseunterteil kann separat vom Gehäuseoberteil vormontiert und verdrahtet werden
A132: 9143 | B132: NOVOS 3 INC ECO weiss Temp RS485 BACnet (MS/TP) | C132: Raumbediengerät Temperatur | D132: NOVOS 3 INC | E132: Raumanwendung | F132: Raumbediengeräte | G132: 781657 | H132: 227.8 | I132: =IF(R132="UP",VLOOKUP($I$1,Änderungen!$F$1:$G$4,2,FALSE),IF(OR(ISERROR(FIND("NOVOS",B132)),ISERROR(FIND("Design ",B132))),IF(OR(ISERROR(FIND("thanos EVO",B132)),ISERROR(FIND("Design ",B132))),0,96.55),19.35)) -> 0 | K132: R2 | L132: =IF(K132<>"",IFERROR(VLOOKUP(K132,Rabattwerte_eintragen!$A$3:$C$24,3,FALSE),0),0) -> 0 | M132: =IF(H132<>"",H132*(1-L132)+I132*(1-VLOOKUP("A1",Rabattwerte_eintragen!$A$3:$C$26,3,FALSE)),"") -> 227.8 | O132: =IF(Q132<>"",HYPERLINK(Q132, "Artikel online anzeigen"),"") -> Artikel online anzeigen | Q132: https://www.thermokon.de/direct/de-ch/products/novos-3-inc-eco-weiss-temp-rs485-bacnet-ms-tp | T132: 85365019 | U132: Einsatzzweck: Raumklimasteuerung, Messwerterfassung Bedienfunktionen: Sollwertverstellung Temperatur, ECO-Funktion Bedienelemente: Drehgeber/Drücksteller für Sollwertverstellung/ECO-Funktion Netzwerktechnologie: RS485 BACnet (MS/TP) Temperatureinsatzbereich: -35..+70 °C, Genauigkeit Temperatur: ±0,5 K (typ. bei 21 °C) im Standardmessbereich Eingang: 1x Eingang für potentialfreien Kontakt Spannungsversorgung: 15..35 V = SELV, 19..29 V ~ SELV Anzeige: 7 LEDs zur Anzeige der Sollwertverstellung, Beschriftung {- +} Gehäuse: PC V0, Farbe: reinweiss, Schutzart: IP20 Montage: Aufputz auf Standard UP-Dose (Ø=60 mm), flach auf Untergrund, kleben oder schrauben, Gehäuseunterteil kann separat vom Gehäuseoberteil vormontiert und verdrahtet werden
A133: 12249 | B133: NOVOS 3 INC TD weiss Temp RS485 BACnet (MS/TP) | C133: Raumbediengerät Temperatur | D133: NOVOS 3 INC | E133: Raumanwendung | F133: Raumbediengeräte | G133: 840798 | H133: 238.35 | I133: =IF(R133="UP",VLOOKUP($I$1,Änderungen!$F$1:$G$4,2,FALSE),IF(OR(ISERROR(FIND("NOVOS",B133)),ISERROR(FIND("Design ",B133))),IF(OR(ISERROR(FIND("thanos EVO",B133)),ISERROR(FIND("Design ",B133))),0,96.55),19.35)) -> 0 | K133: R2 | L133: =IF(K133<>"",IFERROR(VLOOKUP(K133,Rabattwerte_eintragen!$A$3:$C$24,3,FALSE),0),0) -> 0 | M133: =IF(H133<>"",H133*(1-L133)+I133*(1-VLOOKUP("A1",Rabattwerte_eintragen!$A$3:$C$26,3,FALSE)),"") -> 238.35 | O133: =IF(Q133<>"",HYPERLINK(Q133, "Artikel online anzeigen"),"") -> Artikel online anzeigen | Q133: https://www.thermokon.de/direct/de-ch/products/novos-3-inc-td-weiss-temp-rs485-bacnet-ms-tp | T133: 85365019 | U133: Einsatzzweck: Raumklimasteuerung, Messwerterfassung Bedienfunktionen: Sollwertverstellung Temperatur, Präsenzmeldung, ECO-Funktion Bedienelemente: Drehgeber/Drücksteller für Sollwertverstellung/ECO-Funktion, Taster (T), mit LED 24 V =, Farbe konfigurierbar über Jumper (7 Farben) Netzwerktechnologie: RS485 BACnet (MS/TP) Temperatureinsatzbereich: -35..+70 °C, Genauigkeit Temperatur: ±0,5 K (typ. bei 21 °C) im Standardmessbereich Eingang: 1x Eingang für potentialfreien Kontakt Spannungsversorgung: 15..35 V = SELV, 19..29 V ~ SELV Anzeige: LED zur Statusrückmeldung, 7 LEDs zur Anzeige der Sollwertverstellung, Beschriftung {- +} Gehäuse: PC V0, Farbe: reinweiss, Schutzart: IP20 Montage: Aufputz auf Standard UP-Dose (Ø=60 mm), flach auf Untergrund, kleben oder schrauben, Gehäuseunterteil kann separat vom Gehäuseoberteil vormontiert und verdrahtet werden
... A193: 1507 | B193: JOY Fancoil 5DO Temp schwarz | C193: Fancoil-Regler, Raumregler Temperatur | D193: JOY Fancoil | E193: Raumanwendung | F193: Raumregler | G193: 751957 | H193: 319 | I193: =IF(R193="UP",VLOOKUP($I$1,Änderungen!$F$1:$G$4,2,FALSE),IF(OR(ISERROR(FIND("NOVOS",B193)),ISERROR(FIND("Design ",B193))),IF(OR(ISERROR(FIND("thanos EVO",B193)),ISERROR(FIND("Design ",B193))),0,96.55),19.35)) -> 0 | K193: R1 | L193: =IF(K193<>"",IFERROR(VLOOKUP(K193,Rabattwerte_eintragen!$A$3:$C$24,3,FALSE),0),0) -> 0 | M193: =IF(H193<>"",H193*(1-L193)+I193*(1-VLOOKUP("A1",Rabattwerte_eintragen!$A$3:$C$26,3,FALSE)),"") -> 319 | O193: =IF(Q193<>"",HYPERLINK(Q193, "Artikel online anzeigen"),"") -> Artikel online anzeigen | Q193: https://www.thermokon.de/direct/de-ch/products/joy-fancoil-5do-temp-schwarz | T193: 90251900 | U193: Einsatzzweck: Raumklimasteuerung, Messwerterfassung Bedienfunktionen: Sollwertverstellung Temperatur, Lüfterstufenverstellung, Standby/Präsenzmeldung Bedienelemente: 5 kapazitive Tasten Ausgang Schaltkontakt: 2x Schliesserkontakt, 1x Heizen, 1x Kühlen, Last max. 500 mA (240 V, Triac), 3x Schliesserkontakt, Lüfterstufen, Last max. 3 A Temperatureinsatzbereich: 0..+50 °C, Genauigkeit Temperatur: ±1 K (typ. bei 21 °C) im Standardmessbereich Messbereich CO2: 0..2000 ppm, Genauigkeit CO2: ±50 ppm +5% des Messwerts (typ. bei 21 °C, 50% rH, 1015 hPa) Eingang: 1x Eingang für NTC10k oder potentialfreien Kontakt, 1x Eingang für potentialbehafteten Kontakt (230 V ~), 1x Eingang für potentialfreien Kontakt Spannungsversorgung: 85..260 V ~ Anzeige: LCD 60x44 mm, 240x160 px, Hintergrundbeleuchtung kaltweiss Gehäuse: PC, Blende Glas, Farbe: schwarz, Schutzart: IP30 Montage: in Standard UP-Dose (Ø=60 mm, Tiefe min. 45 mm)
A194: 1508 | B194: JOY Fancoil EC AO2DO Temp weiss | C194: Fancoil-Regler, Raumregler Temperatur | D194: JOY Fancoil | E194: Raumanwendung | F194: Raumregler | G194: 751988 | H194: 299.65 | I194: =IF(R194="UP",VLOOKUP($I$1,Änderungen!$F$1:$G$4,2,FALSE),IF(OR(ISERROR(FIND("NOVOS",B194)),ISERROR(FIND("Design ",B194))),IF(OR(ISERROR(FIND("thanos EVO",B194)),ISERROR(FIND("Design ",B194))),0,96.55),19.35)) -> 0 | J194: ja | K194: R1 | L194: =IF(K194<>"",IFERROR(VLOOKUP(K194,Rabattwerte_eintragen!$A$3:$C$24,3,FALSE),0),0) -> 0 | M194: =IF(H194<>"",H194*(1-L194)+I194*(1-VLOOKUP("A1",Rabattwerte_eintragen!$A$3:$C$26,3,FALSE)),"") -> 299.65 | O194: =IF(Q194<>"",HYPERLINK(Q194, "Artikel online anzeigen"),"") -> Artikel online anzeigen | Q194: https://www.thermokon.de/direct/de-ch/products/joy-fancoil-ec-ao2do-temp-weiss | T194: 90251900 | U194: Einsatzzweck: Raumklimasteuerung, Messwerterfassung Bedienfunktionen: Sollwertverstellung Temperatur, Lüfterstufenverstellung, Standby/Präsenzmeldung Bedienelemente: 5 kapazitive Tasten Ausgang Spannung: 0..10 V, max. Last 5 mA, Ansteuerung EC-Lüfter, Ausgang Schaltkontakt: 2x Schliesserkontakt, 1x Heizen, 1x Kühlen, Last max. 500 mA (240 V, Triac) Temperatureinsatzbereich: 0..+50 °C, Genauigkeit Temperatur: ±1 K (typ. bei 21 °C) im Standardmessbereich Messbereich CO2: 0..2000 ppm, Genauigkeit CO2: ±50 ppm +5% des Messwerts (typ. bei 21 °C, 50% rH, 1015 hPa) Eingang: 1x Eingang für NTC10k oder potentialfreien Kontakt, 1x Eingang für potentialbehafteten Kontakt (230 V ~), 1x Eingang für potentialfreien Kontakt Spannungsversorgung: 85..260 V ~ Anzeige: LCD 60x44 mm, 240x160 px, Hintergrundbeleuchtung kaltweiss Gehäuse: PC, Blende Glas, Farbe: reinweiss, Schutzart: IP30 Montage: in Standard UP-Dose (Ø=60 mm, Tiefe min. 45 mm)
A195: 1509 | B195: JOY Fancoil EC AO2DO Temp schwarz | C195: Fancoil-Regler, Raumregler Temperatur | D195: JOY Fancoil | E195: Raumanwendung | F195: Raumregler | G195: 751995 | H195: 319 | I195: =IF(R195="UP",VLOOKUP($I$1,Änderungen!$F$1:$G$4,2,FALSE),IF(OR(ISERROR(FIND("NOVOS",B195)),ISERROR(FIND("Design ",B195))),IF(OR(ISERROR(FIND("thanos EVO",B195)),ISERROR(FIND("Design ",B195))),0,96.55),19.35)) -> 0 | K195: R1 | L195: =IF(K195<>"",IFERROR(VLOOKUP(K195,Rabattwerte_eintragen!$A$3:$C$24,3,FALSE),0),0) -> 0 | M195: =IF(H195<>"",H195*(1-L195)+I195*(1-VLOOKUP("A1",Rabattwerte_eintragen!$A$3:$C$26,3,FALSE)),"") -> 319 | O195: =IF(Q195<>"",HYPERLINK(Q195, "Artikel online anzeigen"),"") -> Artikel online anzeigen | Q195: https://www.thermokon.de/direct/de-ch/products/joy-fancoil-ec-ao2do-temp-schwarz | T195: 90251900 | U195: Einsatzzweck: Raumklimasteuerung, Messwerterfassung Bedienfunktionen: Sollwertverstellung Temperatur, Lüfterstufenverstellung, Standby/Präsenzmeldung Bedienelemente: 5 kapazitive Tasten Ausgang Spannung: 0..10 V, max. Last 5 mA, Ansteuerung EC-Lüfter, Ausgang Schaltkontakt: 2x Schliesserkontakt, 1x Heizen, 1x Kühlen, Last max. 500 mA (240 V, Triac) Temperatureinsatzbereich: 0..+50 °C, Genauigkeit Temperatur: ±1 K (typ. bei 21 °C) im Standardmessbereich Messbereich CO2: 0..2000 ppm, Genauigkeit CO2: ±50 ppm +5% des Messwerts (typ. bei 21 °C, 50% rH, 1015 hPa) Eingang: 1x Eingang für NTC10k oder potentialfreien Kontakt, 1x Eingang für potentialbehafteten Kontakt (230 V ~), 1x Eingang für potentialfreien Kontakt Spannungsversorgung: 85..260 V ~ Anzeige: LCD 60x44 mm, 240x160 px, Hintergrundbeleuchtung kaltweiss Gehäuse: PC, Blende Glas, Farbe: schwarz, Schutzart: IP30 Montage: in Standard UP-Dose (Ø=60 mm, Tiefe min. 45 mm)
A196: 1510 | B196: JOY Fancoil EC 3AO Temp weiss | C196: Fancoil-Regler, Raumregler Temperatur | D196: JOY Fancoil | E196: Raumanwendung | F196: Raumregler | G196: 724975 | H196: 299.65 | I196: =IF(R196="UP",VLOOKUP($I$1,Änderungen!$F$1:$G$4,2,FALSE),IF(OR(ISERROR(FIND("NOVOS",B196)),ISERROR(FIND("Design ",B196))),IF(OR(ISERROR(FIND("thanos EVO",B196)),ISERROR(FIND("Design ",B196))),0,96.55),19.35)) -> 0 | K196: R1 | L196: =IF(K196<>"",IFERROR(VLOOKUP(K196,Rabattwerte_eintragen!$A$3:$C$24,3,FALSE),0),0) -> 0 | M196: =IF(H196<>"",H196*(1-L196)+I196*(1-VLOOKUP("A1",Rabattwerte_eintragen!$A$3:$C$26,3,FALSE)),"") -> 299.65 | O196: =IF(Q196<>"",HYPERLINK(Q196, "Artikel online anzeigen"),"") -> Artikel online anzeigen | Q196: https://www.thermokon.de/direct/de-ch/products/joy-fancoil-ec-3ao-temp-weiss | T196: 90251900 | U196: Einsatzzweck: Raumklimasteuerung, Messwerterfassung Bedienfunktionen: Sollwertverstellung Temperatur, Lüfterstufenverstellung, Standby/Präsenzmeldung Bedienelemente: 5 kapazitive Tasten Ausgang Spannung: 3x 0..10 V, max. Last 5 mA, Heizen + Kühlen oder Ansteuerung 6-Wege-Ventil Temperatureinsatzbereich: 0..+50 °C, Genauigkeit Temperatur: ±1 K (typ. bei 21 °C) im Standardmessbereich Messbereich CO2: 0..2000 ppm, Genauigkeit CO2: ±50 ppm +5% des Messwerts (typ. bei 21 °C, 50% rH, 1015 hPa) Eingang: 1x Eingang für NTC10k oder potentialfreien Kontakt, 2x Eingang für potentialfreien Kontakt Spannungsversorgung: 24 V = (±10%) SELV, 24 V ~ (±10%) SELV Anzeige: LCD 60x44 mm, 240x160 px, Hintergrundbeleuchtung kaltweiss Gehäuse: PC, Blende Glas, Farbe: reinweiss, Schutzart: IP30 Montage: in Standard UP-Dose (Ø=60 mm, Tiefe min. 45 mm)
A197: 1511 | B197: JOY Fancoil EC 3AO Temp schwarz | C197: Fancoil-Regler, Raumregler Temperatur | D197: JOY Fancoil | E197: Raumanwendung | F197: Raumregler | G197: 724982 | H197: 319 | I197: =IF(R197="UP",VLOOKUP($I$1,Änderungen!$F$1:$G$4,2,FALSE),IF(OR(ISERROR(FIND("NOVOS",B197)),ISERROR(FIND("Design ",B197))),IF(OR(ISERROR(FIND("thanos EVO",B197)),ISERROR(FIND("Design ",B197))),0,96.55),19.35)) -> 0 | K197: R1 | L197: =IF(K197<>"",IFERROR(VLOOKUP(K197,Rabattwerte_eintragen!$A$3:$C$24,3,FALSE),0),0) -> 0 | M197: =IF(H197<>"",H197*(1-L197)+I197*(1-VLOOKUP("A1",Rabattwerte_eintragen!$A$3:$C$26,3,FALSE)),"") -> 319 | O197: =IF(Q197<>"",HYPERLINK(Q197, "Artikel online anzeigen"),"") -> Artikel online anzeigen | Q197: https://www.thermokon.de/direct/de-ch/products/joy-fancoil-ec-3ao-temp-schwarz | T197: 90251900 | U197: Einsatzzweck: Raumklimasteuerung, Messwerterfassung Bedienfunktionen: Sollwertverstellung Temperatur, Lüfterstufenverstellung, Standby/Präsenzmeldung Bedienelemente: 5 kapazitive Tasten Ausgang Spannung: 3x 0..10 V, max. Last 5 mA, Heizen + Kühlen oder Ansteuerung 6-Wege-Ventil Temperatureinsatzbereich: 0..+50 °C, Genauigkeit Temperatur: ±1 K (typ. bei 21 °C) im Standardmessbereich Messbereich CO2: 0..2000 ppm, Genauigkeit CO2: ±50 ppm +5% des Messwerts (typ. bei 21 °C, 50% rH, 1015 hPa) Eingang: 1x Eingang für NTC10k oder potentialfreien Kontakt, 2x Eingang für potentialfreien Kontakt Spannungsversorgung: 24 V = (±10%) SELV, 24 V ~ (±10%) SELV Anzeige: LCD 60x44 mm, 240x160 px, Hintergrundbeleuchtung kaltweiss Gehäuse: PC, Blende Glas, Farbe: schwarz, Schutzart: IP30 Montage: in Standard UP-Dose (Ø=60 mm, Tiefe min. 45 mm)
A198: 9119 | B198: JOY Fancoil 5DO Temp RS485 BACnet (MS/TP) weiss | C198: Fancoil-Regler, Raumregler Temperatur | D198: JOY Fancoil | E198: Raumanwendung | F198: Raumregler | G198: 778749 | H198: 310.65 | I198: =IF(R198="UP",VLOOKUP($I$1,Änderungen!$F$1:$G$4,2,FALSE),IF(OR(ISERROR(FIND("NOVOS",B198)),ISERROR(FIND("Design ",B198))),IF(OR(ISERROR(FIND("thanos EVO",B198)),ISERROR(FIND("Design ",B198))),0,96.55),19.35)) -> 0 | K198: R1 | L198: =IF(K198<>"",IFERROR(VLOOKUP(K198,Rabattwerte_eintragen!$A$3:$C$24,3,FALSE),0),0) -> 0 | M198: =IF(H198<>"",H198*(1-L198)+I198*(1-VLOOKUP("A1",Rabattwerte_eintragen!$A$3:$C$26,3,FALSE)),"") -> 310.65 | O198: =IF(Q198<>"",HYPERLINK(Q198, "Artikel online anzeigen"),"") -> Artikel online anzeigen | Q198: https://www.thermokon.de/direct/de-ch/products/joy-fancoil-5do-temp-rs485-bacnet-ms-tp-weiss | T198: 90251900 | U198: Einsatzzweck: Raumklimasteuerung, Messwerterfassung Bedienfunktionen: Sollwertverstellung Temperatur, Lüfterstufenverstellung, Standby/Präsenzmeldung Bedienelemente: 5 kapazitive Tasten Ausgang Schaltkontakt: 2x Schliesserkontakt, 1x Heizen, 1x Kühlen, Last max. 500 mA (240 V, Triac), 3x Schliesserkontakt, Lüfterstufen, Last max. 3 A Netzwerktechnologie: RS485 BACnet (MS/TP) Temperatureinsatzbereich: 0..+50 °C, Genauigkeit Temperatur: ±1 K (typ. bei 21 °C) im Standardmessbereich Eingang: 1x Eingang für NTC10k oder potentialfreien Kontakt, 1x Eingang für potentialbehafteten Kontakt (230 V ~), 1x Eingang für potentialfreien Kontakt Spannungsversorgung: 85..260 V ~ Anzeige: LCD 60x44 mm, 240x160 px, Hintergrundbeleuchtung kaltweiss Gehäuse: PC, Blende Glas, Farbe: reinweiss, Schutzart: IP30 Montage: in Standard UP-Dose (Ø=60 mm, Tiefe min. 45 mm)
A199: 9120 | B199: JOY Fancoil 5DO Temp RS485 BACnet (MS/TP) schwarz | C199: Fancoil-Regler, Raumregler Temperatur | D199: JOY Fancoil | E199: Raumanwendung | F199: Raumregler | G199: 778732 | H199: 329.95 | I199: =IF(R199="UP",VLOOKUP($I$1,Änderungen!$F$1:$G$4,2,FALSE),IF(OR(ISERROR(FIND("NOVOS",B199)),ISERROR(FIND("Design ",B199))),IF(OR(ISERROR(FIND("thanos EVO",B199)),ISERROR(FIND("Design ",B199))),0,96.55),19.35)) -> 0 | K199: R1 | L199: =IF(K199<>"",IFERROR(VLOOKUP(K199,Rabattwerte_eintragen!$A$3:$C$24,3,FALSE),0),0) -> 0 | M199: =IF(H199<>"",H199*(1-L199)+I199*(1-VLOOKUP("A1",Rabattwerte_eintragen!$A$3:$C$26,3,FALSE)),"") -> 329.95 | O199: =IF(Q199<>"",HYPERLINK(Q199, "Artikel online anzeigen"),"") -> Artikel online anzeigen | Q199: https://www.thermokon.de/direct/de-ch/products/joy-fancoil-5do-temp-rs485-bacnet-ms-tp-schwarz | T199: 90251900 | U199: Einsatzzweck: Raumklimasteuerung, Messwerterfassung Bedienfunktionen: Sollwertverstellung Temperatur, Lüfterstufenverstellung, Standby/Präsenzmeldung Bedienelemente: 5 kapazitive Tasten Ausgang Schaltkontakt: 2x Schliesserkontakt, 1x Heizen, 1x Kühlen, Last max. 500 mA (240 V, Triac), 3x Schliesserkontakt, Lüfterstufen, Last max. 3 A Netzwerktechnologie: RS485 BACnet (MS/TP) Temperatureinsatzbereich: 0..+50 °C, Genauigkeit Temperatur: ±1 K (typ. bei 21 °C) im Standardmessbereich Eingang: 1x Eingang für NTC10k oder potentialfreien Kontakt, 1x Eingang für potentialbehafteten Kontakt (230 V ~), 1x Eingang für potentialfreien Kontakt Spannungsversorgung: 85..260 V ~ Anzeige: LCD 60x44 mm, 240x160 px, Hintergrundbeleuchtung kaltweiss Gehäuse: PC, Blende Glas, Farbe: schwarz, Schutzart: IP30 Montage: in Standard UP-Dose (Ø=60 mm, Tiefe min. 45 mm)
A200: 9121 | B200: JOY Fancoil EC AO2DO Temp RS485 BACnet (MS/TP) weiss | C200: Fancoil-Regler, Raumregler Temperatur | D200: JOY Fancoil | E200: Raumanwendung | F200: Raumregler | G200: 778725 | H200: 310.65 | I200: =IF(R200="UP",VLOOKUP($I$1,Änderungen!$F$1:$G$4,2,FALSE),IF(OR(ISERROR(FIND("NOVOS",B200)),ISERROR(FIND("Design ",B200))),IF(OR(ISERROR(FIND("thanos EVO",B200)),ISERROR(FIND("Design ",B200))),0,96.55),19.35)) -> 0 | K200: R1 | L200: =IF(K200<>"",IFERROR(VLOOKUP(K200,Rabattwerte_eintragen!$A$3:$C$24,3,FALSE),0),0) -> 0 | M200: =IF(H200<>"",H200*(1-L200)+I200*(1-VLOOKUP("A1",Rabattwerte_eintragen!$A$3:$C$26,3,FALSE)),"") -> 310.65 | O200: =IF(Q200<>"",HYPERLINK(Q200, "Artikel online anzeigen"),"") -> Artikel online anzeigen | Q200: https://www.thermokon.de/direct/de-ch/products/joy-fancoil-ec-ao2do-temp-rs485-bacnet-ms-tp-weiss | T200: 90251900 | U200: Einsatzzweck: Raumklimasteuerung, Messwerterfassung Bedienfunktionen: Sollwertverstellung Temperatur, Lüfterstufenverstellung, Standby/Präsenzmeldung Bedienelemente: 5 kapazitive Tasten Ausgang Spannung: 0..10 V, max. Last 5 mA, Ansteuerung EC-Lüfter, Ausgang Schaltkontakt: 2x Schliesserkontakt, 1x Heizen, 1x Kühlen, Last max. 500 mA (240 V, Triac) Netzwerktechnologie: RS485 BACnet (MS/TP) Temperatureinsatzbereich: 0..+50 °C, Genauigkeit Temperatur: ±1 K (typ. bei 21 °C) im Standardmessbereich Eingang: 1x Eingang für NTC10k oder potentialfreien Kontakt, 1x Eingang für potentialbehafteten Kontakt (230 V ~), 1x Eingang für potentialfreien Kontakt Spannungsversorgung: 85..260 V ~ Anzeige: LCD 60x44 mm, 240x160 px, Hintergrundbeleuchtung kaltweiss Gehäuse: PC, Blende Glas, Farbe: reinweiss, Schutzart: IP30 Montage: in Standard UP-Dose (Ø=60 mm, Tiefe min. 45 mm)
A201: 9122 | B201: JOY Fancoil EC AO2DO Temp RS485 BACnet (MS/TP) schwarz | C201: Fancoil-Regler, Raumregler Temperatur | D201: JOY Fancoil | E201: Raumanwendung | F201: Raumregler | G201: 778718 | H201: 329.95 | I201: =IF(R201="UP",VLOOKUP($I$1,Änderungen!$F$1:$G$4,2,FALSE),IF(OR(ISERROR(FIND("NOVOS",B201)),ISERROR(FIND("Design ",B201))),IF(OR(ISERROR(FIND("thanos EVO",B201)),ISERROR(FIND("Design ",B201))),0,96.55),19.35)) -> 0 | K201: R1 | L201: =IF(K201<>"",IFERROR(VLOOKUP(K201,Rabattwerte_eintragen!$A$3:$C$24,3,FALSE),0),0) -> 0 | M201: =IF(H201<>"",H201*(1-L201)+I201*(1-VLOOKUP("A1",Rabattwerte_eintragen!$A$3:$C$26,3,FALSE)),"") -> 329.95 | O201: =IF(Q201<>"",HYPERLINK(Q201, "Artikel online anzeigen"),"") -> Artikel online anzeigen | Q201: https://www.thermokon.de/direct/de-ch/products/joy-fancoil-ec-ao2do-temp-rs485-bacnet-ms-tp-schwarz | T201: 90251900 | U201: Einsatzzweck: Raumklimasteuerung, Messwerterfassung Bedienfunktionen: Sollwertverstellung Temperatur, Lüfterstufenverstellung, Standby/Präsenzmeldung Bedienelemente: 5 kapazitive Tasten Ausgang Spannung: 0..10 V, max. Last 5 mA, Ansteuerung EC-Lüfter, Ausgang Schaltkontakt: 2x Schliesserkontakt, 1x Heizen, 1x Kühlen, Last max. 500 mA (240 V, Triac) Netzwerktechnologie: RS485 BACnet (MS/TP) Temperatureinsatzbereich: 0..+50 °C, Genauigkeit Temperatur: ±1 K (typ. bei 21 °C) im Standardmessbereich Eingang: 1x Eingang für NTC10k oder potentialfreien Kontakt, 1x Eingang für potentialbehafteten Kontakt (230 V ~), 1x Eingang für potentialfreien Kontakt Spannungsversorgung: 85..260 V ~ Anzeige: LCD 60x44 mm, 240x160 px, Hintergrundbeleuchtung kaltweiss Gehäuse: PC, Blende Glas, Farbe: schwarz, Schutzart: IP30 Montage: in Standard UP-Dose (Ø=60 mm, Tiefe min. 45 mm)
A202: 13718 | B202: JOY Fancoil 24V 5DO Temp RS485 BACnet (MS/TP) weiss | C202: Fancoil-Regler, Raumregler Temperatur | D202: JOY Fancoil | E202: Raumanwendung | F202: Raumregler | G202: 851008 | H202: 310.65 | I202: =IF(R202="UP",VLOOKUP($I$1,Änderungen!$F$1:$G$4,2,FALSE),IF(OR(ISERROR(FIND("NOVOS",B202)),ISERROR(FIND("Design ",B202))),IF(OR(ISERROR(FIND("thanos EVO",B202)),ISERROR(FIND("Design ",B202))),0,96.55),19.35)) -> 0 | K202: R1 | L202: =IF(K202<>"",IFERROR(VLOOKUP(K202,Rabattwerte_eintragen!$A$3:$C$24,3,FALSE),0),0) -> 0 | M202: =IF(H202<>"",H202*(1-L202)+I202*(1-VLOOKUP("A1",Rabattwerte_eintragen!$A$3:$C$26,3,FALSE)),"") -> 310.65 | O202: =IF(Q202<>"",HYPERLINK(Q202, "Artikel online anzeigen"),"") -> Artikel online anzeigen | Q202: https://www.thermokon.de/direct/de-ch/products/joy-fancoil-24v-5do-temp-rs485-bacnet-ms-tp-weiss | T202: 90251900 | U202: Einsatzzweck: Raumklimasteuerung, Messwerterfassung Bedienfunktionen: Sollwertverstellung Temperatur, Lüfterstufenverstellung, Standby/Präsenzmeldung Bedienelemente: 5 kapazitive Tasten Ausgang Schaltkontakt: 2x Schliesserkontakt, 1x Heizen, 1x Kühlen, 3x Schliesserkontakt, Lüfterstufen, Last max. 3 A Netzwerktechnologie: RS485 BACnet (MS/TP) Temperatureinsatzbereich: 0..+50 °C, Genauigkeit Temperatur: ±1 K (typ. bei 21 °C) im Standardmessbereich Eingang: 1x Eingang für NTC10k oder potentialfreien Kontakt, 1x Eingang für potentialbehafteten Kontakt Spannungsversorgung: 24 V = (±10%) SELV, 24 V ~ (±10%) SELV Anzeige: LCD 60x44 mm, 240x160 px, Hintergrundbeleuchtung kaltweiss Gehäuse: PC, Blende Glas, Farbe: reinweiss, Schutzart: IP30 Montage: in Standard UP-Dose (Ø=60 mm, Tiefe min. 45 mm)
A203: 13719 | B203: JOY Fancoil 24V 5DO Temp RS485 BACnet (MS/TP) schwarz | C203: Fancoil-Regler, Raumregler Temperatur | D203: JOY Fancoil | E203: Raumanwendung | F203: Raumregler | G203: 851017 | H203: 329.95 | I203: =IF(R203="UP",VLOOKUP($I$1,Änderungen!$F$1:$G$4,2,FALSE),IF(OR(ISERROR(FIND("NOVOS",B203)),ISERROR(FIND("Design ",B203))),IF(OR(ISERROR(FIND("thanos EVO",B203)),ISERROR(FIND("Design ",B203))),0,96.55),19.35)) -> 0 | K203: R1 | L203: =IF(K203<>"",IFERROR(VLOOKUP(K203,Rabattwerte_eintragen!$A$3:$C$24,3,FALSE),0),0) -> 0 | M203: =IF(H203<>"",H203*(1-L203)+I203*(1-VLOOKUP("A1",Rabattwerte_eintragen!$A$3:$C$26,3,FALSE)),"") -> 329.95 | O203: =IF(Q203<>"",HYPERLINK(Q203, "Artikel online anzeigen"),"") -> Artikel online anzeigen | Q203: https://www.thermokon.de/direct/de-ch/products/joy-fancoil-24v-5do-temp-rs485-bacnet-ms-tp-schwarz | T203: 90251900 | U203: Einsatzzweck: Raumklimasteuerung, Messwerterfassung Bedienfunktionen: Sollwertverstellung Temperatur, Lüfterstufenverstellung, Standby/Präsenzmeldung Bedienelemente: 5 kapazitive Tasten Ausgang Schaltkontakt: 2x Schliesserkontakt, 1x Heizen, 1x Kühlen, 3x Schliesserkontakt, Lüfterstufen, Last max. 3 A Netzwerktechnologie: RS485 BACnet (MS/TP) Temperatureinsatzbereich: 0..+50 °C, Genauigkeit Temperatur: ±1 K (typ. bei 21 °C) im Standardmessbereich Eingang: 1x Eingang für NTC10k oder potentialfreien Kontakt, 1x Eingang für potentialbehafteten Kontakt Spannungsversorgung: 24 V = (±10%) SELV, 24 V ~ (±10%) SELV Anzeige: LCD 60x44 mm, 240x160 px, Hintergrundbeleuchtung kaltweiss Gehäuse: PC, Blende Glas, Farbe: schwarz, Schutzart: IP30 Montage: in Standard UP-Dose (Ø=60 mm, Tiefe min. 45 mm)
A204: 13720 | B204: JOY Fancoil 24V EC AO2DO Temp RS485 BACnet (MS/TP) weiss | C204: Fancoil-Regler, Raumregler Temperatur | D204: JOY Fancoil | E204: Raumanwendung | F204: Raumregler | G204: 851018 | H204: 310.65 | I204: =IF(R204="UP",VLOOKUP($I$1,Änderungen!$F$1:$G$4,2,FALSE),IF(OR(ISERROR(FIND("NOVOS",B204)),ISERROR(FIND("Design ",B204))),IF(OR(ISERROR(FIND("thanos EVO",B204)),ISERROR(FIND("Design ",B204))),0,96.55),19.35)) -> 0 | K204: R1 | L204: =IF(K204<>"",IFERROR(VLOOKUP(K204,Rabattwerte_eintragen!$A$3:$C$24,3,FALSE),0),0) -> 0 | M204: =IF(H204<>"",H204*(1-L204)+I204*(1-VLOOKUP("A1",Rabattwerte_eintragen!$A$3:$C$26,3,FALSE)),"") -> 310.65 | O204: =IF(Q204<>"",HYPERLINK(Q204, "Artikel online anzeigen"),"") -> Artikel online anzeigen | Q204: https://www.thermokon.de/direct/de-ch/products/joy-fancoil-24v-ec-ao2do-temp-rs485-bacnet-ms-tp-weiss | T204: 90251900 | U204: Einsatzzweck: Raumklimasteuerung, Messwerterfassung Bedienfunktionen: Sollwertverstellung Temperatur, Lüfterstufenverstellung, Standby/Präsenzmeldung Bedienelemente: 5 kapazitive Tasten Ausgang Spannung: 0..10 V, max. Last 5 mA, Ansteuerung EC-Lüfter, Ausgang Schaltkontakt: 2x Schliesserkontakt, 1x Heizen, 1x Kühlen, Last max. 3 A Netzwerktechnologie: RS485 BACnet (MS/TP) Temperatureinsatzbereich: 0..+50 °C, Genauigkeit Temperatur: ±1 K (typ. bei 21 °C) im Standardmessbereich Eingang: 1x Eingang für NTC10k oder potentialfreien Kontakt, 1x Eingang für potentialbehafteten Kontakt Spannungsversorgung: 24 V = (±10%) SELV, 24 V ~ (±10%) SELV Anzeige: LCD 60x44 mm, 240x160 px, Hintergrundbeleuchtung kaltweiss Gehäuse: PC, Blende Glas, Farbe: reinweiss, Schutzart: IP30 Montage: in Standard UP-Dose (Ø=60 mm, Tiefe min. 45 mm)
A205: 13721 | B205: JOY Fancoil 24V EC AO2DO Temp RS485 BACnet (MS/TP) schwarz | C205: Fancoil-Regler, Raumregler Temperatur | D205: JOY Fancoil | E205: Raumanwendung | F205: Raumregler | G205: 851019 | H205: 329.95 | I205: =IF(R205="UP",VLOOKUP($I$1,Änderungen!$F$1:$G$4,2,FALSE),IF(OR(ISERROR(FIND("NOVOS",B205)),ISERROR(FIND("Design ",B205))),IF(OR(ISERROR(FIND("thanos EVO",B205)),ISERROR(FIND("Design ",B205))),0,96.55),19.35)) -> 0 | K205: R1 | L205: =IF(K205<>"",IFERROR(VLOOKUP(K205,Rabattwerte_eintragen!$A$3:$C$24,3,FALSE),0),0) -> 0 | M205: =IF(H205<>"",H205*(1-L205)+I205*(1-VLOOKUP("A1",Rabattwerte_eintragen!$A$3:$C$26,3,FALSE)),"") -> 329.95 | O205: =IF(Q205<>"",HYPERLINK(Q205, "Artikel online anzeigen"),"") -> Artikel online anzeigen | Q205: https://www.thermokon.de/direct/de-ch/products/joy-fancoil-24v-ec-ao2do-temp-rs485-bacnet-ms-tp-schwarz | T205: 90251900 | U205: Einsatzzweck: Raumklimasteuerung, Messwerterfassung Bedienfunktionen: Sollwertverstellung Temperatur, Lüfterstufenverstellung, Standby/Präsenzmeldung Bedienelemente: 5 kapazitive Tasten Ausgang Spannung: 0..10 V, max. Last 5 mA, Ansteuerung EC-Lüfter, Ausgang Schaltkontakt: 2x Schliesserkontakt, 1x Heizen, 1x Kühlen, Last max. 3 A Netzwerktechnologie: RS485 BACnet (MS/TP) Temperatureinsatzbereich: 0..+50 °C, Genauigkeit Temperatur: ±1 K (typ. bei 21 °C) im Standardmessbereich Eingang: 1x Eingang für NTC10k oder potentialfreien Kontakt, 1x Eingang für potentialbehafteten Kontakt Spannungsversorgung: 24 V = (±10%) SELV, 24 V ~ (±10%) SELV Anzeige: LCD 60x44 mm, 240x160 px, Hintergrundbeleuchtung kaltweiss Gehäuse: PC, Blende Glas, Farbe: schwarz, Schutzart: IP30 Montage: in Standard UP-Dose (Ø=60 mm, Tiefe min. 45 mm)
A206: 9123 | B206: JOY Fancoil EC 3AO Temp RS485 BACnet (MS/TP) weiss | C206: Fancoil-Regler, Raumregler Temperatur | D206: JOY Fancoil | E206: Raumanwendung | F206: Raumregler | G206: 778817 | H206: 310.65 | I206: =IF(R206="UP",VLOOKUP($I$1,Änderungen!$F$1:$G$4,2,FALSE),IF(OR(ISERROR(FIND("NOVOS",B206)),ISERROR(FIND("Design ",B206))),IF(OR(ISERROR(FIND("thanos EVO",B206)),ISERROR(FIND("Design ",B206))),0,96.55),19.35)) -> 0 | K206: R1 | L206: =IF(K206<>"",IFERROR(VLOOKUP(K206,Rabattwerte_eintragen!$A$3:$C$24,3,FALSE),0),0) -> 0 | M206: =IF(H206<>"",H206*(1-L206)+I206*(1-VLOOKUP("A1",Rabattwerte_eintragen!$A$3:$C$26,3,FALSE)),"") -> 310.65 | O206: =IF(Q206<>"",HYPERLINK(Q206, "Artikel online anzeigen"),"") -> Artikel online anzeigen | Q206: https://www.thermokon.de/direct/de-ch/products/joy-fancoil-ec-3ao-temp-rs485-bacnet-ms-tp-weiss | T206: 90251900 | U206: Einsatzzweck: Raumklimasteuerung, Messwerterfassung Bedienfunktionen: Sollwertverstellung Temperatur, Lüfterstufenverstellung, Standby/Präsenzmeldung Bedienelemente: 5 kapazitive Tasten Ausgang Spannung: 3x 0..10 V, max. Last 5 mA, Heizen + Kühlen oder Ansteuerung 6-Wege-Ventil Netzwerktechnologie: RS485 BACnet (MS/TP) Temperatureinsatzbereich: 0..+50 °C, Genauigkeit Temperatur: ±1 K (typ. bei 21 °C) im Standardmessbereich Eingang: 1x Eingang für NTC10k oder potentialfreien Kontakt, 2x Eingang für potentialfreien Kontakt Spannungsversorgung: 24 V = (±10%) SELV, 24 V ~ (±10%) SELV Anzeige: LCD 60x44 mm, 240x160 px, Hintergrundbeleuchtung kaltweiss Gehäuse: PC, Blende Glas, Farbe: reinweiss, Schutzart: IP30 Montage: in Standard UP-Dose (Ø=60 mm, Tiefe min. 45 mm)
A207: 9124 | B207: JOY Fancoil EC 3AO Temp RS485 BACnet (MS/TP) schwarz | C207: Fancoil-Regler, Raumregler Temperatur | D207: JOY Fancoil | E207: Raumanwendung | F207: Raumregler | G207: 778800 | H207: 329.95 | I207: =IF(R207="UP",VLOOKUP($I$1,Änderungen!$F$1:$G$4,2,FALSE),IF(OR(ISERROR(FIND("NOVOS",B207)),ISERROR(FIND("Design ",B207))),IF(OR(ISERROR(FIND("thanos EVO",B207)),ISERROR(FIND("Design ",B207))),0,96.55),19.35)) -> 0 | K207: R1 | L207: =IF(K207<>"",IFERROR(VLOOKUP(K207,Rabattwerte_eintragen!$A$3:$C$24,3,FALSE),0),0) -> 0 | M207: =IF(H207<>"",H207*(1-L207)+I207*(1-VLOOKUP("A1",Rabattwerte_eintragen!$A$3:$C$26,3,FALSE)),"") -> 329.95 | O207: =IF(Q207<>"",HYPERLINK(Q207, "Artikel online anzeigen"),"") -> Artikel online anzeigen | Q207: https://www.thermokon.de/direct/de-ch/products/joy-fancoil-ec-3ao-temp-rs485-bacnet-ms-tp-schwarz | T207: 90251900 | U207: Einsatzzweck: Raumklimasteuerung, Messwerterfassung Bedienfunktionen: Sollwertverstellung Temperatur, Lüfterstufenverstellung, Standby/Präsenzmeldung Bedienelemente: 5 kapazitive Tasten Ausgang Spannung: 3x 0..10 V, max. Last 5 mA, Heizen + Kühlen oder Ansteuerung 6-Wege-Ventil Netzwerktechnologie: RS485 BACnet (MS/TP) Temperatureinsatzbereich: 0..+50 °C, Genauigkeit Temperatur: ±1 K (typ. bei 21 °C) im Standardmessbereich Eingang: 1x Eingang für NTC10k oder potentialfreien Kontakt, 2x Eingang für potentialfreien Kontakt Spannungsversorgung: 24 V = (±10%) SELV, 24 V ~ (±10%) SELV Anzeige: LCD 60x44 mm, 240x160 px, Hintergrundbeleuchtung kaltweiss Gehäuse: PC, Blende Glas, Farbe: schwarz, Schutzart: IP30 Montage: in Standard UP-Dose (Ø=60 mm, Tiefe min. 45 mm)
A208: 1512 | B208: JOY Fancoil 5DO Temp RS485 Modbus weiss | C208: Fancoil-Regler, Raumregler Temperatur | D208: JOY Fancoil | E208: Raumanwendung | F208: Raumregler | G208: 751933 | H208: 310.65 | I208: =IF(R208="UP",VLOOKUP($I$1,Änderungen!$F$1:$G$4,2,FALSE),IF(OR(ISERROR(FIND("NOVOS",B208)),ISERROR(FIND("Design ",B208))),IF(OR(ISERROR(FIND("thanos EVO",B208)),ISERROR(FIND("Design ",B208))),0,96.55),19.35)) -> 0 | J208: ja | K208: R1 | L208: =IF(K208<>"",IFERROR(VLOOKUP(K208,Rabattwerte_eintragen!$A$3:$C$24,3,FALSE),0),0) -> 0 | M208: =IF(H208<>"",H208*(1-L208)+I208*(1-VLOOKUP("A1",Rabattwerte_eintragen!$A$3:$C$26,3,FALSE)),"") -> 310.65 | O208: =IF(Q208<>"",HYPERLINK(Q208, "Artikel online anzeigen"),"") -> Artikel online anzeigen | Q208: https://www.thermokon.de/direct/de-ch/products/joy-fancoil-5do-temp-rs485-modbus-weiss-1512 | T208: 90251900 | U208: Einsatzzweck: Raumklimasteuerung, Messwerterfassung Bedienfunktionen: Sollwertverstellung Temperatur, Lüfterstufenverstellung, Standby/Präsenzmeldung Bedienelemente: 5 kapazitive Tasten Ausgang Schaltkontakt: 2x Schliesserkontakt, 1x Heizen, 1x Kühlen, Last max. 500 mA (240 V, Triac), 3x Schliesserkontakt, Lüfterstufen, Last max. 3 A Netzwerktechnologie: RS485 Modbus Temperatureinsatzbereich: 0..+50 °C, Genauigkeit Temperatur: ±1 K (typ. bei 21 °C) im Standardmessbereich Messbereich CO2: 0..2000 ppm, Genauigkeit CO2: ±50 ppm +5% des Messwerts (typ. bei 21 °C, 50% rH, 1015 hPa) Eingang: 1x Eingang für NTC10k oder potentialfreien Kontakt, 1x Eingang für potentialbehafteten Kontakt (230 V ~), 1x Eingang für potentialfreien Kontakt Spannungsversorgung: 85..260 V ~ Anzeige: LCD 60x44 mm, 240x160 px, Hintergrundbeleuchtung kaltweiss Gehäuse: PC, Blende Glas, Farbe: reinweiss, Schutzart: IP30 Montage: in Standard UP-Dose (Ø=60 mm, Tiefe min. 45 mm)
A209: 1513 | B209: JOY Fancoil 5DO Temp RS485 Modbus schwarz | C209: Fancoil-Regler, Raumregler Temperatur | D209: JOY Fancoil | E209: Raumanwendung | F209: Raumregler | G209: 751964 | H209: 329.95 | I209: =IF(R209="UP",VLOOKUP($I$1,Änderungen!$F$1:$G$4,2,FALSE),IF(OR(ISERROR(FIND("NOVOS",B209)),ISERROR(FIND("Design ",B209))),IF(OR(ISERROR(FIND("thanos EVO",B209)),ISERROR(FIND("Design ",B209))),0,96.55),19.35)) -> 0 | K209: R1 | L209: =IF(K209<>"",IFERROR(VLOOKUP(K209,Rabattwerte_eintragen!$A$3:$C$24,3,FALSE),0),0) -> 0 | M209: =IF(H209<>"",H209*(1-L209)+I209*(1-VLOOKUP("A1",Rabattwerte_eintragen!$A$3:$C$26,3,FALSE)),"") -> 329.95 | O209: =IF(Q209<>"",HYPERLINK(Q209, "Artikel online anzeigen"),"") -> Artikel online anzeigen | Q209: https://www.thermokon.de/direct/de-ch/products/joy-fancoil-5do-temp-rs485-modbus-schwarz-1513 | T209: 90251900 | U209: Einsatzzweck: Raumklimasteuerung, Messwerterfassung Bedienfunktionen: Sollwertverstellung Temperatur, Lüfterstufenverstellung, Standby/Präsenzmeldung Bedienelemente: 5 kapazitive Tasten Ausgang Schaltkontakt: 2x Schliesserkontakt, 1x Heizen, 1x Kühlen, Last max. 500 mA (240 V, Triac), 3x Schliesserkontakt, Lüfterstufen, Last max. 3 A Netzwerktechnologie: RS485 Modbus Temperatureinsatzbereich: 0..+50 °C, Genauigkeit Temperatur: ±1 K (typ. bei 21 °C) im Standardmessbereich Messbereich CO2: 0..2000 ppm, Genauigkeit CO2: ±50 ppm +5% des Messwerts (typ. bei 21 °C, 50% rH, 1015 hPa) Eingang: 1x Eingang für NTC10k oder potentialfreien Kontakt, 1x Eingang für potentialbehafteten Kontakt (230 V ~), 1x Eingang für potentialfreien Kontakt Spannungsversorgung: 85..260 V ~ Anzeige: LCD 60x44 mm, 240x160 px, Hintergrundbeleuchtung kaltweiss Gehäuse: PC, Blende Glas, Farbe: schwarz, Schutzart: IP30 Montage: in Standard UP-Dose (Ø=60 mm, Tiefe min. 45 mm)
A210: 1514 | B210: JOY Fancoil EC AO2DO Temp RS485 Modbus weiss | C210: Fancoil-Regler, Raumregler Temperatur | D210: JOY Fancoil | E210: Raumanwendung | F210: Raumregler | G210: 752015 | H210: 310.65 | I210: =IF(R210="UP",VLOOKUP($I$1,Änderungen!$F$1:$G$4,2,FALSE),IF(OR(ISERROR(FIND("NOVOS",B210)),ISERROR(FIND("Design ",B210))),IF(OR(ISERROR(FIND("thanos EVO",B210)),ISERROR(FIND("Design ",B210))),0,96.55),19.35)) -> 0 | J210: ja | K210: R1 | L210: =IF(K210<>"",IFERROR(VLOOKUP(K210,Rabattwerte_eintragen!$A$3:$C$24,3,FALSE),0),0) -> 0 | M210: =IF(H210<>"",H210*(1-L210)+I210*(1-VLOOKUP("A1",Rabattwerte_eintragen!$A$3:$C$26,3,FALSE)),"") -> 310.65 | O210: =IF(Q210<>"",HYPERLINK(Q210, "Artikel online anzeigen"),"") -> Artikel online anzeigen | Q210: https://www.thermokon.de/direct/de-ch/products/joy-fancoil-ec-ao2do-temp-rs485-modbus-weiss-1514 | T210: 90251900 | U210: Einsatzzweck: Raumklimasteuerung, Messwerterfassung Bedienfunktionen: Sollwertverstellung Temperatur, Lüfterstufenverstellung, Standby/Präsenzmeldung Bedienelemente: 5 kapazitive Tasten Ausgang Spannung: 0..10 V, max. Last 5 mA, Ansteuerung EC-Lüfter, Ausgang Schaltkontakt: 2x Schliesserkontakt, 1x Heizen, 1x Kühlen, Last max. 500 mA (240 V, Triac) Netzwerktechnologie: RS485 Modbus Temperatureinsatzbereich: 0..+50 °C, Genauigkeit Temperatur: ±1 K (typ. bei 21 °C) im Standardmessbereich Messbereich CO2: 0..2000 ppm, Genauigkeit CO2: ±50 ppm +5% des Messwerts (typ. bei 21 °C, 50% rH, 1015 hPa) Eingang: 1x Eingang für NTC10k oder potentialfreien Kontakt, 1x Eingang für potentialbehafteten Kontakt (230 V ~), 1x Eingang für potentialfreien Kontakt Spannungsversorgung: 85..260 V ~ Anzeige: LCD 60x44 mm, 240x160 px, Hintergrundbeleuchtung kaltweiss Gehäuse: PC, Blende Glas, Farbe: reinweiss, Schutzart: IP30 Montage: in Standard UP-Dose (Ø=60 mm, Tiefe min. 45 mm)
A211: 1515 | B211: JOY Fancoil EC AO2DO Temp RS485 Modbus schwarz | C211: Fancoil-Regler, Raumregler Temperatur | D211: JOY Fancoil | E211: Raumanwendung | F211: Raumregler | G211: 752022 | H211: 329.95 | I211: =IF(R211="UP",VLOOKUP($I$1,Änderungen!$F$1:$G$4,2,FALSE),IF(OR(ISERROR(FIND("NOVOS",B211)),ISERROR(FIND("Design ",B211))),IF(OR(ISERROR(FIND("thanos EVO",B211)),ISERROR(FIND("Design ",B211))),0,96.55),19.35)) -> 0 | J211: ja | K211: R1 | L211: =IF(K211<>"",IFERROR(VLOOKUP(K211,Rabattwerte_eintragen!$A$3:$C$24,3,FALSE),0),0) -> 0 | M211: =IF(H211<>"",H211*(1-L211)+I211*(1-VLOOKUP("A1",Rabattwerte_eintragen!$A$3:$C$26,3,FALSE)),"") -> 329.95 | O211: =IF(Q211<>"",HYPERLINK(Q211, "Artikel online anzeigen"),"") -> Artikel online anzeigen | Q211: https://www.thermokon.de/direct/de-ch/products/joy-fancoil-ec-ao2do-temp-rs485-modbus-schwarz-1515 | T211: 90251900 | U211: Einsatzzweck: Raumklimasteuerung, Messwerterfassung Bedienfunktionen: Sollwertverstellung Temperatur, Lüfterstufenverstellung, Standby/Präsenzmeldung Bedienelemente: 5 kapazitive Tasten Ausgang Spannung: 0..10 V, max. Last 5 mA, Ansteuerung EC-Lüfter, Ausgang Schaltkontakt: 2x Schliesserkontakt, 1x Heizen, 1x Kühlen, Last max. 500 mA (240 V, Triac) Netzwerktechnologie: RS485 Modbus Temperatureinsatzbereich: 0..+50 °C, Genauigkeit Temperatur: ±1 K (typ. bei 21 °C) im Standardmessbereich Messbereich CO2: 0..2000 ppm, Genauigkeit CO2: ±50 ppm +5% des Messwerts (typ. bei 21 °C, 50% rH, 1015 hPa) Eingang: 1x Eingang für NTC10k oder potentialfreien Kontakt, 1x Eingang für potentialbehafteten Kontakt (230 V ~), 1x Eingang für potentialfreien Kontakt Spannungsversorgung: 85..260 V ~ Anzeige: LCD 60x44 mm, 240x160 px, Hintergrundbeleuchtung kaltweiss Gehäuse: PC, Blende Glas, Farbe: schwarz, Schutzart: IP30 Montage: in Standard UP-Dose (Ø=60 mm, Tiefe min. 45 mm)
A212: 13689 | B212: JOY Fancoil 24V 5DO Temp RS485 Modbus weiss | C212: Fancoil-Regler, Raumregler Temperatur | D212: JOY Fancoil | E212: Raumanwendung | F212: Raumregler | G212: 839921 | H212: 310.65 | I212: =IF(R212="UP",VLOOKUP($I$1,Änderungen!$F$1:$G$4,2,FALSE),IF(OR(ISERROR(FIND("NOVOS",B212)),ISERROR(FIND("Design ",B212))),IF(OR(ISERROR(FIND("thanos EVO",B212)),ISERROR(FIND("Design ",B212))),0,96.55),19.35)) -> 0 | K212: R1 | L212: =IF(K212<>"",IFERROR(VLOOKUP(K212,Rabattwerte_eintragen!$A$3:$C$24,3,FALSE),0),0) -> 0 | M212: =IF(H212<>"",H212*(1-L212)+I212*(1-VLOOKUP("A1",Rabattwerte_eintragen!$A$3:$C$26,3,FALSE)),"") -> 310.65 | O212: =IF(Q212<>"",HYPERLINK(Q212, "Artikel online anzeigen"),"") -> Artikel online anzeigen | Q212: https://www.thermokon.de/direct/de-ch/products/joy-fancoil-24v-5do-temp-rs485-modbus-weiss | T212: 90251900 | U212: Einsatzzweck: Raumklimasteuerung, Messwerterfassung Bedienfunktionen: Sollwertverstellung Temperatur, Lüfterstufenverstellung, Standby/Präsenzmeldung Bedienelemente: 5 kapazitive Tasten Ausgang Schaltkontakt: 2x Schliesserkontakt, 1x Heizen, 1x Kühlen, 3x Schliesserkontakt, Lüfterstufen, Last max. 3 A Netzwerktechnologie: RS485 Modbus Temperatureinsatzbereich: 0..+50 °C, Genauigkeit Temperatur: ±1 K (typ. bei 21 °C) im Standardmessbereich Messbereich CO2: 0..2000 ppm, Genauigkeit CO2: ±50 ppm +5% des Messwerts (typ. bei 21 °C, 50% rH, 1015 hPa) Eingang: 1x Eingang für NTC10k oder potentialfreien Kontakt, 1x Eingang für potentialbehafteten Kontakt Spannungsversorgung: 24 V = (±10%) SELV, 24 V ~ (±10%) SELV Anzeige: LCD 60x44 mm, 240x160 px, Hintergrundbeleuchtung kaltweiss Gehäuse: PC, Blende Glas, Farbe: reinweiss, Schutzart: IP30 Montage: in Standard UP-Dose (Ø=60 mm, Tiefe min. 45 mm)
A213: 13690 | B213: JOY Fancoil 24V 5DO Temp RS485 Modbus schwarz | C213: Fancoil-Regler, Raumregler Temperatur | D213: JOY Fancoil | E213: Raumanwendung | F213: Raumregler | G213: 851005 | H213: 329.95 | I213: =IF(R213="UP",VLOOKUP($I$1,Änderungen!$F$1:$G$4,2,FALSE),IF(OR(ISERROR(FIND("NOVOS",B213)),ISERROR(FIND("Design ",B213))),IF(OR(ISERROR(FIND("thanos EVO",B213)),ISERROR(FIND("Design ",B213))),0,96.55),19.35)) -> 0 | K213: R1 | L213: =IF(K213<>"",IFERROR(VLOOKUP(K213,Rabattwerte_eintragen!$A$3:$C$24,3,FALSE),0),0) -> 0 | M213: =IF(H213<>"",H213*(1-L213)+I213*(1-VLOOKUP("A1",Rabattwerte_eintragen!$A$3:$C$26,3,FALSE)),"") -> 329.95 | O213: =IF(Q213<>"",HYPERLINK(Q213, "Artikel online anzeigen"),"") -> Artikel online anzeigen | Q213: https://www.thermokon.de/direct/de-ch/products/joy-fancoil-24v-5do-temp-rs485-modbus-schwarz | T213: 90251900 | U213: Einsatzzweck: Raumklimasteuerung, Messwerterfassung Bedienfunktionen: Sollwertverstellung Temperatur, Lüfterstufenverstellung, Standby/Präsenzmeldung Bedienelemente: 5 kapazitive Tasten Ausgang Schaltkontakt: 2x Schliesserkontakt, 1x Heizen, 1x Kühlen, 3x Schliesserkontakt, Lüfterstufen, Last max. 3 A Netzwerktechnologie: RS485 Modbus Temperatureinsatzbereich: 0..+50 °C, Genauigkeit Temperatur: ±1 K (typ. bei 21 °C) im Standardmessbereich Messbereich CO2: 0..2000 ppm, Genauigkeit CO2: ±50 ppm +5% des Messwerts (typ. bei 21 °C, 50% rH, 1015 hPa) Eingang: 1x Eingang für NTC10k oder potentialfreien Kontakt, 1x Eingang für potentialbehafteten Kontakt Spannungsversorgung: 24 V = (±10%) SELV, 24 V ~ (±10%) SELV Anzeige: LCD 60x44 mm, 240x160 px, Hintergrundbeleuchtung kaltweiss Gehäuse: PC, Blende Glas, Farbe: schwarz, Schutzart: IP30 Montage: in Standard UP-Dose (Ø=60 mm, Tiefe min. 45 mm)
A214: 13694 | B214: JOY Fancoil 24V EC AO2DO Temp RS485 Modbus weiss | C214: Fancoil-Regler, Raumregler Temperatur | D214: JOY Fancoil | E214: Raumanwendung | F214: Raumregler | G214: 851011 | H214: 310.65 | I214: =IF(R214="UP",VLOOKUP($I$1,Änderungen!$F$1:$G$4,2,FALSE),IF(OR(ISERROR(FIND("NOVOS",B214)),ISERROR(FIND("Design ",B214))),IF(OR(ISERROR(FIND("thanos EVO",B214)),ISERROR(FIND("Design ",B214))),0,96.55),19.35)) -> 0 | K214: R1 | L214: =IF(K214<>"",IFERROR(VLOOKUP(K214,Rabattwerte_eintragen!$A$3:$C$24,3,FALSE),0),0) -> 0 | M214: =IF(H214<>"",H214*(1-L214)+I214*(1-VLOOKUP("A1",Rabattwerte_eintragen!$A$3:$C$26,3,FALSE)),"") -> 310.65 | O214: =IF(Q214<>"",HYPERLINK(Q214, "Artikel online anzeigen"),"") -> Artikel online anzeigen | Q214: https://www.thermokon.de/direct/de-ch/products/joy-fancoil-24v-ec-ao2do-temp-rs485-modbus-weiss | T214: 90251900 | U214: Einsatzzweck: Raumklimasteuerung, Messwerterfassung Bedienfunktionen: Sollwertverstellung Temperatur, Lüfterstufenverstellung, Standby/Präsenzmeldung Bedienelemente: 5 kapazitive Tasten Ausgang Spannung: 0..10 V, max. Last 5 mA, Ansteuerung EC-Lüfter, Ausgang Schaltkontakt: 2x Schliesserkontakt, 1x Heizen, 1x Kühlen, Last max. 3 A Netzwerktechnologie: RS485 Modbus Temperatureinsatzbereich: 0..+50 °C, Genauigkeit Temperatur: ±1 K (typ. bei 21 °C) im Standardmessbereich Messbereich CO2: 0..2000 ppm, Genauigkeit CO2: ±50 ppm +5% des Messwerts (typ. bei 21 °C, 50% rH, 1015 hPa) Eingang: 1x Eingang für NTC10k oder potentialfreien Kontakt, 1x Eingang für potentialbehafteten Kontakt Spannungsversorgung: 24 V = (±10%) SELV, 24 V ~ (±10%) SELV Anzeige: LCD 60x44 mm, 240x160 px, Hintergrundbeleuchtung kaltweiss Gehäuse: PC, Blende Glas, Farbe: reinweiss, Schutzart: IP30 Montage: in Standard UP-Dose (Ø=60 mm, Tiefe min. 45 mm)
A215: 13695 | B215: JOY Fancoil 24V EC AO2DO Temp RS485 Modbus schwarz | C215: Fancoil-Regler, Raumregler Temperatur | D215: JOY Fancoil | E215: Raumanwendung | F215: Raumregler | G215: 851012 | H215: 329.95 | I215: =IF(R215="UP",VLOOKUP($I$1,Änderungen!$F$1:$G$4,2,FALSE),IF(OR(ISERROR(FIND("NOVOS",B215)),ISERROR(FIND("Design ",B215))),IF(OR(ISERROR(FIND("thanos EVO",B215)),ISERROR(FIND("Design ",B215))),0,96.55),19.35)) -> 0 | K215: R1 | L215: =IF(K215<>"",IFERROR(VLOOKUP(K215,Rabattwerte_eintragen!$A$3:$C$24,3,FALSE),0),0) -> 0 | M215: =IF(H215<>"",H215*(1-L215)+I215*(1-VLOOKUP("A1",Rabattwerte_eintragen!$A$3:$C$26,3,FALSE)),"") -> 329.95 | O215: =IF(Q215<>"",HYPERLINK(Q215, "Artikel online anzeigen"),"") -> Artikel online anzeigen | Q215: https://www.thermokon.de/direct/de-ch/products/joy-fancoil-24v-ec-ao2do-temp-rs485-modbus-schwarz | T215: 90251900 | U215: Einsatzzweck: Raumklimasteuerung, Messwerterfassung Bedienfunktionen: Sollwertverstellung Temperatur, Lüfterstufenverstellung, Standby/Präsenzmeldung Bedienelemente: 5 kapazitive Tasten Ausgang Spannung: 0..10 V, max. Last 5 mA, Ansteuerung EC-Lüfter, Ausgang Schaltkontakt: 2x Schliesserkontakt, 1x Heizen, 1x Kühlen, Last max. 3 A Netzwerktechnologie: RS485 Modbus Temperatureinsatzbereich: 0..+50 °C, Genauigkeit Temperatur: ±1 K (typ. bei 21 °C) im Standardmessbereich Messbereich CO2: 0..2000 ppm, Genauigkeit CO2: ±50 ppm +5% des Messwerts (typ. bei 21 °C, 50% rH, 1015 hPa) Eingang: 1x Eingang für NTC10k oder potentialfreien Kontakt, 1x Eingang für potentialbehafteten Kontakt Spannungsversorgung: 24 V = (±10%) SELV, 24 V ~ (±10%) SELV Anzeige: LCD 60x44 mm, 240x160 px, Hintergrundbeleuchtung kaltweiss Gehäuse: PC, Blende Glas, Farbe: schwarz, Schutzart: IP30 Montage: in Standard UP-Dose (Ø=60 mm, Tiefe min. 45 mm)
A216: 1516 | B216: JOY Fancoil EC 3AO Temp RS485 Modbus weiss | C216: Fancoil-Regler, Raumregler Temperatur | D216: JOY Fancoil | E216: Raumanwendung | F216: Raumregler | G216: 723817 | H216: 310.65 | I216: =IF(R216="UP",VLOOKUP($I$1,Änderungen!$F$1:$G$4,2,FALSE),IF(OR(ISERROR(FIND("NOVOS",B216)),ISERROR(FIND("Design ",B216))),IF(OR(ISERROR(FIND("thanos EVO",B216)),ISERROR(FIND("Design ",B216))),0,96.55),19.35)) -> 0 | J216: ja | K216: R1 | L216: =IF(K216<>"",IFERROR(VLOOKUP(K216,Rabattwerte_eintragen!$A$3:$C$24,3,FALSE),0),0) -> 0 | M216: =IF(H216<>"",H216*(1-L216)+I216*(1-VLOOKUP("A1",Rabattwerte_eintragen!$A$3:$C$26,3,FALSE)),"") -> 310.65 | O216: =IF(Q216<>"",HYPERLINK(Q216, "Artikel online anzeigen"),"") -> Artikel online anzeigen | Q216: https://www.thermokon.de/direct/de-ch/products/joy-fancoil-ec-3ao-temp-rs485-modbus-weiss-1516 | T216: 90251900 | U216: Einsatzzweck: Raumklimasteuerung, Messwerterfassung Bedienfunktionen: Sollwertverstellung Temperatur, Lüfterstufenverstellung, Standby/Präsenzmeldung Bedienelemente: 5 kapazitive Tasten Ausgang Spannung: 3x 0..10 V, max. Last 5 mA, Heizen + Kühlen oder Ansteuerung 6-Wege-Ventil Netzwerktechnologie: RS485 Modbus Temperatureinsatzbereich: 0..+50 °C, Genauigkeit Temperatur: ±1 K (typ. bei 21 °C) im Standardmessbereich Messbereich CO2: 0..2000 ppm, Genauigkeit CO2: ±50 ppm +5% des Messwerts (typ. bei 21 °C, 50% rH, 1015 hPa) Eingang: 1x Eingang für NTC10k oder potentialfreien Kontakt, 2x Eingang für potentialfreien Kontakt Spannungsversorgung: 24 V = (±10%) SELV, 24 V ~ (±10%) SELV Anzeige: LCD 60x44 mm, 240x160 px, Hintergrundbeleuchtung kaltweiss Gehäuse: PC, Blende Glas, Farbe: reinweiss, Schutzart: IP30 Montage: in Standard UP-Dose (Ø=60 mm, Tiefe min. 45 mm)
A217: 1517 | B217: JOY Fancoil EC 3AO Temp RS485 Modbus schwarz | C217: Fancoil-Regler, Raumregler Temperatur | D217: JOY Fancoil | E217: Raumanwendung | F217: Raumregler | G217: 724999 | H217: 329.95 | I217: =IF(R217="UP",VLOOKUP($I$1,Änderungen!$F$1:$G$4,2,FALSE),IF(OR(ISERROR(FIND("NOVOS",B217)),ISERROR(FIND("Design ",B217))),IF(OR(ISERROR(FIND("thanos EVO",B217)),ISERROR(FIND("Design ",B217))),0,96.55),19.35)) -> 0 | J217: ja | K217: R1 | L217: =IF(K217<>"",IFERROR(VLOOKUP(K217,Rabattwerte_eintragen!$A$3:$C$24,3,FALSE),0),0) -> 0 | M217: =IF(H217<>"",H217*(1-L217)+I217*(1-VLOOKUP("A1",Rabattwerte_eintragen!$A$3:$C$26,3,FALSE)),"") -> 329.95 | O217: =IF(Q217<>"",HYPERLINK(Q217, "Artikel online anzeigen"),"") -> Artikel online anzeigen | Q217: https://www.thermokon.de/direct/de-ch/products/joy-fancoil-ec-3ao-temp-rs485-modbus-schwarz-1517 | T217: 90251900 | U217: Einsatzzweck: Raumklimasteuerung, Messwerterfassung Bedienfunktionen: Sollwertverstellung Temperatur, Lüfterstufenverstellung, Standby/Präsenzmeldung Bedienelemente: 5 kapazitive Tasten Ausgang Spannung: 3x 0..10 V, max. Last 5 mA, Heizen + Kühlen oder Ansteuerung 6-Wege-Ventil Netzwerktechnologie: RS485 Modbus Temperatureinsatzbereich: 0..+50 °C, Genauigkeit Temperatur: ±1 K (typ. bei 21 °C) im Standardmessbereich Messbereich CO2: 0..2000 ppm, Genauigkeit CO2: ±50 ppm +5% des Messwerts (typ. bei 21 °C, 50% rH, 1015 hPa) Eingang: 1x Eingang für NTC10k oder potentialfreien Kontakt, 2x Eingang für potentialfreien Kontakt Spannungsversorgung: 24 V = (±10%) SELV, 24 V ~ (±10%) SELV Anzeige: LCD 60x44 mm, 240x160 px, Hintergrundbeleuchtung kaltweiss Gehäuse: PC, Blende Glas, Farbe: schwarz, Schutzart: IP30 Montage: in Standard UP-Dose (Ø=60 mm, Tiefe min. 45 mm)
A218: 11865 | B218: JOY Fancoil 5DO Temp_rH KNX weiss | C218: Fancoil-Regler, Raumregler Temperatur, relative Feuchte | D218: JOY Fancoil | E218: Raumanwendung | F218: Raumregler | G218: 831482 | H218: 401.85 | I218: =IF(R218="UP",VLOOKUP($I$1,Änderungen!$F$1:$G$4,2,FALSE),IF(OR(ISERROR(FIND("NOVOS",B218)),ISERROR(FIND("Design ",B218))),IF(OR(ISERROR(FIND("thanos EVO",B218)),ISERROR(FIND("Design ",B218))),0,96.55),19.35)) -> 0 | K218: R1 | L218: =IF(K218<>"",IFERROR(VLOOKUP(K218,Rabattwerte_eintragen!$A$3:$C$24,3,FALSE),0),0) -> 0 | M218: =IF(H218<>"",H218*(1-L218)+I218*(1-VLOOKUP("A1",Rabattwerte_eintragen!$A$3:$C$26,3,FALSE)),"") -> 401.85 | O218: =IF(Q218<>"",HYPERLINK(Q218, "Artikel online anzeigen"),"") -> Artikel online anzeigen | Q218: https://www.thermokon.de/direct/de-ch/products/joy-fancoil-5do-temp-rh-knx-weiss | T218: 90251900 | U218: Einsatzzweck: Raumklimasteuerung, Messwerterfassung Bedienfunktionen: Sollwertverstellung Temperatur, Lüfterstufenverstellung, Standby/Präsenzmeldung Bedienelemente: 5 kapazitive Tasten Ausgang Schaltkontakt: 2x Schliesserkontakt, 1x Heizen, 1x Kühlen, Last max. 500 mA (240 V, Triac), 3x Schliesserkontakt, Lüfterstufen, Last max. 3 A Netzwerktechnologie: KNX (TP1) Temperatureinsatzbereich: 0..+50 °C, Genauigkeit Temperatur: ±1 K (typ. bei 21 °C) im Standardmessbereich Messbereich Feuchte: 0..100% rH ohne Betauung, Genauigkeit Feuchte: ±2% zwischen 10..90% rH (typ. bei 21 °C) Eingang: 1x Eingang für NTC10k oder potentialfreien Kontakt, 1x Eingang für potentialbehafteten Kontakt (230 V ~), 1x Eingang für potentialfreien Kontakt Spannungsversorgung: 85..260 V ~ Anzeige: LCD 60x44 mm, 240x160 px, Hintergrundbeleuchtung kaltweiss Gehäuse: PC, Blende Glas, Farbe: reinweiss, Schutzart: IP30 Montage: in Standard UP-Dose (Ø=60 mm, Tiefe min. 45 mm) Hinweise: KNX Zertifizierung: ausstehend
A219: 11866 | B219: JOY Fancoil 5DO Temp_rH KNX schwarz | C219: Fancoil-Regler, Raumregler Temperatur, relative Feuchte | D219: JOY Fancoil | E219: Raumanwendung | F219: Raumregler | G219: 831543 | H219: 421.15 | I219: =IF(R219="UP",VLOOKUP($I$1,Änderungen!$F$1:$G$4,2,FALSE),IF(OR(ISERROR(FIND("NOVOS",B219)),ISERROR(FIND("Design ",B219))),IF(OR(ISERROR(FIND("thanos EVO",B219)),ISERROR(FIND("Design ",B219))),0,96.55),19.35)) -> 0 | K219: R1 | L219: =IF(K219<>"",IFERROR(VLOOKUP(K219,Rabattwerte_eintragen!$A$3:$C$24,3,FALSE),0),0) -> 0 | M219: =IF(H219<>"",H219*(1-L219)+I219*(1-VLOOKUP("A1",Rabattwerte_eintragen!$A$3:$C$26,3,FALSE)),"") -> 421.15 | O219: =IF(Q219<>"",HYPERLINK(Q219, "Artikel online anzeigen"),"") -> Artikel online anzeigen | Q219: https://www.thermokon.de/direct/de-ch/products/joy-fancoil-5do-temp-rh-knx-schwarz | T219: 90251900 | U219: Einsatzzweck: Raumklimasteuerung, Messwerterfassung Bedienfunktionen: Sollwertverstellung Temperatur, Lüfterstufenverstellung, Standby/Präsenzmeldung Bedienelemente: 5 kapazitive Tasten Ausgang Schaltkontakt: 2x Schliesserkontakt, 1x Heizen, 1x Kühlen, Last max. 500 mA (240 V, Triac), 3x Schliesserkontakt, Lüfterstufen, Last max. 3 A Netzwerktechnologie: KNX (TP1) Temperatureinsatzbereich: 0..+50 °C, Genauigkeit Temperatur: ±1 K (typ. bei 21 °C) im Standardmessbereich Messbereich Feuchte: 0..100% rH ohne Betauung, Genauigkeit Feuchte: ±2% zwischen 10..90% rH (typ. bei 21 °C) Eingang: 1x Eingang für NTC10k oder potentialfreien Kontakt, 1x Eingang für potentialbehafteten Kontakt (230 V ~), 1x Eingang für potentialfreien Kontakt Spannungsversorgung: 85..260 V ~ Anzeige: LCD 60x44 mm, 240x160 px, Hintergrundbeleuchtung kaltweiss Gehäuse: PC, Blende Glas, Farbe: schwarz, Schutzart: IP30 Montage: in Standard UP-Dose (Ø=60 mm, Tiefe min. 45 mm) Hinweise: KNX Zertifizierung: ausstehend
A220: 11855 | B220: JOY Fancoil 5DO CO2 Temp_rH KNX weiss | C220: Fancoil-Regler, Raumregler Temperatur, relative Feuchte, CO2 | D220: JOY Fancoil | E220: Raumanwendung | F220: Raumregler | G220: 831604 | H220: 523.45 | I220: =IF(R220="UP",VLOOKUP($I$1,Änderungen!$F$1:$G$4,2,FALSE),IF(OR(ISERROR(FIND("NOVOS",B220)),ISERROR(FIND("Design ",B220))),IF(OR(ISERROR(FIND("thanos EVO",B220)),ISERROR(FIND("Design ",B220))),0,96.55),19.35)) -> 0 | K220: R1 | L220: =IF(K220<>"",IFERROR(VLOOKUP(K220,Rabattwerte_eintragen!$A$3:$C$24,3,FALSE),0),0) -> 0 | M220: =IF(H220<>"",H220*(1-L220)+I220*(1-VLOOKUP("A1",Rabattwerte_eintragen!$A$3:$C$26,3,FALSE)),"") -> 523.45 | O220: =IF(Q220<>"",HYPERLINK(Q220, "Artikel online anzeigen"),"") -> Artikel online anzeigen | Q220: https://www.thermokon.de/direct/de-ch/products/joy-fancoil-5do-co2-temp-rh-knx-weiss | T220: 90251900 | U220: Einsatzzweck: Raumklimasteuerung, Messwerterfassung Bedienfunktionen: Sollwertverstellung Temperatur, Lüfterstufenverstellung, Standby/Präsenzmeldung Bedienelemente: 5 kapazitive Tasten Ausgang Schaltkontakt: 2x Schliesserkontakt, 1x Heizen, 1x Kühlen, Last max. 500 mA (240 V, Triac), 3x Schliesserkontakt, Lüfterstufen, Last max. 3 A Netzwerktechnologie: KNX (TP1) Temperatureinsatzbereich: 0..+50 °C, Genauigkeit Temperatur: ±1 K (typ. bei 21 °C) im Standardmessbereich Messbereich CO2: 0..2000 ppm, Genauigkeit CO2: ±50 ppm +5% des Messwerts (typ. bei 21 °C, 50% rH, 1015 hPa) Eingang: 1x Eingang für NTC10k oder potentialfreien Kontakt, 1x Eingang für potentialbehafteten Kontakt (230 V ~), 1x Eingang für potentialfreien Kontakt Spannungsversorgung: 85..260 V ~ Anzeige: LCD 60x44 mm, 240x160 px, Hintergrundbeleuchtung kaltweiss Gehäuse: PC, Blende Glas, Farbe: reinweiss, Schutzart: IP30 Montage: in Standard UP-Dose (Ø=60 mm, Tiefe min. 45 mm) Hinweise: KNX Zertifizierung: ausstehend
A221: 11856 | B221: JOY Fancoil 5DO CO2 Temp_rH KNX schwarz | C221: Fancoil-Regler, Raumregler Temperatur, relative Feuchte, CO2 | D221: JOY Fancoil | E221: Raumanwendung | F221: Raumregler | G221: 831659 | H221: 542.75 | I221: =IF(R221="UP",VLOOKUP($I$1,Änderungen!$F$1:$G$4,2,FALSE),IF(OR(ISERROR(FIND("NOVOS",B221)),ISERROR(FIND("Design ",B221))),IF(OR(ISERROR(FIND("thanos EVO",B221)),ISERROR(FIND("Design ",B221))),0,96.55),19.35)) -> 0 | K221: R1 | L221: =IF(K221<>"",IFERROR(VLOOKUP(K221,Rabattwerte_eintragen!$A$3:$C$24,3,FALSE),0),0) -> 0 | M221: =IF(H221<>"",H221*(1-L221)+I221*(1-VLOOKUP("A1",Rabattwerte_eintragen!$A$3:$C$26,3,FALSE)),"") -> 542.75 | O221: =IF(Q221<>"",HYPERLINK(Q221, "Artikel online anzeigen"),"") -> Artikel online anzeigen | Q221: https://www.thermokon.de/direct/de-ch/products/joy-fancoil-5do-co2-temp-rh-knx-schwarz | T221: 90251900 | U221: Einsatzzweck: Raumklimasteuerung, Messwerterfassung Bedienfunktionen: Sollwertverstellung Temperatur, Lüfterstufenverstellung, Standby/Präsenzmeldung Bedienelemente: 5 kapazitive Tasten Ausgang Schaltkontakt: 2x Schliesserkontakt, 1x Heizen, 1x Kühlen, Last max. 500 mA (240 V, Triac), 3x Schliesserkontakt, Lüfterstufen, Last max. 3 A Netzwerktechnologie: KNX (TP1) Temperatureinsatzbereich: 0..+50 °C, Genauigkeit Temperatur: ±1 K (typ. bei 21 °C) im Standardmessbereich Messbereich Feuchte: 0..100% rH ohne Betauung, Genauigkeit Feuchte: ±2% zwischen 10..90% rH (typ. bei 21 °C) Messbereich CO2: 0..2000 ppm, Genauigkeit CO2: ±50 ppm +5% des Messwerts (typ. bei 21 °C, 50% rH, 1015 hPa) Eingang: 1x Eingang für NTC10k oder potentialfreien Kontakt, 1x Eingang für potentialbehafteten Kontakt (230 V ~), 1x Eingang für potentialfreien Kontakt Spannungsversorgung: 85..260 V ~ Anzeige: LCD 60x44 mm, 240x160 px, Hintergrundbeleuchtung kaltweiss Gehäuse: PC, Blende Glas, Farbe: schwarz, Schutzart: IP30 Montage: in Standard UP-Dose (Ø=60 mm, Tiefe min. 45 mm) Hinweise: KNX Zertifizierung: ausstehend
A222: 11867 | B222: JOY Fancoil EC AO2DO Temp_rH KNX weiss | C222: Fancoil-Regler, Raumregler Temperatur, relative Feuchte | D222: JOY Fancoil | E222: Raumanwendung | F222: Raumregler | G222: 831499 | H222: 401.85 | I222: =IF(R222="UP",VLOOKUP($I$1,Änderungen!$F$1:$G$4,2,FALSE),IF(OR(ISERROR(FIND("NOVOS",B222)),ISERROR(FIND("Design ",B222))),IF(OR(ISERROR(FIND("thanos EVO",B222)),ISERROR(FIND("Design ",B222))),0,96.55),19.35)) -> 0 | K222: R1 | L222: =IF(K222<>"",IFERROR(VLOOKUP(K222,Rabattwerte_eintragen!$A$3:$C$24,3,FALSE),0),0) -> 0 | M222: =IF(H222<>"",H222*(1-L222)+I222*(1-VLOOKUP("A1",Rabattwerte_eintragen!$A$3:$C$26,3,FALSE)),"") -> 401.85 | O222: =IF(Q222<>"",HYPERLINK(Q222, "Artikel online anzeigen"),"") -> Artikel online anzeigen | Q222: https://www.thermokon.de/direct/de-ch/products/joy-fancoil-ec-ao2do-temp-rh-knx-weiss | T222: 90251900 | U222: Einsatzzweck: Raumklimasteuerung, Messwerterfassung Bedienfunktionen: Sollwertverstellung Temperatur, Lüfterstufenverstellung, Standby/Präsenzmeldung Bedienelemente: 5 kapazitive Tasten Ausgang Spannung: 0..10 V, max. Last 5 mA, Ansteuerung EC-Lüfter, Ausgang Schaltkontakt: 2x Schliesserkontakt, 1x Heizen, 1x Kühlen, Last max. 500 mA (240 V, Triac) Netzwerktechnologie: KNX (TP1) Temperatureinsatzbereich: 0..+50 °C, Genauigkeit Temperatur: ±1 K (typ. bei 21 °C) im Standardmessbereich Messbereich Feuchte: 0..100% rH ohne Betauung, Genauigkeit Feuchte: ±2% zwischen 10..90% rH (typ. bei 21 °C) Eingang: 1x Eingang für NTC10k oder potentialfreien Kontakt, 1x Eingang für potentialbehafteten Kontakt (230 V ~), 1x Eingang für potentialfreien Kontakt Spannungsversorgung: 85..260 V ~ Anzeige: LCD 60x44 mm, 240x160 px, Hintergrundbeleuchtung kaltweiss Gehäuse: PC, Blende Glas, Farbe: reinweiss, Schutzart: IP30 Montage: in Standard UP-Dose (Ø=60 mm, Tiefe min. 45 mm) Hinweise: KNX Zertifizierung: ausstehend
A223: 11868 | B223: JOY Fancoil EC AO2DO Temp_rH KNX schwarz | C223: Fancoil-Regler, Raumregler Temperatur, relative Feuchte | D223: JOY Fancoil | E223: Raumanwendung | F223: Raumregler | G223: 831550 | H223: 421.15 | I223: =IF(R223="UP",VLOOKUP($I$1,Änderungen!$F$1:$G$4,2,FALSE),IF(OR(ISERROR(FIND("NOVOS",B223)),ISERROR(FIND("Design ",B223))),IF(OR(ISERROR(FIND("thanos EVO",B223)),ISERROR(FIND("Design ",B223))),0,96.55),19.35)) -> 0 | K223: R1 | L223: =IF(K223<>"",IFERROR(VLOOKUP(K223,Rabattwerte_eintragen!$A$3:$C$24,3,FALSE),0),0) -> 0 | M223: =IF(H223<>"",H223*(1-L223)+I223*(1-VLOOKUP("A1",Rabattwerte_eintragen!$A$3:$C$26,3,FALSE)),"") -> 421.15 | O223: =IF(Q223<>"",HYPERLINK(Q223, "Artikel online anzeigen"),"") -> Artikel online anzeigen | Q223: https://www.thermokon.de/direct/de-ch/products/joy-fancoil-ec-ao2do-temp-rh-knx-schwarz | T223: 90251900 | U223: Einsatzzweck: Raumklimasteuerung, Messwerterfassung Bedienfunktionen: Sollwertverstellung Temperatur, Lüfterstufenverstellung, Standby/Präsenzmeldung Bedienelemente: 5 kapazitive Tasten Ausgang Spannung: 0..10 V, max. Last 5 mA, Ansteuerung EC-Lüfter, Ausgang Schaltkontakt: 2x Schliesserkontakt, 1x Heizen, 1x Kühlen, Last max. 500 mA (240 V, Triac) Netzwerktechnologie: KNX (TP1) Temperatureinsatzbereich: 0..+50 °C, Genauigkeit Temperatur: ±1 K (typ. bei 21 °C) im Standardmessbereich Messbereich Feuchte: 0..100% rH ohne Betauung, Genauigkeit Feuchte: ±2% zwischen 10..90% rH (typ. bei 21 °C) Eingang: 1x Eingang für NTC10k oder potentialfreien Kontakt, 1x Eingang für potentialbehafteten Kontakt (230 V ~), 1x Eingang für potentialfreien Kontakt Spannungsversorgung: 85..260 V ~ Anzeige: LCD 60x44 mm, 240x160 px, Hintergrundbeleuchtung kaltweiss Gehäuse: PC, Blende Glas, Farbe: schwarz, Schutzart: IP30 Montage: in Standard UP-Dose (Ø=60 mm, Tiefe min. 45 mm) Hinweise: KNX Zertifizierung: ausstehend
A224: 11857 | B224: JOY Fancoil EC AO2DO CO2 Temp_rH KNX weiss | C224: Fancoil-Regler, Raumregler Temperatur, relative Feuchte, CO2 | D224: JOY Fancoil | E224: Raumanwendung | F224: Raumregler | G224: 831611 | H224: 523.45 | I224: =IF(R224="UP",VLOOKUP($I$1,Änderungen!$F$1:$G$4,2,FALSE),IF(OR(ISERROR(FIND("NOVOS",B224)),ISERROR(FIND("Design ",B224))),IF(OR(ISERROR(FIND("thanos EVO",B224)),ISERROR(FIND("Design ",B224))),0,96.55),19.35)) -> 0 | K224: R1 | L224: =IF(K224<>"",IFERROR(VLOOKUP(K224,Rabattwerte_eintragen!$A$3:$C$24,3,FALSE),0),0) -> 0 | M224: =IF(H224<>"",H224*(1-L224)+I224*(1-VLOOKUP("A1",Rabattwerte_eintragen!$A$3:$C$26,3,FALSE)),"") -> 523.45 | O224: =IF(Q224<>"",HYPERLINK(Q224, "Artikel online anzeigen"),"") -> Artikel online anzeigen | Q224: https://www.thermokon.de/direct/de-ch/products/joy-fancoil-ec-ao2do-co2-temp-rh-knx-weiss | T224: 90251900 | U224: Einsatzzweck: Raumklimasteuerung, Messwerterfassung Bedienfunktionen: Sollwertverstellung Temperatur, Lüfterstufenverstellung, Standby/Präsenzmeldung Bedienelemente: 5 kapazitive Tasten Ausgang Spannung: 0..10 V, max. Last 5 mA, Ansteuerung EC-Lüfter, Ausgang Schaltkontakt: 2x Schliesserkontakt, 1x Heizen, 1x Kühlen, Last max. 500 mA (240 V, Triac) Netzwerktechnologie: KNX (TP1) Temperatureinsatzbereich: 0..+50 °C, Genauigkeit Temperatur: ±1 K (typ. bei 21 °C) im Standardmessbereich Messbereich Feuchte: 0..100% rH ohne Betauung, Genauigkeit Feuchte: ±2% zwischen 10..90% rH (typ. bei 21 °C) Messbereich CO2: 0..2000 ppm, Genauigkeit CO2: ±50 ppm +5% des Messwerts (typ. bei 21 °C, 50% rH, 1015 hPa) Eingang: 1x Eingang für NTC10k oder potentialfreien Kontakt, 1x Eingang für potentialbehafteten Kontakt (230 V ~), 1x Eingang für potentialfreien Kontakt Spannungsversorgung: 85..260 V ~ Anzeige: LCD 60x44 mm, 240x160 px, Hintergrundbeleuchtung kaltweiss Gehäuse: PC, Blende Glas, Farbe: reinweiss, Schutzart: IP30 Montage: in Standard UP-Dose (Ø=60 mm, Tiefe min. 45 mm) Hinweise: KNX Zertifizierung: ausstehend
A225: 11858 | B225: JOY Fancoil EC AO2DO CO2 Temp_rH KNX schwarz | C225: Fancoil-Regler, Raumregler Temperatur, relative Feuchte, CO2 | D225: JOY Fancoil | E225: Raumanwendung | F225: Raumregler | G225: 831666 | H225: 542.75 | I225: =IF(R225="UP",VLOOKUP($I$1,Änderungen!$F$1:$G$4,2,FALSE),IF(OR(ISERROR(FIND("NOVOS",B225)),ISERROR(FIND("Design ",B225))),IF(OR(ISERROR(FIND("thanos EVO",B225)),ISERROR(FIND("Design ",B225))),0,96.55),19.35)) -> 0 | K225: R1 | L225: =IF(K225<>"",IFERROR(VLOOKUP(K225,Rabattwerte_eintragen!$A$3:$C$24,3,FALSE),0),0) -> 0 | M225: =IF(H225<>"",H225*(1-L225)+I225*(1-VLOOKUP("A1",Rabattwerte_eintragen!$A$3:$C$26,3,FALSE)),"") -> 542.75 | O225: =IF(Q225<>"",HYPERLINK(Q225, "Artikel online anzeigen"),"") -> Artikel online anzeigen | Q225: https://www.thermokon.de/direct/de-ch/products/joy-fancoil-ec-ao2do-co2-temp-rh-knx-schwarz | T225: 90251900 | U225: Einsatzzweck: Raumklimasteuerung, Messwerterfassung Bedienfunktionen: Sollwertverstellung Temperatur, Lüfterstufenverstellung, Standby/Präsenzmeldung Bedienelemente: 5 kapazitive Tasten Ausgang Spannung: 0..10 V, max. Last 5 mA, Ansteuerung EC-Lüfter, Ausgang Schaltkontakt: 2x Schliesserkontakt, 1x Heizen, 1x Kühlen, Last max. 500 mA (240 V, Triac) Netzwerktechnologie: KNX (TP1) Temperatureinsatzbereich: 0..+50 °C, Genauigkeit Temperatur: ±1 K (typ. bei 21 °C) im Standardmessbereich Messbereich Feuchte: 0..100% rH ohne Betauung, Genauigkeit Feuchte: ±2% zwischen 10..90% rH (typ. bei 21 °C) Messbereich CO2: 0..2000 ppm, Genauigkeit CO2: ±50 ppm +5% des Messwerts (typ. bei 21 °C, 50% rH, 1015 hPa) Eingang: 1x Eingang für NTC10k oder potentialfreien Kontakt, 1x Eingang für potentialbehafteten Kontakt (230 V ~), 1x Eingang für potentialfreien Kontakt Spannungsversorgung: 85..260 V ~ Anzeige: LCD 60x44 mm, 240x160 px, Hintergrundbeleuchtung kaltweiss Gehäuse: PC, Blende Glas, Farbe: schwarz, Schutzart: IP30 Montage: in Standard UP-Dose (Ø=60 mm, Tiefe min. 45 mm) Hinweise: KNX Zertifizierung: ausstehend
A226: 13722 | B226: JOY Fancoil 24V 5DO Temp_rH KNX weiss | C226: Fancoil-Regler, Raumregler Temperatur, relative Feuchte | D226: JOY Fancoil | E226: Raumanwendung | F226: Raumregler | G226: 851030 | H226: 401.85 | I226: =IF(R226="UP",VLOOKUP($I$1,Änderungen!$F$1:$G$4,2,FALSE),IF(OR(ISERROR(FIND("NOVOS",B226)),ISERROR(FIND("Design ",B226))),IF(OR(ISERROR(FIND("thanos EVO",B226)),ISERROR(FIND("Design ",B226))),0,96.55),19.35)) -> 0 | K226: R1 | L226: =IF(K226<>"",IFERROR(VLOOKUP(K226,Rabattwerte_eintragen!$A$3:$C$24,3,FALSE),0),0) -> 0 | M226: =IF(H226<>"",H226*(1-L226)+I226*(1-VLOOKUP("A1",Rabattwerte_eintragen!$A$3:$C$26,3,FALSE)),"") -> 401.85 | O226: =IF(Q226<>"",HYPERLINK(Q226, "Artikel online anzeigen"),"") -> Artikel online anzeigen | Q226: https://www.thermokon.de/direct/de-ch/products/joy-fancoil-24v-5do-temp-rh-knx-weiss | T226: 90251900 | U226: Einsatzzweck: Raumklimasteuerung, Messwerterfassung Bedienfunktionen: Sollwertverstellung Temperatur, Lüfterstufenverstellung, Standby/Präsenzmeldung Bedienelemente: 5 kapazitive Tasten Ausgang Schaltkontakt: 2x Schliesserkontakt, 1x Heizen, 1x Kühlen, Last max. 500 mA (240 V, Triac), 3x Schliesserkontakt, Lüfterstufen, Last max. 3 A Netzwerktechnologie: KNX (TP1) Temperatureinsatzbereich: 0..+50 °C, Genauigkeit Temperatur: ±1 K (typ. bei 21 °C) im Standardmessbereich Messbereich Feuchte: 0..100% rH ohne Betauung, Genauigkeit Feuchte: ±2% zwischen 10..90% rH (typ. bei 21 °C) Eingang: 1x Eingang für NTC10k oder potentialfreien Kontakt, 1x Eingang für potentialbehafteten Kontakt Spannungsversorgung: 24 V = (±10%) SELV, 24 V ~ (±10%) SELV Anzeige: LCD 60x44 mm, 240x160 px, Hintergrundbeleuchtung kaltweiss Gehäuse: PC, Blende Glas, Farbe: reinweiss, Schutzart: IP30 Montage: in Standard UP-Dose (Ø=60 mm, Tiefe min. 45 mm) Hinweise: KNX Zertifizierung: ausstehend
A227: 13723 | B227: JOY Fancoil 24V 5DO Temp_rH KNX schwarz | C227: Fancoil-Regler, Raumregler Temperatur, relative Feuchte | D227: JOY Fancoil | E227: Raumanwendung | F227: Raumregler | G227: 851022 | H227: 421.15 | I227: =IF(R227="UP",VLOOKUP($I$1,Änderungen!$F$1:$G$4,2,FALSE),IF(OR(ISERROR(FIND("NOVOS",B227)),ISERROR(FIND("Design ",B227))),IF(OR(ISERROR(FIND("thanos EVO",B227)),ISERROR(FIND("Design ",B227))),0,96.55),19.35)) -> 0 | K227: R1 | L227: =IF(K227<>"",IFERROR(VLOOKUP(K227,Rabattwerte_eintragen!$A$3:$C$24,3,FALSE),0),0) -> 0 | M227: =IF(H227<>"",H227*(1-L227)+I227*(1-VLOOKUP("A1",Rabattwerte_eintragen!$A$3:$C$26,3,FALSE)),"") -> 421.15 | O227: =IF(Q227<>"",HYPERLINK(Q227, "Artikel online anzeigen"),"") -> Artikel online anzeigen | Q227: https://www.thermokon.de/direct/de-ch/products/joy-fancoil-24v-5do-temp-rh-knx-schwarz | T227: 90251900 | U227: Einsatzzweck: Raumklimasteuerung, Messwerterfassung Bedienfunktionen: Sollwertverstellung Temperatur, Lüfterstufenverstellung, Standby/Präsenzmeldung Bedienelemente: 5 kapazitive Tasten Ausgang Schaltkontakt: 2x Schliesserkontakt, 1x Heizen, 1x Kühlen, 3x Schliesserkontakt, Lüfterstufen, Last max. 3 A Netzwerktechnologie: KNX (TP1) Temperatureinsatzbereich: 0..+50 °C, Genauigkeit Temperatur: ±1 K (typ. bei 21 °C) im Standardmessbereich Messbereich Feuchte: 0..100% rH ohne Betauung, Genauigkeit Feuchte: ±2% zwischen 10..90% rH (typ. bei 21 °C) Eingang: 1x Eingang für NTC10k oder potentialfreien Kontakt, 1x Eingang für potentialbehafteten Kontakt Spannungsversorgung: 24 V = (±10%) SELV, 24 V ~ (±10%) SELV Anzeige: LCD 60x44 mm, 240x160 px, Hintergrundbeleuchtung kaltweiss Gehäuse: PC, Blende Glas, Farbe: schwarz, Schutzart: IP30 Montage: in Standard UP-Dose (Ø=60 mm, Tiefe min. 45 mm) Hinweise: KNX Zertifizierung: ausstehend
A228: 13724 | B228: JOY Fancoil 24V EC AO2DO Temp_rH KNX weiss | C228: Fancoil-Regler, Raumregler Temperatur, relative Feuchte | D228: JOY Fancoil | E228: Raumanwendung | F228: Raumregler | G228: 851031 | H228: 401.85 | I228: =IF(R228="UP",VLOOKUP($I$1,Änderungen!$F$1:$G$4,2,FALSE),IF(OR(ISERROR(FIND("NOVOS",B228)),ISERROR(FIND("Design ",B228))),IF(OR(ISERROR(FIND("thanos EVO",B228)),ISERROR(FIND("Design ",B228))),0,96.55),19.35)) -> 0 | K228: R1 | L228: =IF(K228<>"",IFERROR(VLOOKUP(K228,Rabattwerte_eintragen!$A$3:$C$24,3,FALSE),0),0) -> 0 | M228: =IF(H228<>"",H228*(1-L228)+I228*(1-VLOOKUP("A1",Rabattwerte_eintragen!$A$3:$C$26,3,FALSE)),"") -> 401.85 | O228: =IF(Q228<>"",HYPERLINK(Q228, "Artikel online anzeigen"),"") -> Artikel online anzeigen | Q228: https://www.thermokon.de/direct/de-ch/products/joy-fancoil-24v-ec-ao2do-temp-rh-knx-weiss | T228: 90251900 | U228: Einsatzzweck: Raumklimasteuerung, Messwerterfassung Bedienfunktionen: Sollwertverstellung Temperatur, Lüfterstufenverstellung, Standby/Präsenzmeldung Bedienelemente: 5 kapazitive Tasten Ausgang Spannung: 0..10 V, max. Last 5 mA, Ansteuerung EC-Lüfter, Ausgang Schaltkontakt: 2x Schliesserkontakt, 1x Heizen, 1x Kühlen, Last max. 3 A Netzwerktechnologie: KNX (TP1) Temperatureinsatzbereich: 0..+50 °C, Genauigkeit Temperatur: ±1 K (typ. bei 21 °C) im Standardmessbereich Messbereich Feuchte: 0..100% rH ohne Betauung, Genauigkeit Feuchte: ±2% zwischen 10..90% rH (typ. bei 21 °C) Eingang: 1x Eingang für NTC10k oder potentialfreien Kontakt, 1x Eingang für potentialbehafteten Kontakt Spannungsversorgung: 24 V = (±10%) SELV, 24 V ~ (±10%) SELV Anzeige: LCD 60x44 mm, 240x160 px, Hintergrundbeleuchtung kaltweiss Gehäuse: PC, Blende Glas, Farbe: reinweiss, Schutzart: IP30 Montage: in Standard UP-Dose (Ø=60 mm, Tiefe min. 45 mm) Hinweise: KNX Zertifizierung: ausstehend
A229: 13725 | B229: JOY Fancoil 24V EC AO2DO Temp_rH KNX schwarz | C229: Fancoil-Regler, Raumregler Temperatur, relative Feuchte | D229: JOY Fancoil | E229: Raumanwendung | F229: Raumregler | G229: 851032 | H229: 421.15 | I229: =IF(R229="UP",VLOOKUP($I$1,Änderungen!$F$1:$G$4,2,FALSE),IF(OR(ISERROR(FIND("NOVOS",B229)),ISERROR(FIND("Design ",B229))),IF(OR(ISERROR(FIND("thanos EVO",B229)),ISERROR(FIND("Design ",B229))),0,96.55),19.35)) -> 0 | K229: R1 | L229: =IF(K229<>"",IFERROR(VLOOKUP(K229,Rabattwerte_eintragen!$A$3:$C$24,3,FALSE),0),0) -> 0 | M229: =IF(H229<>"",H229*(1-L229)+I229*(1-VLOOKUP("A1",Rabattwerte_eintragen!$A$3:$C$26,3,FALSE)),"") -> 421.15 | O229: =IF(Q229<>"",HYPERLINK(Q229, "Artikel online anzeigen"),"") -> Artikel online anzeigen | Q229: https://www.thermokon.de/direct/de-ch/products/joy-fancoil-24v-ec-ao2do-temp-rh-knx-schwarz | T229: 90251900 | U229: Einsatzzweck: Raumklimasteuerung, Messwerterfassung Bedienfunktionen: Sollwertverstellung Temperatur, Lüfterstufenverstellung, Standby/Präsenzmeldung Bedienelemente: 5 kapazitive Tasten Ausgang Spannung: 0..10 V, max. Last 5 mA, Ansteuerung EC-Lüfter, Ausgang Schaltkontakt: 2x Schliesserkontakt, 1x Heizen, 1x Kühlen, Last max. 3 A Netzwerktechnologie: KNX (TP1) Temperatureinsatzbereich: 0..+50 °C, Genauigkeit Temperatur: ±1 K (typ. bei 21 °C) im Standardmessbereich Messbereich Feuchte: 0..100% rH ohne Betauung, Genauigkeit Feuchte: ±2% zwischen 10..90% rH (typ. bei 21 °C) Eingang: 1x Eingang für NTC10k oder potentialfreien Kontakt, 1x Eingang für potentialbehafteten Kontakt Spannungsversorgung: 24 V = (±10%) SELV, 24 V ~ (±10%) SELV Anzeige: LCD 60x44 mm, 240x160 px, Hintergrundbeleuchtung kaltweiss Gehäuse: PC, Blende Glas, Farbe: schwarz, Schutzart: IP30 Montage: in Standard UP-Dose (Ø=60 mm, Tiefe min. 45 mm) Hinweise: KNX Zertifizierung: ausstehend
... A269: 9118 | B269: JOY HC 3AO Temp RS485 BACnet (MS/TP) schwarz | C269: Raumregler Temperatur | D269: JOY HC | E269: Raumanwendung | F269: Raumregler | G269: 778756 | H269: 329.95 | I269: =IF(R269="UP",VLOOKUP($I$1,Änderungen!$F$1:$G$4,2,FALSE),IF(OR(ISERROR(FIND("NOVOS",B269)),ISERROR(FIND("Design ",B269))),IF(OR(ISERROR(FIND("thanos EVO",B269)),ISERROR(FIND("Design ",B269))),0,96.55),19.35)) -> 0 | K269: R1 | L269: =IF(K269<>"",IFERROR(VLOOKUP(K269,Rabattwerte_eintragen!$A$3:$C$24,3,FALSE),0),0) -> 0 | M269: =IF(H269<>"",H269*(1-L269)+I269*(1-VLOOKUP("A1",Rabattwerte_eintragen!$A$3:$C$26,3,FALSE)),"") -> 329.95 | O269: =IF(Q269<>"",HYPERLINK(Q269, "Artikel online anzeigen"),"") -> Artikel online anzeigen | Q269: https://www.thermokon.de/direct/de-ch/products/joy-hc-3ao-temp-rs485-bacnet-ms-tp-schwarz | T269: 90251900 | U269: Einsatzzweck: Raumklimasteuerung, Messwerterfassung Bedienfunktionen: Sollwertverstellung Temperatur, Standby/Präsenzmeldung Bedienelemente: 3 kapazitive Tasten Ausgang Spannung: 3x 0..10 V, Ansteuerung 6-Wege-Ventil und Heizen + Kühlen Netzwerktechnologie: RS485 BACnet (MS/TP) Temperatureinsatzbereich: 0..50 °C, Genauigkeit Temperatur: ±1 K (typ. bei 21 °C) Eingang: 1x Eingang für NTC10k oder potentialfreien Kontakt, 2x Eingang für potentialfreien Kontakt Spannungsversorgung: 24 V = (±10%) SELV Anzeige: LCD 60x44 mm, 240x160 px, Hintergrundbeleuchtung kaltweiss Gehäuse: PC, Blende Glas, Farbe: schwarz, Schutzart: IP30 Montage: in Standard UP-Dose (Ø=60 mm, Tiefe min. 45 mm)
A270: 1496 | B270: JOY HC AO2DO Temp RS485 Modbus weiss | C270: Raumregler Temperatur | D270: JOY HC | E270: Raumanwendung | F270: Raumregler | G270: 752046 | H270: 310.65 | I270: =IF(R270="UP",VLOOKUP($I$1,Änderungen!$F$1:$G$4,2,FALSE),IF(OR(ISERROR(FIND("NOVOS",B270)),ISERROR(FIND("Design ",B270))),IF(OR(ISERROR(FIND("thanos EVO",B270)),ISERROR(FIND("Design ",B270))),0,96.55),19.35)) -> 0 | J270: ja | K270: R1 | L270: =IF(K270<>"",IFERROR(VLOOKUP(K270,Rabattwerte_eintragen!$A$3:$C$24,3,FALSE),0),0) -> 0 | M270: =IF(H270<>"",H270*(1-L270)+I270*(1-VLOOKUP("A1",Rabattwerte_eintragen!$A$3:$C$26,3,FALSE)),"") -> 310.65 | O270: =IF(Q270<>"",HYPERLINK(Q270, "Artikel online anzeigen"),"") -> Artikel online anzeigen | Q270: https://www.thermokon.de/direct/de-ch/products/joy-hc-ao2do-temp-rs485-modbus-weiss | T270: 90251900 | U270: Einsatzzweck: Raumklimasteuerung, Messwerterfassung Bedienfunktionen: Sollwertverstellung Temperatur, Standby/Präsenzmeldung Bedienelemente: 3 kapazitive Tasten Ausgang Spannung: 0..10 V, Ansteuerung 6-Wege-Ventil, Ausgang Schaltkontakt: 2x Schliesserkontakt, 1x Heizen, 1x Kühlen, Last max. 3 A Netzwerktechnologie: RS485 Modbus Temperatureinsatzbereich: 0..50 °C, Genauigkeit Temperatur: ±1 K (typ. bei 21 °C) Eingang: 1x Eingang für NTC10k oder potentialfreien Kontakt, 1x Eingang für potentialbehafteten Kontakt (230 V ~) Spannungsversorgung: 85..260 V ~ Anzeige: LCD 60x44 mm, 240x160 px, Hintergrundbeleuchtung kaltweiss Gehäuse: PC, Blende Glas, Farbe: reinweiss, Schutzart: IP30 Montage: in Standard UP-Dose (Ø=60 mm, Tiefe min. 45 mm)
A271: 1497 | B271: JOY HC AO2DO Temp RS485 Modbus schwarz | C271: Raumregler Temperatur | D271: JOY HC | E271: Raumanwendung | F271: Raumregler | G271: 752053 | H271: 329.95 | I271: =IF(R271="UP",VLOOKUP($I$1,Änderungen!$F$1:$G$4,2,FALSE),IF(OR(ISERROR(FIND("NOVOS",B271)),ISERROR(FIND("Design ",B271))),IF(OR(ISERROR(FIND("thanos EVO",B271)),ISERROR(FIND("Design ",B271))),0,96.55),19.35)) -> 0 | K271: R1 | L271: =IF(K271<>"",IFERROR(VLOOKUP(K271,Rabattwerte_eintragen!$A$3:$C$24,3,FALSE),0),0) -> 0 | M271: =IF(H271<>"",H271*(1-L271)+I271*(1-VLOOKUP("A1",Rabattwerte_eintragen!$A$3:$C$26,3,FALSE)),"") -> 329.95 | O271: =IF(Q271<>"",HYPERLINK(Q271, "Artikel online anzeigen"),"") -> Artikel online anzeigen | Q271: https://www.thermokon.de/direct/de-ch/products/joy-hc-ao2do-temp-rs485-modbus-schwarz | T271: 90251900 | U271: Einsatzzweck: Raumklimasteuerung, Messwerterfassung Bedienfunktionen: Sollwertverstellung Temperatur, Standby/Präsenzmeldung Bedienelemente: 3 kapazitive Tasten Ausgang Spannung: 0..10 V, Ansteuerung 6-Wege-Ventil, Ausgang Schaltkontakt: 2x Schliesserkontakt, 1x Heizen, 1x Kühlen, Last max. 500 mA (240 V, Triac) Netzwerktechnologie: RS485 Modbus Temperatureinsatzbereich: 0..50 °C, Genauigkeit Temperatur: ±1 K (typ. bei 21 °C) Eingang: 1x Eingang für NTC10k oder potentialfreien Kontakt, 1x Eingang für potentialbehafteten Kontakt (230 V ~) Spannungsversorgung: 85..260 V ~ Anzeige: LCD 60x44 mm, 240x160 px, Hintergrundbeleuchtung kaltweiss Gehäuse: PC, Blende Glas, Farbe: schwarz, Schutzart: IP30 Montage: in Standard UP-Dose (Ø=60 mm, Tiefe min. 45 mm)
A272: 13728 | B272: JOY HC 24V AO2DO Temp RS485 Modbus weiss | C272: Raumregler Temperatur | D272: JOY HC | E272: Raumanwendung | F272: Raumregler | G272: 851014 | H272: 310.65 | I272: =IF(R272="UP",VLOOKUP($I$1,Änderungen!$F$1:$G$4,2,FALSE),IF(OR(ISERROR(FIND("NOVOS",B272)),ISERROR(FIND("Design ",B272))),IF(OR(ISERROR(FIND("thanos EVO",B272)),ISERROR(FIND("Design ",B272))),0,96.55),19.35)) -> 0 | K272: R1 | L272: =IF(K272<>"",IFERROR(VLOOKUP(K272,Rabattwerte_eintragen!$A$3:$C$24,3,FALSE),0),0) -> 0 | M272: =IF(H272<>"",H272*(1-L272)+I272*(1-VLOOKUP("A1",Rabattwerte_eintragen!$A$3:$C$26,3,FALSE)),"") -> 310.65 | O272: =IF(Q272<>"",HYPERLINK(Q272, "Artikel online anzeigen"),"") -> Artikel online anzeigen | Q272: https://www.thermokon.de/direct/de-ch/products/joy-hc-24v-ao2do-temp-rs485-modbus-weiss | T272: 90251900 | U272: Einsatzzweck: Raumklimasteuerung, Messwerterfassung Bedienfunktionen: Sollwertverstellung Temperatur, Standby/Präsenzmeldung Bedienelemente: 3 kapazitive Tasten Ausgang Spannung: 0..10 V, Ansteuerung 6-Wege-Ventil, Ausgang Schaltkontakt: 2x Schliesserkontakt, 1x Heizen, 1x Kühlen, Last max. 3 A Netzwerktechnologie: RS485 Modbus Temperatureinsatzbereich: 0..50 °C, Genauigkeit Temperatur: ±1 K (typ. bei 21 °C) Eingang: 1x Eingang für NTC10k oder potentialfreien Kontakt, 1x Eingang für potentialbehafteten Kontakt Spannungsversorgung: 24 V = (±10%) SELV, 24 V ~ (±10%) SELV Anzeige: LCD 60x44 mm, 240x160 px, Hintergrundbeleuchtung kaltweiss Gehäuse: PC, Blende Glas, Farbe: reinweiss, Schutzart: IP30 Montage: in Standard UP-Dose (Ø=60 mm, Tiefe min. 45 mm)
A273: 13729 | B273: JOY HC 24V AO2DO Temp RS485 Modbus schwarz | C273: Raumregler Temperatur | D273: JOY HC | E273: Raumanwendung | F273: Raumregler | G273: 851016 | H273: 329.95 | I273: =IF(R273="UP",VLOOKUP($I$1,Änderungen!$F$1:$G$4,2,FALSE),IF(OR(ISERROR(FIND("NOVOS",B273)),ISERROR(FIND("Design ",B273))),IF(OR(ISERROR(FIND("thanos EVO",B273)),ISERROR(FIND("Design ",B273))),0,96.55),19.35)) -> 0 | K273: R1 | L273: =IF(K273<>"",IFERROR(VLOOKUP(K273,Rabattwerte_eintragen!$A$3:$C$24,3,FALSE),0),0) -> 0 | M273: =IF(H273<>"",H273*(1-L273)+I273*(1-VLOOKUP("A1",Rabattwerte_eintragen!$A$3:$C$26,3,FALSE)),"") -> 329.95 | O273: =IF(Q273<>"",HYPERLINK(Q273, "Artikel online anzeigen"),"") -> Artikel online anzeigen | Q273: https://www.thermokon.de/direct/de-ch/products/joy-hc-24v-ao2do-temp-rs485-modbus-schwarz | T273: 90251900 | U273: Einsatzzweck: Raumklimasteuerung, Messwerterfassung Bedienfunktionen: Sollwertverstellung Temperatur, Standby/Präsenzmeldung Bedienelemente: 3 kapazitive Tasten Ausgang Spannung: 0..10 V, Ansteuerung 6-Wege-Ventil, Ausgang Schaltkontakt: 2x Schliesserkontakt, 1x Heizen, 1x Kühlen, Last max. 3 A Netzwerktechnologie: RS485 Modbus Temperatureinsatzbereich: 0..50 °C, Genauigkeit Temperatur: ±1 K (typ. bei 21 °C) Eingang: 1x Eingang für NTC10k oder potentialfreien Kontakt, 1x Eingang für potentialbehafteten Kontakt Spannungsversorgung: 24 V = (±10%) SELV, 24 V ~ (±10%) SELV Anzeige: LCD 60x44 mm, 240x160 px, Hintergrundbeleuchtung kaltweiss Gehäuse: PC, Blende Glas, Farbe: schwarz, Schutzart: IP30 Montage: in Standard UP-Dose (Ø=60 mm, Tiefe min. 45 mm)
A274: 1498 | B274: JOY HC 3AO Temp RS485 Modbus weiss | C274: Raumregler Temperatur | D274: JOY HC | E274: Raumanwendung | F274: Raumregler | G274: 723732 | H274: 310.65 | I274: =IF(R274="UP",VLOOKUP($I$1,Änderungen!$F$1:$G$4,2,FALSE),IF(OR(ISERROR(FIND("NOVOS",B274)),ISERROR(FIND("Design ",B274))),IF(OR(ISERROR(FIND("thanos EVO",B274)),ISERROR(FIND("Design ",B274))),0,96.55),19.35)) -> 0 | J274: ja | K274: R1 | L274: =IF(K274<>"",IFERROR(VLOOKUP(K274,Rabattwerte_eintragen!$A$3:$C$24,3,FALSE),0),0) -> 0 | M274: =IF(H274<>"",H274*(1-L274)+I274*(1-VLOOKUP("A1",Rabattwerte_eintragen!$A$3:$C$26,3,FALSE)),"") -> 310.65 | O274: =IF(Q274<>"",HYPERLINK(Q274, "Artikel online anzeigen"),"") -> Artikel online anzeigen | Q274: https://www.thermokon.de/direct/de-ch/products/joy-hc-3ao-temp-rs485-modbus-weiss-1498 | T274: 90251900 | U274: Einsatzzweck: Raumklimasteuerung, Messwerterfassung Bedienfunktionen: Sollwertverstellung Temperatur, Standby/Präsenzmeldung Bedienelemente: 3 kapazitive Tasten Ausgang Spannung: 3x 0..10 V, Ansteuerung 6-Wege-Ventil und Heizen + Kühlen Netzwerktechnologie: RS485 Modbus Temperatureinsatzbereich: 0..50 °C, Genauigkeit Temperatur: ±1 K (typ. bei 21 °C) Eingang: 1x Eingang für NTC10k oder potentialfreien Kontakt, 2x Eingang für potentialfreien Kontakt Spannungsversorgung: 24 V = (±10%) SELV Anzeige: LCD 60x44 mm, 240x160 px, Hintergrundbeleuchtung kaltweiss Gehäuse: PC, Blende Glas, Farbe: reinweiss, Schutzart: IP30 Montage: in Standard UP-Dose (Ø=60 mm, Tiefe min. 45 mm)
A275: 1499 | B275: JOY HC 3AO Temp RS485 Modbus schwarz | C275: Raumregler Temperatur | D275: JOY HC | E275: Raumanwendung | F275: Raumregler | G275: 725026 | H275: 329.95 | I275: =IF(R275="UP",VLOOKUP($I$1,Änderungen!$F$1:$G$4,2,FALSE),IF(OR(ISERROR(FIND("NOVOS",B275)),ISERROR(FIND("Design ",B275))),IF(OR(ISERROR(FIND("thanos EVO",B275)),ISERROR(FIND("Design ",B275))),0,96.55),19.35)) -> 0 | K275: R1 | L275: =IF(K275<>"",IFERROR(VLOOKUP(K275,Rabattwerte_eintragen!$A$3:$C$24,3,FALSE),0),0) -> 0 | M275: =IF(H275<>"",H275*(1-L275)+I275*(1-VLOOKUP("A1",Rabattwerte_eintragen!$A$3:$C$26,3,FALSE)),"") -> 329.95 | O275: =IF(Q275<>"",HYPERLINK(Q275, "Artikel online anzeigen"),"") -> Artikel online anzeigen | Q275: https://www.thermokon.de/direct/de-ch/products/joy-hc-3ao-temp-rs485-modbus-schwarz-1499 | T275: 90251900 | U275: Einsatzzweck: Raumklimasteuerung, Messwerterfassung Bedienfunktionen: Sollwertverstellung Temperatur, Standby/Präsenzmeldung Bedienelemente: 3 kapazitive Tasten Ausgang Spannung: 3x 0..10 V, Ansteuerung 6-Wege-Ventil und Heizen + Kühlen Netzwerktechnologie: RS485 Modbus Temperatureinsatzbereich: 0..50 °C, Genauigkeit Temperatur: ±1 K (typ. bei 21 °C) Eingang: 1x Eingang für NTC10k oder potentialfreien Kontakt, 2x Eingang für potentialfreien Kontakt Spannungsversorgung: 24 V = (±10%) SELV Anzeige: LCD 60x44 mm, 240x160 px, Hintergrundbeleuchtung kaltweiss Gehäuse: PC, Blende Glas, Farbe: schwarz, Schutzart: IP30 Montage: in Standard UP-Dose (Ø=60 mm, Tiefe min. 45 mm)
A276: 11871 | B276: JOY HC AO2DO Temp_rH KNX weiss | C276: Raumregler Temperatur, relative Feuchte | D276: JOY HC | E276: Raumanwendung | F276: Raumregler | G276: 831512 | H276: 401.85 | I276: =IF(R276="UP",VLOOKUP($I$1,Änderungen!$F$1:$G$4,2,FALSE),IF(OR(ISERROR(FIND("NOVOS",B276)),ISERROR(FIND("Design ",B276))),IF(OR(ISERROR(FIND("thanos EVO",B276)),ISERROR(FIND("Design ",B276))),0,96.55),19.35)) -> 0 | K276: R1 | L276: =IF(K276<>"",IFERROR(VLOOKUP(K276,Rabattwerte_eintragen!$A$3:$C$24,3,FALSE),0),0) -> 0 | M276: =IF(H276<>"",H276*(1-L276)+I276*(1-VLOOKUP("A1",Rabattwerte_eintragen!$A$3:$C$26,3,FALSE)),"") -> 401.85 | O276: =IF(Q276<>"",HYPERLINK(Q276, "Artikel online anzeigen"),"") -> Artikel online anzeigen | Q276: https://www.thermokon.de/direct/de-ch/products/joy-hc-ao2do-temp-rh-knx-weiss | T276: 90251900 | U276: Einsatzzweck: Raumklimasteuerung, Messwerterfassung Bedienfunktionen: Sollwertverstellung Temperatur, Standby/Präsenzmeldung Bedienelemente: 3 kapazitive Tasten Ausgang Spannung: 0..10 V, Ansteuerung 6-Wege-Ventil, Ausgang Schaltkontakt: 2x Schliesserkontakt, 1x Heizen, 1x Kühlen, Last max. 500 mA (240 V, Triac) Netzwerktechnologie: KNX (TP1) Temperatureinsatzbereich: 0..50 °C, Genauigkeit Temperatur: ±1 K (typ. bei 21 °C) Messbereich Feuchte: 0..100% rH ohne Betauung, Genauigkeit Feuchte: ±2% zwischen 10..90% rH (typ. bei 21 °C) Eingang: 1x Eingang für NTC10k oder potentialfreien Kontakt, 1x Eingang für potentialbehafteten Kontakt (230 V ~) Spannungsversorgung: 85..260 V ~ Anzeige: LCD 60x44 mm, 240x160 px, Hintergrundbeleuchtung kaltweiss Gehäuse: PC, Blende Glas, Farbe: reinweiss, Schutzart: IP30 Montage: in Standard UP-Dose (Ø=60 mm, Tiefe min. 45 mm) Hinweise: KNX Zertifizierung: ausstehend
A277: 11872 | B277: JOY HC AO2DO Temp_rH KNX schwarz | C277: Raumregler Temperatur, relative Feuchte | D277: JOY HC | E277: Raumanwendung | F277: Raumregler | G277: 831574 | H277: 421.15 | I277: =IF(R277="UP",VLOOKUP($I$1,Änderungen!$F$1:$G$4,2,FALSE),IF(OR(ISERROR(FIND("NOVOS",B277)),ISERROR(FIND("Design ",B277))),IF(OR(ISERROR(FIND("thanos EVO",B277)),ISERROR(FIND("Design ",B277))),0,96.55),19.35)) -> 0 | K277: R1 | L277: =IF(K277<>"",IFERROR(VLOOKUP(K277,Rabattwerte_eintragen!$A$3:$C$24,3,FALSE),0),0) -> 0 | M277: =IF(H277<>"",H277*(1-L277)+I277*(1-VLOOKUP("A1",Rabattwerte_eintragen!$A$3:$C$26,3,FALSE)),"") -> 421.15 | O277: =IF(Q277<>"",HYPERLINK(Q277, "Artikel online anzeigen"),"") -> Artikel online anzeigen | Q277: https://www.thermokon.de/direct/de-ch/products/joy-hc-ao2do-temp-rh-knx-schwarz | T277: 90251900 | U277: Einsatzzweck: Raumklimasteuerung, Messwerterfassung Bedienfunktionen: Sollwertverstellung Temperatur, Standby/Präsenzmeldung Bedienelemente: 3 kapazitive Tasten Ausgang Spannung: 0..10 V, Ansteuerung 6-Wege-Ventil, Ausgang Schaltkontakt: 2x Schliesserkontakt, 1x Heizen, 1x Kühlen, Last max. 500 mA (240 V, Triac) Netzwerktechnologie: KNX (TP1) Temperatureinsatzbereich: 0..50 °C, Genauigkeit Temperatur: ±1 K (typ. bei 21 °C) Messbereich Feuchte: 0..100% rH ohne Betauung, Genauigkeit Feuchte: ±2% zwischen 10..90% rH (typ. bei 21 °C) Eingang: 1x Eingang für NTC10k oder potentialfreien Kontakt, 1x Eingang für potentialbehafteten Kontakt (230 V ~) Spannungsversorgung: 85..260 V ~ Anzeige: LCD 60x44 mm, 240x160 px, Hintergrundbeleuchtung kaltweiss Gehäuse: PC, Blende Glas, Farbe: schwarz, Schutzart: IP30 Montage: in Standard UP-Dose (Ø=60 mm, Tiefe min. 45 mm) Hinweise: KNX Zertifizierung: ausstehend
A278: 11861 | B278: JOY HC AO2DO CO2 Temp_rH KNX weiss | C278: Raumregler Temperatur, relative Feuchte, CO2 | D278: JOY HC | E278: Raumanwendung | F278: Raumregler | G278: 831635 | H278: 523.45 | I278: =IF(R278="UP",VLOOKUP($I$1,Änderungen!$F$1:$G$4,2,FALSE),IF(OR(ISERROR(FIND("NOVOS",B278)),ISERROR(FIND("Design ",B278))),IF(OR(ISERROR(FIND("thanos EVO",B278)),ISERROR(FIND("Design ",B278))),0,96.55),19.35)) -> 0 | K278: R1 | L278: =IF(K278<>"",IFERROR(VLOOKUP(K278,Rabattwerte_eintragen!$A$3:$C$24,3,FALSE),0),0) -> 0 | M278: =IF(H278<>"",H278*(1-L278)+I278*(1-VLOOKUP("A1",Rabattwerte_eintragen!$A$3:$C$26,3,FALSE)),"") -> 523.45 | O278: =IF(Q278<>"",HYPERLINK(Q278, "Artikel online anzeigen"),"") -> Artikel online anzeigen | Q278: https://www.thermokon.de/direct/de-ch/products/joy-hc-ao2do-co2-temp-rh-knx-weiss | T278: 90251900 | U278: Einsatzzweck: Raumklimasteuerung, Messwerterfassung Bedienfunktionen: Sollwertverstellung Temperatur, Standby/Präsenzmeldung Bedienelemente: 3 kapazitive Tasten Ausgang Spannung: 0..10 V, Ansteuerung 6-Wege-Ventil, Ausgang Schaltkontakt: 2x Schliesserkontakt, 1x Heizen, 1x Kühlen, Last max. 500 mA (240 V, Triac) Netzwerktechnologie: KNX (TP1) Temperatureinsatzbereich: 0..50 °C, Genauigkeit Temperatur: ±1 K (typ. bei 21 °C) Messbereich Feuchte: 0..100% rH ohne Betauung, Genauigkeit Feuchte: ±2% zwischen 10..90% rH (typ. bei 21 °C) Messbereich CO2: 0..2000 ppm, Genauigkeit CO2: ±50 ppm +5% des Messwerts (typ. bei 21 °C, 50% rH, 1015 hPa) Eingang: 1x Eingang für NTC10k oder potentialfreien Kontakt, 1x Eingang für potentialbehafteten Kontakt (230 V ~) Spannungsversorgung: 85..260 V ~ Anzeige: LCD 60x44 mm, 240x160 px, Hintergrundbeleuchtung kaltweiss Gehäuse: PC, Blende Glas, Farbe: reinweiss, Schutzart: IP30 Montage: in Standard UP-Dose (Ø=60 mm, Tiefe min. 45 mm) Hinweise: KNX Zertifizierung: ausstehend
A279: 11862 | B279: JOY HC AO2DO CO2 Temp_rH KNX schwarz | C279: Raumregler Temperatur, relative Feuchte, CO2 | D279: JOY HC | E279: Raumanwendung | F279: Raumregler | G279: 831680 | H279: 542.75 | I279: =IF(R279="UP",VLOOKUP($I$1,Änderungen!$F$1:$G$4,2,FALSE),IF(OR(ISERROR(FIND("NOVOS",B279)),ISERROR(FIND("Design ",B279))),IF(OR(ISERROR(FIND("thanos EVO",B279)),ISERROR(FIND("Design ",B279))),0,96.55),19.35)) -> 0 | K279: R1 | L279: =IF(K279<>"",IFERROR(VLOOKUP(K279,Rabattwerte_eintragen!$A$3:$C$24,3,FALSE),0),0) -> 0 | M279: =IF(H279<>"",H279*(1-L279)+I279*(1-VLOOKUP("A1",Rabattwerte_eintragen!$A$3:$C$26,3,FALSE)),"") -> 542.75 | O279: =IF(Q279<>"",HYPERLINK(Q279, "Artikel online anzeigen"),"") -> Artikel online anzeigen | Q279: https://www.thermokon.de/direct/de-ch/products/joy-hc-ao2do-co2-temp-rh-knx-schwarz | T279: 90251900 | U279: Einsatzzweck: Raumklimasteuerung, Messwerterfassung Bedienfunktionen: Sollwertverstellung Temperatur, Standby/Präsenzmeldung Bedienelemente: 3 kapazitive Tasten Ausgang Spannung: 0..10 V, Ansteuerung 6-Wege-Ventil, Ausgang Schaltkontakt: 2x Schliesserkontakt, 1x Heizen, 1x Kühlen, Last max. 500 mA (240 V, Triac) Netzwerktechnologie: KNX (TP1) Temperatureinsatzbereich: 0..50 °C, Genauigkeit Temperatur: ±1 K (typ. bei 21 °C) Messbereich Feuchte: 0..100% rH ohne Betauung, Genauigkeit Feuchte: ±2% zwischen 10..90% rH (typ. bei 21 °C) Messbereich CO2: 0..2000 ppm, Genauigkeit CO2: ±50 ppm +5% des Messwerts (typ. bei 21 °C, 50% rH, 1015 hPa) Eingang: 1x Eingang für NTC10k oder potentialfreien Kontakt, 1x Eingang für potentialbehafteten Kontakt (230 V ~) Spannungsversorgung: 85..260 V ~ Anzeige: LCD 60x44 mm, 240x160 px, Hintergrundbeleuchtung kaltweiss Gehäuse: PC, Blende Glas, Farbe: schwarz, Schutzart: IP30 Montage: in Standard UP-Dose (Ø=60 mm, Tiefe min. 45 mm) Hinweise: KNX Zertifizierung: ausstehend
A280: 13732 | B280: JOY HC 24V AO2DO Temp_rH KNX weiss | C280: Raumregler Temperatur, relative Feuchte | D280: JOY HC | E280: Raumanwendung | F280: Raumregler | G280: 851023 | H280: 401.85 | I280: =IF(R280="UP",VLOOKUP($I$1,Änderungen!$F$1:$G$4,2,FALSE),IF(OR(ISERROR(FIND("NOVOS",B280)),ISERROR(FIND("Design ",B280))),IF(OR(ISERROR(FIND("thanos EVO",B280)),ISERROR(FIND("Design ",B280))),0,96.55),19.35)) -> 0 | K280: R1 | L280: =IF(K280<>"",IFERROR(VLOOKUP(K280,Rabattwerte_eintragen!$A$3:$C$24,3,FALSE),0),0) -> 0 | M280: =IF(H280<>"",H280*(1-L280)+I280*(1-VLOOKUP("A1",Rabattwerte_eintragen!$A$3:$C$26,3,FALSE)),"") -> 401.85 | O280: =IF(Q280<>"",HYPERLINK(Q280, "Artikel online anzeigen"),"") -> Artikel online anzeigen | Q280: https://www.thermokon.de/direct/de-ch/products/joy-hc-24v-ao2do-temp-rh-knx-weiss | T280: 90251900 | U280: Einsatzzweck: Raumklimasteuerung, Messwerterfassung Bedienfunktionen: Sollwertverstellung Temperatur, Standby/Präsenzmeldung Bedienelemente: 3 kapazitive Tasten Ausgang Spannung: 0..10 V, Ansteuerung 6-Wege-Ventil, Ausgang Schaltkontakt: 2x Schliesserkontakt, 1x Heizen, 1x Kühlen, Last max. 3 A Netzwerktechnologie: KNX (TP1) Temperatureinsatzbereich: 0..50 °C, Genauigkeit Temperatur: ±1 K (typ. bei 21 °C) Messbereich Feuchte: 0..100% rH ohne Betauung, Genauigkeit Feuchte: ±2% zwischen 10..90% rH (typ. bei 21 °C) Eingang: 1x Eingang für NTC10k oder potentialfreien Kontakt, 1x Eingang für potentialbehafteten Kontakt Spannungsversorgung: 24 V = (±10%) SELV, 24 V ~ (±10%) SELV Anzeige: LCD 60x44 mm, 240x160 px, Hintergrundbeleuchtung kaltweiss Gehäuse: PC, Blende Glas, Farbe: reinweiss, Schutzart: IP30 Montage: in Standard UP-Dose (Ø=60 mm, Tiefe min. 45 mm) Hinweise: KNX Zertifizierung: ausstehend
...

Sheet Rabattwerte_eintragen
C1: Hier können die eigenen Rabatte zur Berechnung des Nettopreises eingetragen werden:
B2: Rabatt für alle Gruppen von | C2: 0
A3: Rabattgruppen | B3: Rabattgruppe | C3: Rabatt-Einzeleinstellung für Nettopreise
A4: Q1 | B4: Luftqualität PG1 | C4: =$C$2 -> 0
A5: Q2 | B5: Luftqualität PG2 | C5: =$C$2 -> 0
A6: A1 | B6: Zubehör PG1 | C6: =$C$2 -> 0
A7: A2 | B7: Zubehör PG2 | C7: =$C$2 -> 0
A8: E1 | B8: EasySens PG1 | C8: =$C$2 -> 0
A9: E2 | B9: EasySens PG2 | C9: =$C$2 -> 0
A10: H1 | B10: Feuchte PG1 | C10: =$C$2 -> 0
A11: H2 | B11: Feuchte PG2 | C11: =$C$2 -> 0
A12: L1 | B12: Hell PG1 | C12: =$C$2 -> 0
A13: L2 | B13: Hell PG2 | C13: =$C$2 -> 0
A14: P1 | B14: Druck PG1 | C14: =$C$2 -> 0
A15: P2 | B15: Druck PG2 | C15: =$C$2 -> 0
... A24: W2 | B24: LoRaWAN PG2 | C24: =$C$2 -> 0

Sheet Änderungen
A1: Originalversion | B1: 46094 | E1: Rahmenpreise | F1: 1 | G1: 0 | I1: UP-Geräte | J1: WRF07 x | K1: nur ohne EDIZIOdue
F2: 2 | G2: 8.9 | J2: WRF07 INC | K2: nur ohne EDIZIOdue
F3: 3 | G3: 23.45 | J3: WRF06 LCD | K3: nur ohne EDIZIOdue
F4: 4 | G4: 74.4 | J4: SR06 LCD | K4: nur ohne EDIZIOdue und ohne Jung LS 990
J5: SR07 x | K5: nur ohne EDIZIOdue und ohne Jung LS 990
J6: WRF07 RC x | K6: nur ohne EDIZIOdue
J7: WRF06 LCD RC | K7: nur ohne EDIZIOdue und ohne Jung LS 990
J8: WRF06 aktiv | K8: WRF06 passiv und aktiv TRV3 nur mit Rahmen, Temp_rH, CO2, VOC nur ohne EDIZIOdue und ohne Jung LS 990
J9: SR07 | K9: nur ohne EDIZIOdue und ohne Jung LS 990
J10: Funkschalter 55x55
J11: Funkschalter EDIZIOdue
J12: Funkschalter BJ 63x63
J13: Funkschalter Jung LS 990
K14: (zugehöriger Rahmen siehe nächste Position)
K15: WRF06 x nur mit Rahmen
K16: WRF06I nur mit Rahmen
J18: 5.2
